Workbook

Sheet Aktíva celkom
D2: 40908 | E2: 41274 | F2: 41639 | G2: 42004 | H2: 42369 | I2: 42735
C4: AKTÍVA CELKOM | D4: =D5+D34+D64 -> 28867995 | E4: =E5+E34+E64 -> 28752486 | F4: =F5+F34+F64 -> 26909147 | G4: =G5+G34+G64 -> 27123735 | H4: =H5+H34+H64 -> 27331426 | I4: =I5+I34+I64 -> 27119079
C5: Neobežný majetok | D5: =D6+D15+D25 -> 26046360 | E5: =E6+E15+E25 -> 26022456 | F5: =F6+F15+F25 -> 24067977 | G5: =G6+G15+G25 -> 24206371 | H5: =H6+H15+H25 -> 24407289 | I5: =I6+I15+I25 -> 24303223
C6: Dlhodobý nehmotný majetok | D6: =SUM(D7:D14) -> 6406 | E6: =SUM(E7:E14) -> 3946 | F6: =SUM(F7:F14) -> 2002 | G6: =SUM(G7:G14) -> 1050 | H6: =SUM(H7:H14) -> 390 | I6: =SUM(I7:I14) -> 0
C7: Zriaďovacie náklady | D7: 0 | E7: 0 | F7: 0 | G7: 0 | H7: 0 | I7: 0
C8: Aktivované náklady na vývoj | D8: 0 | E8: 0 | F8: 0 | G8: 0 | H8: 0 | I8: 0
C9: Softvér | D9: 6406 | E9: 3946 | F9: 2002 | G9: 1050 | H9: 390 | I9: 0
C10: Oceniteľné práva | D10: 0 | E10: 0 | F10: 0 | G10: 0 | H10: 0 | I10: 0
C11: Goodwill | D11: 0 | E11: 0 | F11: 0 | G11: 0 | H11: 0 | I11: 0
C12: Ostatný dlhodobý nehmotný majetok | D12: 0 | E12: 0 | F12: 0 | G12: 0 | H12: 0 | I12: 0
C13: Obstarávaný dl. nehmotný majetok | D13: 0 | E13: 0 | F13: 0 | G13: 0 | H13: 0 | I13: 0
C14: Poskytnuté preddavky na dl. nehm. maj. | D14: 0 | E14: 0 | F14: 0 | G14: 0 | H14: 0 | I14: 0
C15: Dlhodobý hmotný majetok | D15: =SUM(D16:D24) -> 26039954 | E15: =SUM(E16:E24) -> 26018510 | F15: =SUM(F16:F24) -> 24065975 | G15: =SUM(G16:G24) -> 24205321 | H15: =SUM(H16:H24) -> 24406899 | I15: =SUM(I16:I24) -> 24303223
C16: Pozemky | D16: 17573343 | E16: 17573343 | F16: 17573343 | G16: 17573343 | H16: 17720357 | I16: 17713214
C17: Stavby | D17: 7195983 | E17: 7009344 | F17: 5131517 | G17: 4899232 | H17: 4665588 | I17: 4897104
C18: Samostatné hnuteľné veci | D18: 1101807 | E18: 1197607 | F18: 1142187 | G18: 1450271 | H18: 1371453 | I18: 1518419
C19: Pestovateľské celky trvalých porastov | D19: 0 | E19: 0 | F19: 0 | G19: 0 | H19: 0 | I19: 0
C20: Základné stádo a ťažné zvieratá | D20: 86687 | E20: 121763 | F20: 98707 | G20: 162253 | H20: 157781 | I20: 160629
C21: Ostatný dlhodobý hmotný majetok | D21: 0 | E21: 0 | F21: 0 | G21: 0 | H21: 0 | I21: 0
C22: Obstarávaný dlhodobý hmotný majetok | D22: 82134 | E22: 116453 | F22: 120221 | G22: 120222 | H22: 438788 | I22: 13857
C23: Poskytnuté preddavky na dl. hm. majetok | D23: 0 | E23: 0 | F23: 0 | G23: 0 | H23: 52932 | I23: 0
C24: Opravná položka k nadobudnutému maj. | D24: 0 | E24: 0 | F24: 0 | G24: 0 | H24: 0 | I24: 0
C25: Dlhodobý finančný majetok | D25: =SUM(D26:D33) -> 0 | E25: =SUM(E26:E33) -> 0 | F25: =SUM(F26:F33) -> 0 | G25: =SUM(G26:G33) -> 0 | H25: =SUM(H26:H33) -> 0 | I25: =SUM(I26:I33) -> 0
C26: Podielové CP a podiely v dcérskej jedn. | D26: 0 | E26: 0 | F26: 0 | G26: 0 | H26: 0 | I26: 0
C27: Podielové CP a podiely - podst. vplyv | D27: 0 | E27: 0 | F27: 0 | G27: 0 | H27: 0 | I27: 0
C28: Ostatné dl. cenné papiere a podiely | D28: 0 | E28: 0 | F28: 0 | G28: 0 | H28: 0 | I28: 0
C29: Pôžičky jednotke v konsolid. celku | D29: 0 | E29: 0 | F29: 0 | G29: 0 | H29: 0 | I29: 0
C30: Ostatný dlhodobý finančný majetok | D30: 0 | E30: 0 | F30: 0 | G30: 0 | H30: 0 | I30: 0
C31: Pôžičky s dobou splatnosti najviac 1 rok | D31: 0 | E31: 0 | F31: 0 | G31: 0 | H31: 0 | I31: 0
C32: Obstarávaný dlhodobý finančný majetok | D32: 0 | E32: 0 | F32: 0 | G32: 0 | H32: 0 | I32: 0
C33: Poskytnuté preddavky na dl. fin. majetok | D33: 0 | E33: 0 | F33: 0 | G33: 0 | H33: 0 | I33: 0
C34: Obežný majetok | D34: =D35+D43+D50+D58 -> 2819915 | E34: =E35+E43+E50+E58 -> 2728624 | F34: =F35+F43+F50+F58 -> 2837638 | G34: =G35+G43+G50+G58 -> 2914498 | H34: =H35+H43+H50+H58 -> 2920507 | I34: =I35+I43+I50+I58 -> 2812256
C35: Zásoby | D35: =SUM(D36:D42) -> 768834 | E35: =SUM(E36:E42) -> 768527 | F35: =SUM(F36:F42) -> 911527 | G35: =SUM(G36:G42) -> 892670 | H35: =SUM(H36:H42) -> 853995 | I35: =SUM(I36:I42) -> 884044
C36: Materiál | D36: 135426 | E36: 128004 | F36: 97699 | G36: 119243 | H36: 139873 | I36: 245250
C37: Nedokončená výroba a polotovary | D37: 60786 | E37: 65064 | F37: 80328 | G37: 79707 | H37: 69960 | I37: 79460
C38: Zákazková výroba - doba ukon. > 1 rok | D38: 0 | E38: 0 | F38: 0 | G38: 0 | H38: 0 | I38: 0
C39: Výrobky | D39: 298098 | E39: 322943 | F39: 275359 | G39: 315690 | H39: 426283 | I39: 366441
C40: Zvieratá | D40: 274524 | E40: 252516 | F40: 458141 | G40: 378030 | H40: 217879 | I40: 192893
C41: Tovar | D41: 0 | E41: 0 | F41: 0 | G41: 0 | H41: 0 | I41: 0
C42: Poskytnuté preddavky na zásoby | D42: 0 | E42: 0 | F42: 0 | G42: 0 | H42: 0 | I42: 0
C43: Dlhodobé pohľadávky | D43: =SUM(D44:D49) -> 0 | E43: =SUM(E44:E49) -> 0 | F43: =SUM(F44:F49) -> 0 | G43: =SUM(G44:G49) -> 55967 | H43: =SUM(H44:H49) -> 0 | I43: =SUM(I44:I49) -> 0
C44: Dl. pohľadávky z obchodného styku | D44: 0 | E44: 0 | F44: 0 | G44: 55967 | H44: 0 | I44: 0
C45: Dl. pohľadávky voči dcérskej a mat. jed. | D45: 0 | E45: 0 | F45: 0 | G45: 0 | H45: 0 | I45: 0
C46: Ostatné dl. pohľadávky v rámci kons. celku | D46: 0 | E46: 0 | F46: 0 | G46: 0 | H46: 0 | I46: 0
C47: Dl. pohľad. voči spoločníkom, čl. a združ. | D47: 0 | E47: 0 | F47: 0 | G47: 0 | H47: 0 | I47: 0
C48: Iné dlhodobé pohľadávky | D48: 0 | E48: 0 | F48: 0 | G48: 0 | H48: 0 | I48: 0
C49: Odložená daňová pohľadávka | D49: 0 | E49: 0 | F49: 0 | G49: 0 | H49: 0 | I49: 0
C50: Krátkodobé pohľadávky | D50: =SUM(D51:D57) -> 1404872 | E50: =SUM(E51:E57) -> 933685 | F50: =SUM(F51:F57) -> 1396939 | G50: =SUM(G51:G57) -> 885733 | H50: =SUM(H51:H57) -> 757942 | I50: =SUM(I51:I57) -> 1024488
C51: Pohľadávky z obchodného styku | D51: 748709 | E51: 885717 | F51: 673355 | G51: 590106 | H51: 660314 | I51: 985250
C52: Pohľadávky voči dcérskej a mat. jed. | D52: 0 | E52: 0 | F52: 0 | G52: 0 | H52: 0 | I52: 0
C53: Ostatné pohľadávky v rámci kons. celku | D53: 0 | E53: 0 | F53: 0 | G53: 0 | H53: 0 | I53: 0
C54: Pohľad. voči spoločníkom, členom a zdr. | D54: 0 | E54: 0 | F54: 0 | G54: 0 | H54: 0 | I54: 0
C55: Sociálne poistenie | D55: 0 | E55: 0 | F55: 0 | G55: 252031 | H55: 0 | I55: 0
C56: Daňové pohľadávky a dotácie | D56: 656163 | E56: 47968 | F56: 723584 | G56: 43596 | H56: 97556 | I56: 39238
C57: Iné pohľadávky | D57: 0 | E57: 0 | F57: 0 | G57: 0 | H57: 72 | I57: 0
C58: Finančné účty | D58: =SUM(D59:D63) -> 646209 | E58: =SUM(E59:E63) -> 1026412 | F58: =SUM(F59:F63) -> 529172 | G58: =SUM(G59:G63) -> 1080128 | H58: =SUM(H59:H63) -> 1308570 | I58: =SUM(I59:I63) -> 903724
C59: Peniaze | D59: 757 | E59: 179 | F59: 99 | G59: 429 | H59: 790 | I59: 650
C60: Účty v bankách | D60: 645452 | E60: 1026233 | F60: 529073 | G60: 1079699 | H60: 1307780 | I60: 903074
C61: Účty v bank. s dobou viazanosti > 1 rok | D61: 0 | E61: 0 | F61: 0 | G61: 0 | H61: 0 | I61: 0
C62: Krátkodobý finančný majetok | D62: 0 | E62: 0 | F62: 0 | G62: 0 | H62: 0 | I62: 0
C63: Obstarávaný krátk. finančný majetok | E63: 0 | F63: 0 | G63: 0 | H63: 0 | I63: 0
C64: Časové rozlíšenie | D64: =SUM(D65:D68) -> 1720 | E64: =SUM(E65:E68) -> 1406 | F64: =SUM(F65:F68) -> 3532 | G64: =SUM(G65:G68) -> 2866 | H64: =SUM(H65:H68) -> 3630 | I64: =SUM(I65:I68) -> 3600
C65: Náklady budúcich období dlhodobé | D65: 0 | E65: 0 | F65: 0 | G65: 0 | H65: 0 | I65: 0
C66: Náklady budúcich období krátkodobé | D66: 1720 | E66: 1406 | F66: 3532 | G66: 2866 | H66: 3630 | I66: 3600
C67: Príjmy budúcich období dlhodobé | D67: 0 | E67: 0 | F67: 0 | G67: 0 | H67: 0 | I67: 0
C68: Príjmy budúcich období krátkodobé | D68: 0 | E68: 0 | F68: 0 | G68: 0 | H68: 0 | I68: 0

Sheet Pasíva celkom
D2: 40908 | E2: 41274 | F2: 41639 | G2: 42004 | H2: 42369 | I2: 42735
C4: PASÍVA CELKOM | D4: =D5+D26+D57 -> 28867995 | E4: =E5+E26+E57 -> 28752486 | F4: =F5+F26+F57 -> 26909147 | G4: =G5+G26+G57 -> 27123735 | H4: =H5+H26+H57 -> 27331426 | I4: =I5+I26+I57 -> 27119079
C5: Vlastné imanie | D5: =D6+D11+D18+D22+D25 -> 27863003 | E5: =E6+E11+E18+E22+E25 -> 27892777 | F5: =F6+F11+F18+F22+F25 -> 26302710 | G5: =G6+G11+G18+G22+G25 -> 26567284 | H5: =H6+H11+H18+H22+H25 -> 26388376 | I5: =I6+I11+I18+I22+I25 -> 26425509
C6: Základné imanie | D6: =SUM(D7:D10) -> 27694490 | E6: =SUM(E7:E10) -> 27694490 | F6: =SUM(F7:F10) -> 27618580 | G6: =SUM(G7:G10) -> 27618580 | H6: =SUM(H7:H10) -> 27624840 | I6: =SUM(I7:I10) -> 27624840
C7: Základné imanie | D7: 26482947 | E7: 27694490 | F7: 27618580 | G7: 27618580 | H7: 27618580 | I7: 27624840
C8: Vlastné akcie a vlastné obch. podiely | D8: 0 | E8: 0 | F8: 0 | G8: 0 | H8: 0 | I8: 0
C9: Zmena základného imania | D9: 1211543 | E9: 0 | F9: 0 | G9: 0 | H9: 6260 | I9: 0
C10: Pohľadávky za upísané vlastné imanie | D10: 0 | E10: 0 | F10: 0 | G10: 0 | H10: 0 | I10: 0
C11: Kapitálové fondy | D11: =SUM(D12:D17) -> 344784 | E11: =SUM(E12:E17) -> 344784 | F11: =SUM(F12:F17) -> 344784 | G11: =SUM(G12:G17) -> 344784 | H11: =SUM(H12:H17) -> 344784 | I11: =SUM(I12:I17) -> 344784
C12: Emisné ážio | D12: 0 | E12: 0 | F12: 0 | G12: 0 | H12: 0 | I12: 0
C13: Ostatné kapitálové fondy | D13: 344784 | E13: 344784 | F13: 344784 | G13: 344784 | H13: 344784 | I13: 344784
C14: Zákonný rezerv. fond z kapit. vkladov | D14: 0 | E14: 0 | F14: 0 | G14: 0 | H14: 0 | I14: 0
C15: Oceň. rozdiely z precenenia maj. a záv. | D15: 0 | E15: 0 | F15: 0 | G15: 0 | H15: 0 | I15: 0
C16: Oceň. rozdiely z kapitálových účastín | D16: 0 | E16: 0 | F16: 0 | G16: 0 | H16: 0 | I16: 0
C17: Oceň. rozdiely pri zlúčení, splyn. a rozd. | D17: 0 | E17: 0 | F17: 0 | G17: 0 | H17: 0 | I17: 0
C18: Fondy zo zisku | D18: =SUM(D19:D21) -> 68986 | E18: =SUM(E19:E21) -> 142391 | F18: =SUM(F19:F21) -> 172164 | G18: =SUM(G19:G21) -> 174689 | H18: =SUM(H19:H21) -> 190316 | I18: =SUM(I19:I21) -> 194659
C19: Zákonný rezervný fond | D19: 68986 | E19: 142391 | F19: 172164 | G19: 174689 | H19: 190316 | I19: 194659
C20: Nedeliteľný fond | D20: 0 | E20: 0 | F20: 0 | G20: 0 | H20: 0 | I20: 0
C21: Štatutárne fondy a ostatné fondy | D21: 0 | E21: 0 | F21: 0 | G21: 0 | H21: 0 | I21: 0
C22: Výsledok hospodárenia min. rokov | D22: =SUM(D23:D24) -> -318661 | E22: =SUM(E23:E24) -> -318661 | F22: =SUM(F23:F24) -> -1883312 | G22: =SUM(G23:G24) -> -1883312 | H22: =SUM(H23:H24) -> -1858428 | I22: =SUM(I23:I24) -> -1775909
C23: Nerozdelený zisk minulých rokov | D23: 0 | E23: 0 | F23: 0 | G23: 0 | H23: 0 | I23: 82519
C24: Neuhradená strata minulých rokov | D24: -318661 | E24: -318661 | F24: -1883312 | G24: -1883312 | H24: -1858428 | I24: -1858428
C25: Výsledok hospodárenia po zdanení | D25: =VZaS!D65 -> 73404 | E25: =VZaS!E65 -> 29773 | F25: =VZaS!F65 -> 50494 | G25: =VZaS!G65 -> 312543 | H25: =VZaS!H65 -> 86864 | I25: =VZaS!I65 -> 37135
C26: Záväzky | D26: =D27+D32+D43+D53+D54 -> 1004992 | E26: =E27+E32+E43+E53+E54 -> 859709 | F26: =F27+F32+F43+F53+F54 -> 606437 | G26: =G27+G32+G43+G53+G54 -> 556451 | H26: =H27+H32+H43+H53+H54 -> 943050 | I26: =I27+I32+I43+I53+I54 -> 693570
C27: Rezervy | D27: =SUM(D28:D31) -> 335414 | E27: =SUM(E28:E31) -> 155080 | F27: =SUM(F28:F31) -> 78681 | G27: =SUM(G28:G31) -> 106233 | H27: =SUM(H28:H31) -> 355730 | I27: =SUM(I28:I31) -> 262340
C28: Rezervy zákonné dlhodobé | D28: 0 | E28: 0 | F28: 0 | G28: 0 | H28: 0 | I28: 0
C29: Rezervy zákonné krátkodobé | D29: 197698 | E29: 150323 | F29: 73787 | G29: 101346 | H29: 350976 | I29: 257540
C30: Ostatné dlhodobé rezervy | D30: 40000 | E30: 0 | F30: 0 | G30: 0 | H30: 0 | I30: 0
C31: Ostatné krátkodobé rezervy | D31: 97716 | E31: 4757 | F31: 4894 | G31: 4887 | H31: 4754 | I31: 4800
C32: Dlhodobé záväzky | D32: =SUM(D33:D42) -> 243614 | E32: =SUM(E33:E42) -> 318877 | F32: =SUM(F33:F42) -> 292350 | G32: =SUM(G33:G42) -> 14805 | H32: =SUM(H33:H42) -> 47453 | I32: =SUM(I33:I42) -> 51179
C33: Dlhodobé záväzky z obchod. styku | D33: 0 | E33: 0 | F33: 0 | G33: 0 | H33: 0 | I33: 0
C34: Dlhodobé nevyfakturované dodávky | D34: 0 | E34: 0 | F34: 0 | G34: 0 | H34: 0 | I34: 0
C35: Dl. záväzky voči dcérskej a mat. jed. | D35: 0 | E35: 0 | F35: 0 | G35: 0 | H35: 0 | I35: 0
C36: Ostatné dl. záväzky v rámci kons. celku | D36: 0 | E36: 0 | F36: 0 | G36: 0 | H36: 0 | I36: 0
C37: Dlhodobé prijaté preddavky | D37: 0 | E37: 0 | F37: 0 | G37: 0 | H37: 0 | I37: 0
C38: Dlhodobé zmenky na úhradu | D38: 0 | E38: 0 | F38: 0 | G38: 0 | H38: 0 | I38: 0
C39: Vydané dlhopisy | D39: 0 | E39: 0 | F39: 0 | G39: 0 | H39: 0 | I39: 0
C40: Záväzky zo sociálneho fondu | D40: 9389 | E40: 7221 | F40: 4254 | G40: 2565 | H40: 21954 | I40: 21030
C41: Ostatné dlhodobé záväzky | D41: 0 | E41: 0 | F41: 0 | G41: 0 | H41: 0 | I41: 0
C42: Odložený daňový záväzok | D42: 234225 | E42: 311656 | F42: 288096 | G42: 12240 | H42: 25499 | I42: 30149
C43: Krátkodobé záväzky | D43: =SUM(D44:D52) -> 425964 | E43: =SUM(E44:E52) -> 385752 | F43: =SUM(F44:F52) -> 235406 | G43: =SUM(G44:G52) -> 435413 | H43: =SUM(H44:H52) -> 539867 | I43: =SUM(I44:I52) -> 380051
C44: Záväzky z obchodného styku | D44: 238263 | E44: 206472 | F44: 57509 | G44: 177006 | H44: 265333 | I44: 110141
C45: Nevyfakturované dodávky | D45: 0 | E45: 0 | F45: 0 | G45: 0 | H45: 0 | I45: 0
C46: Záväzky voči dcérskej a materskej jed. | D46: 0 | E46: 0 | F46: 0 | G46: 0 | H46: 0 | I46: 0
C47: Ostatné záväzky v rámci konsolid. celku | D47: 0 | E47: 0 | F47: 0 | G47: 0 | H47: 0 | I47: 0
C48: Záväzky voči spoločníkom a združeniu | D48: 0 | E48: 0 | F48: 0 | G48: 0 | H48: 0 | I48: 0
C49: Záväzky voči zamestnancom | D49: 72646 | E49: 71936 | F49: 81454 | G49: 85957 | H49: 95083 | I49: 94170
C50: Záväzky zo sociálneho poistenia | D50: 78569 | E50: 84780 | F50: 58342 | G50: 113614 | H50: 128044 | I50: 124750
C51: Daňové záväzky a dotácie | D51: 31167 | E51: 16786 | F51: 26365 | G51: 44705 | H51: 44807 | I51: 42360
C52: Ostatné záväzky | D52: 5319 | E52: 5778 | F52: 11736 | G52: 14131 | H52: 6600 | I52: 8630
C53: Krátkodobé finančné výpomoci | D53: 0 | E53: 0 | F53: 0 | G53: 0 | H53: 0 | I53: 0
C54: Bankové úvery | D54: =SUM(D55:D56) -> 0 | E54: =SUM(E55:E56) -> 0 | F54: =SUM(F55:F56) -> 0 | G54: =SUM(G55:G56) -> 0 | H54: =SUM(H55:H56) -> 0 | I54: =SUM(I55:I56) -> 0
C55: Bankové úvery dlhodobé | D55: 0 | E55: 0 | F55: 0 | G55: 0 | H55: 0 | I55: 0
C56: Bežné bankové úvery | D56: 0 | E56: 0 | F56: 0 | G56: 0 | H56: 0 | I56: 0
C57: Časové rozlíšenie | D57: =SUM(D58:D61) -> 0 | E57: =SUM(E58:E61) -> 0 | F57: =SUM(F58:F61) -> 0 | G57: =SUM(G58:G61) -> 0 | H57: =SUM(H58:H61) -> 0 | I57: =SUM(I58:I61) -> 0
C58: Výdavky budúcich období dlhodobé | D58: 0 | E58: 0 | F58: 0 | G58: 0 | H58: 0 | I58: 0
C59: Výdavky budúcich období krátkodobé | D59: 0 | E59: 0 | F59: 0 | G59: 0 | H59: 0 | I59: 0
C60: Výnosy budúcich období dlhodobé | D60: 0 | E60: 0 | F60: 0 | G60: 0 | H60: 0 | I60: 0
C61: Výnosy budúcich období krátkodobé | D61: 0 | E61: 0 | F61: 0 | G61: 0 | H61: 0 | I61: 0

Sheet VZaS
D2: 40908 | E2: 41274 | F2: 41639 | G2: 42004 | H2: 42369 | I2: 42735
D4: =D5+D9 -> 4336420 | E4: =E5+E9 -> 4396623 | F4: =F5+F9 -> 4507411 | G4: =G5+G9 -> 5171076 | H4: =H5+H9 -> 5523199 | I4: =I5+I9 -> 5296564
C5: Tržby z predaja tovaru | D5: 0 | E5: 0 | F5: 0 | G5: 0 | H5: 0 | I5: 0
C6: Náklady vynaložené na obstaranie tovaru | D6: 0 | E6: 0 | F6: 0 | G6: 0 | H6: 0 | I6: 0
C7: Obchodná marža | D7: =D5-D6 -> 0 | E7: =E5-E6 -> 0 | F7: =F5-F6 -> 0 | G7: =G5-G6 -> 0 | H7: 0 | I7: =I5-I6 -> 0
C8: Výroba | D8: =SUM(D9:D11) -> 4833836 | E8: =SUM(E9:E11) -> 4914918 | F8: =SUM(F9:F11) -> 5193892 | G8: =SUM(G9:G11) -> 5734120 | H8: =SUM(H9:H11) -> 6033253 | I8: =SUM(I9:I11) -> 5737886
C9: Tržby z predaja výrobkov a služieb | D9: 4336420 | E9: 4396623 | F9: 4507411 | G9: 5171076 | H9: 5523199 | I9: 5296564
C10: Zmeny stavu vnútroorganiz. zásob | D10: 85302 | E10: 6553 | F10: 173305 | G10: -40401 | H10: -59305 | I10: -75189
C11: Aktivácia | D11: 412114 | E11: 511742 | F11: 513176 | G11: 603445 | H11: 569359 | I11: 516511
C12: Výrobná spotreba | D12: =SUM(D13:D14) -> 2660737 | E12: =SUM(E13:E14) -> 2687081 | F12: =SUM(F13:F14) -> 2791902 | G12: =SUM(G13:G14) -> 3016055 | H12: =SUM(H13:H14) -> 3101652 | I12: =SUM(I13:I14) -> 2789380
C13: Spotreba materiálu, energie a neskl.dod. | D13: 1557028 | E13: 1585575 | F13: 1775611 | G13: 1834108 | H13: 1722177 | I13: 1661100
C14: Služby | D14: 1103709 | E14: 1101506 | F14: 1016291 | G14: 1181947 | H14: 1379475 | I14: 1128280
C15: Pridaná hodnota | D15: =(D8-D12)+D7 -> 2173099 | E15: =(E8-E12)+E7 -> 2227837 | F15: =(F8-F12)+F7 -> 2401990 | G15: =(G8-G12)+G7 -> 2718065 | H15: =(H8-H12)+H7 -> 2931601 | I15: =(I8-I12)+I7 -> 2948506
C16: Osobné náklady | D16: =SUM(D17:D20) -> 2157147 | E16: =SUM(E17:E20) -> 2222398 | F16: =SUM(F17:F20) -> 2256676 | G16: =SUM(G17:G20) -> 2563835 | H16: =SUM(H17:H20) -> 2883356 | I16: =SUM(I17:I20) -> 2784398
C17: Mzdové náklady | D17: 1481387 | E17: 1529017 | F17: 1549919 | G17: 1771997 | H17: 2010910 | I17: 1940560
C18: Odmeny členom orgánov spol. a družstva | D18: 37235 | E18: 29452 | F18: 35852 | G18: 36194 | H18: 38224 | I18: 38200
C19: Náklady na sociálne poistenie | D19: 557913 | E19: 573065 | F19: 587825 | G19: 665834 | H19: 743805 | I19: 718888
C20: Sociálne náklady | D20: 80612 | E20: 90864 | F20: 83080 | G20: 89810 | H20: 90417 | I20: 86750
C21: Dane a poplatky | D21: 103251 | E21: 120612 | F21: 125252 | G21: 127017 | H21: 108416 | I21: 106540
C22: Odpisy a opr. pol. k hm./nehm.maj. | D22: 524315 | E22: 564370 | F22: 612905 | G22: 602718 | H22: 636833 | I22: 682340
C23: Tržby z predaja dl. majetku a materiálu | D23: 34289 | E23: 58433 | F23: 56446 | G23: 43207 | H23: 83244 | I23: 59036
C24: Zostatková cena dl. majetku a materiálu | D24: 21660 | E24: 32115 | F24: 26643 | G24: 29551 | H24: 60732 | I24: 45223
C25: Tvorba a zúčt. opr. položiek k pohľad. | D25: -836 | E25: 491 | F25: 149425 | G25: 192797 | H25: 138922 | I25: 0
C26: Ostatné výnosy z hospodár. činnosti | D26: 769344 | E26: 692401 | F26: 741417 | G26: 829795 | H26: 969731 | I26: 684924
C27: Ostatné náklady na hospodár. činnosť | D27: 126932 | E27: -69284 | F27: 730 | G27: 34208 | H27: 39909 | I27: 30800
C28: Prevod výnosov z hospodár. činnosti (-) | D28: 0 | E28: 0 | F28: 0 | G28: 0 | H28: 0 | I28: 0
C29: Prevod nákladov na hospodár. činnosť (+) | D29: 0 | E29: 0 | F29: 0 | G29: 0 | H29: 0 | I29: 0
C30: Výsledok z hospodárskej činnosti | D30: =D15-D16-D21-D22+D23-D24-D25+D26-D27+D28+D29 -> 44263 | E30: =E15-E16-E21-E22+E23-E24-E25+E26-E27+E28+E29 -> 107969 | F30: =F15-F16-F21-F22+F23-F24-F25+F26-F27+F28+F29 -> 28222 | G30: =G15-G16-G21-G22+G23-G24-G25+G26-G27+G28+G29 -> 40941 | H30: =H15-H16-H21-H22+H23-H24-H25+H26-H27+H28+H29 -> 116408 | I30: =I15-I16-I21-I22+I23-I24-I25+I26-I27+I28+I29 -> 43165
C31: Tržby z predaja CP a podielov | D31: 0 | E31: 0 | F31: 0 | G31: 0 | H31: 0 | I31: 0
C32: Predané cenné papiere a podiely | D32: 0 | E32: 0 | F32: 0 | G32: 0 | H32: 0 | I32: 0
C33: Výnosy z dlhodobého finančného majetku | D33: =SUM(D34:D36) -> 0 | E33: =SUM(E34:E36) -> 0 | F33: =SUM(F34:F36) -> 0 | G33: =SUM(G34:G36) -> 0 | H33: =SUM(H34:H36) -> 0 | I33: =SUM(I34:I36) -> 0
C34: Výnosy z CP a podielov - podst. vplyv | D34: 0 | E34: 0 | F34: 0 | G34: 0 | H34: 0 | I34: 0
C35: Výnosy z ostatných dl. CP a podielov | D35: 0 | E35: 0 | F35: 0 | G35: 0 | H35: 0 | I35: 0
C36: Výnosy z ostatného dl. finanč. majetku | D36: 0 | E36: 0 | F36: 0 | G36: 0 | H36: 0 | I36: 0
C37: Výnosy z krátkodobého finanč. Majetku | D37: 0 | E37: 0 | F37: 0 | G37: 0 | H37: 0 | I37: 0
C38: Náklady na krátkodobý finančný majetok | D38: 0 | E38: 0 | F38: 0 | G38: 0 | H38: 0 | I38: 0
C39: Výnosy z precenenia CP a z deriv. oper. | D39: 0 | E39: 0 | F39: 0 | G39: 0 | H39: 0 | I39: 0
C40: Nákady na precenenie CP a deriv. oper. | D40: 0 | E40: 0 | F40: 0 | G40: 0 | H40: 0 | I40: 0
C41: Tvorba a zúčtovanie opr. pol. k fin. maj. | D41: 0 | E41: 0 | F41: 0 | G41: 0 | H41: 0 | I41: 0
C42: Výnosové úroky | D42: 1055 | E42: 586 | F42: 90 | G42: 81 | H42: 106 | I42: 100
C43: Nákladové úroky | D43: 0 | E43: 0 | F43: 0 | G43: 0 | H43: 0 | I43: 0
C44: Kurzové zisky | D44: 0 | E44: 0 | F44: 0 | G44: 0 | H44: 0 | I44: 0
C45: Kurzové straty | D45: 0 | E45: 0 | F45: 0 | G45: 0 | H45: 0 | I45: 0
... C49: Prevod finančných nákladov (+) | D49: 0 | E49: 0 | F49: 0 | G49: 0 | H49: 0 | I49: 0
C50: Výsledok z finančnej činnosti | D50: =D31-D32+D33+D37-D38+D39-D40+D41+D42-D43+D44-D45+D46-D47+D48+D49 -> -91 | E50: =E31-E32+E33+E37-E38+E39-E40+E41+E42-E43+E44-E45+E46-E47+E48+E49 -> -654 | F50: =F31-F32+F33+F37-F38+F39-F40+F41+F42-F43+F44-F45+F46-F47+F48+F49 -> -1271 | G50: =G31-G32+G33+G37-G38+G39-G40+G41+G42-G43+G44-G45+G46-G47+G48+G49 -> -1358 | H50: =H31-H32+H33+H37-H38+H39-H40+H41+H42-H43+H44-H45+H46-H47+H48+H49 -> -1444 | I50: =I31-I32+I33+I37-I38+I39-I40+I41+I42-I43+I44-I45+I46-I47+I48+I49 -> -1380
C51: Výsledok z bežnej činnosti pred zd. | D51: =D30+D50 -> 44172 | E51: =E30+E50 -> 107315 | F51: =F30+F50 -> 26951 | G51: =G30+G50 -> 39583 | H51: =H30+H50 -> 114964 | I51: =I30+I50 -> 41785
C52: Daň z príjmov z bežnej činnosti | D52: =D53+D54 -> -29232 | E52: =E53+E54 -> 77542 | F52: =F53+F54 -> -23543 | G52: =G53+G54 -> -272960 | H52: =H53+H54 -> 28100 | I52: =I53+I54 -> 4650
C53: -splatná | D53: 200 | E53: 111 | F53: 17 | G53: 2895 | H53: 14841 | I53: 0
C54: -odložená (+/-) | D54: -29432 | E54: 77431 | F54: -23560 | G54: -275855 | H54: 13259 | I54: 4650
C55: Výsledok z bežnej činnosti po zdanení | D55: =D51-D52 -> 73404 | E55: =E51-E52 -> 29773 | F55: =F51-F52 -> 50494 | G55: =G51-G52 -> 312543 | H55: =H51-H52 -> 86864 | I55: =I51-I52 -> 37135
C56: Mimoriadne výnosy | D56: 0 | E56: 0 | F56: 0 | G56: 0 | H56: 0 | I56: 0
C57: Mimoriadne náklady | D57: 0 | E57: 0 | F57: 0 | G57: 0 | H57: 0 | I57: 0
C58: Výsledok z mimoriadnej činn. pred zd. | D58: =D56-D57 -> 0 | E58: =E56-E57 -> 0 | F58: =F56-F57 -> 0 | G58: =G56-G57 -> 0 | H58: =H56-H57 -> 0 | I58: =I56-I57 -> 0
C59: Daň z príjmov z mimoriadnej činnosti | D59: =D60+D61 -> 0 | E59: =E60+E61 -> 0 | F59: =F60+F61 -> 0 | G59: =G60+G61 -> 0 | H59: =H60+H61 -> 0 | I59: =I60+I61 -> 0
C60: -splatná | D60: 0 | E60: 0 | F60: 0 | G60: 0 | H60: 0 | I60: 0
C61: -odložená (+/-) | D61: 0 | E61: 0 | F61: 0 | G61: 0 | H61: 0 | I61: 0
C62: Výsledok z mimoriadnej činn. po zd. | D62: =D58-D59 -> 0 | E62: =E58-E59 -> 0 | F62: =F58-F59 -> 0 | G62: =G58-G59 -> 0 | H62: =H58-H59 -> 0 | I62: =I58-I59 -> 0
C63: Výsledok za účtovné obdobie pred zd. | D63: =D51+D58 -> 44172 | E63: =E51+E58 -> 107315 | F63: =F51+F58 -> 26951 | G63: =G51+G58 -> 39583 | H63: =H51+H58 -> 114964 | I63: =I51+I58 -> 41785
C64: Prevod podielov na výsledku hosp. spol. | D64: 0 | E64: 0 | F64: 0 | G64: 0 | H64: 0 | I64: 0
C65: Výsledok hospodárenia po zdanení | D65: =D55+D62-D64 -> 73404 | E65: =E55+E62-E64 -> 29773 | F65: =F55+F62-F64 -> 50494 | G65: =G55+G62-G64 -> 312543 | H65: =H55+H62-H64 -> 86864 | I65: =I55+I62-I64 -> 37135

Sheet Skrátené výkazy
C2: SKRÁTENÉ VÝKAZY | D2: 40908 | E2: 41274 | F2: 41639 | G2: 42004 | H2: 42369 | I2: 42735
C4: VÝSLEDOVKA - Tržby celkom | D4: =VZaS!D4 -> 4336420 | E4: =VZaS!E4 -> 4396623 | F4: =VZaS!F4 -> 4507411 | G4: =VZaS!G4 -> 5171076 | H4: =VZaS!H4 -> 5523199 | I4: =VZaS!I4 -> 5296564
C5: Tržby z predaja tovaru | D5: =VZaS!D5 -> 0 | E5: =VZaS!E5 -> 0 | F5: =VZaS!F5 -> 0 | G5: =VZaS!G5 -> 0 | H5: =VZaS!H5 -> 0 | I5: =VZaS!I5 -> 0
C6: Náklady vynaložené na obstaranie tovaru | D6: =VZaS!D6 -> 0 | E6: =VZaS!E6 -> 0 | F6: =VZaS!F6 -> 0 | G6: =VZaS!G6 -> 0 | H6: =VZaS!H6 -> 0 | I6: =VZaS!I6 -> 0
C7: Obchodná marža | D7: =VZaS!D7 -> 0 | E7: =VZaS!E7 -> 0 | F7: =VZaS!F7 -> 0 | G7: =VZaS!G7 -> 0 | H7: =VZaS!H7 -> 0 | I7: =VZaS!I7 -> 0
C8: Výroba | D8: =VZaS!D8 -> 4833836 | E8: =VZaS!E8 -> 4914918 | F8: =VZaS!F8 -> 5193892 | G8: =VZaS!G8 -> 5734120 | H8: =VZaS!H8 -> 6033253 | I8: =VZaS!I8 -> 5737886
C9: Tržby z predaja výrobkov a služieb | D9: =VZaS!D9 -> 4336420 | E9: =VZaS!E9 -> 4396623 | F9: =VZaS!F9 -> 4507411 | G9: =VZaS!G9 -> 5171076 | H9: =VZaS!H9 -> 5523199 | I9: =VZaS!I9 -> 5296564
C10: Zmeny stavu vnútroorganiz. zásob | D10: =VZaS!D10 -> 85302 | E10: =VZaS!E10 -> 6553 | F10: =VZaS!F10 -> 173305 | G10: =VZaS!G10 -> -40401 | H10: =VZaS!H10 -> -59305 | I10: =VZaS!I10 -> -75189
C11: Aktivácia | D11: =VZaS!D11 -> 412114 | E11: =VZaS!E11 -> 511742 | F11: =VZaS!F11 -> 513176 | G11: =VZaS!G11 -> 603445 | H11: =VZaS!H11 -> 569359 | I11: =VZaS!I11 -> 516511
C12: Výrobná spotreba | D12: =VZaS!D12 -> 2660737 | E12: =VZaS!E12 -> 2687081 | F12: =VZaS!F12 -> 2791902 | G12: =VZaS!G12 -> 3016055 | H12: =VZaS!H12 -> 3101652 | I12: =VZaS!I12 -> 2789380
C13: Spotreba materiálu, energie a neskl. dod. | D13: =VZaS!D13 -> 1557028 | E13: =VZaS!E13 -> 1585575 | F13: =VZaS!F13 -> 1775611 | G13: =VZaS!G13 -> 1834108 | H13: =VZaS!H13 -> 1722177 | I13: =VZaS!I13 -> 1661100
C14: Služby | D14: =VZaS!D14 -> 1103709 | E14: =VZaS!E14 -> 1101506 | F14: =VZaS!F14 -> 1016291 | G14: =VZaS!G14 -> 1181947 | H14: =VZaS!H14 -> 1379475 | I14: =VZaS!I14 -> 1128280
C15: Pridaná hodnota | D15: =VZaS!D15 -> 2173099 | E15: =VZaS!E15 -> 2227837 | F15: =VZaS!F15 -> 2401990 | G15: =VZaS!G15 -> 2718065 | H15: =VZaS!H15 -> 2931601 | I15: =VZaS!I15 -> 2948506
C16: Výsledok z hospodárskej činnosti | D16: =VZaS!D30 -> 44263 | E16: =VZaS!E30 -> 107969 | F16: =VZaS!F30 -> 28222 | G16: =VZaS!G30 -> 40941 | H16: =VZaS!H30 -> 116408 | I16: =VZaS!I30 -> 43165
C17: Výsledok z finančnej činnosti | D17: =VZaS!D50 -> -91 | E17: =VZaS!E50 -> -654 | F17: =VZaS!F50 -> -1271 | G17: =VZaS!G50 -> -1358 | H17: =VZaS!H50 -> -1444 | I17: =VZaS!I50 -> -1380
C18: Výsledok hospodárenia po zdanení | D18: =VZaS!D65 -> 73404 | E18: =VZaS!E65 -> 29773 | F18: =VZaS!F65 -> 50494 | G18: =VZaS!G65 -> 312543 | H18: =VZaS!H65 -> 86864 | I18: =VZaS!I65 -> 37135
C20: AKTÍVA CELKOM | D20: =D21+D25+D30 -> 28867995 | E20: =E21+E25+E30 -> 28752486 | F20: =F21+F25+F30 -> 26909147 | G20: =G21+G25+G30 -> 27123735 | H20: =H21+H25+H30 -> 27331426 | I20: =I21+I25+I30 -> 27119079
C21: Neobežný majetok | D21: =SUM(D22:D24) -> 26046360 | E21: =SUM(E22:E24) -> 26022456 | F21: =SUM(F22:F24) -> 24067977 | G21: =SUM(G22:G24) -> 24206371 | H21: =SUM(H22:H24) -> 24407289 | I21: =SUM(I22:I24) -> 24303223
C22: Dlhodobý nehmotný majetok | D22: ='Aktíva celkom'!D6 -> 6406 | E22: ='Aktíva celkom'!E6 -> 3946 | F22: ='Aktíva celkom'!F6 -> 2002 | G22: ='Aktíva celkom'!G6 -> 1050 | H22: ='Aktíva celkom'!H6 -> 390 | I22: ='Aktíva celkom'!I6 -> 0
C23: Dlhodobý hmotný majetok | D23: ='Aktíva celkom'!D15 -> 26039954 | E23: ='Aktíva celkom'!E15 -> 26018510 | F23: ='Aktíva celkom'!F15 -> 24065975 | G23: ='Aktíva celkom'!G15 -> 24205321 | H23: ='Aktíva celkom'!H15 -> 24406899 | I23: ='Aktíva celkom'!I15 -> 24303223
C24: Dlhodobý finančný majetok | D24: ='Aktíva celkom'!D25 -> 0 | E24: ='Aktíva celkom'!E25 -> 0 | F24: ='Aktíva celkom'!F25 -> 0 | G24: ='Aktíva celkom'!G25 -> 0 | H24: ='Aktíva celkom'!H25 -> 0 | I24: ='Aktíva celkom'!I25 -> 0
C25: Obežný majetok | D25: =SUM(D26:D29) -> 2819915 | E25: =SUM(E26:E29) -> 2728624 | F25: =SUM(F26:F29) -> 2837638 | G25: =SUM(G26:G29) -> 2914498 | H25: =SUM(H26:H29) -> 2920507 | I25: =SUM(I26:I29) -> 2812256
C26: Zásoby | D26: ='Aktíva celkom'!D35 -> 768834 | E26: ='Aktíva celkom'!E35 -> 768527 | F26: ='Aktíva celkom'!F35 -> 911527 | G26: ='Aktíva celkom'!G35 -> 892670 | H26: ='Aktíva celkom'!H35 -> 853995 | I26: ='Aktíva celkom'!I35 -> 884044
C27: Dlhodobé pohľadávky | D27: ='Aktíva celkom'!D43 -> 0 | E27: ='Aktíva celkom'!E43 -> 0 | F27: ='Aktíva celkom'!F43 -> 0 | G27: ='Aktíva celkom'!G43 -> 55967 | H27: ='Aktíva celkom'!H43 -> 0 | I27: ='Aktíva celkom'!I43 -> 0
C28: Krátkodobé pohľadávky | D28: ='Aktíva celkom'!D50 -> 1404872 | E28: ='Aktíva celkom'!E50 -> 933685 | F28: ='Aktíva celkom'!F50 -> 1396939 | G28: ='Aktíva celkom'!G50 -> 885733 | H28: ='Aktíva celkom'!H50 -> 757942 | I28: ='Aktíva celkom'!I50 -> 1024488
C29: Finančné účty | D29: ='Aktíva celkom'!D58 -> 646209 | E29: ='Aktíva celkom'!E58 -> 1026412 | F29: ='Aktíva celkom'!F58 -> 529172 | G29: ='Aktíva celkom'!G58 -> 1080128 | H29: ='Aktíva celkom'!H58 -> 1308570 | I29: ='Aktíva celkom'!I58 -> 903724
C30: Časové rozlíšenie | D30: ='Aktíva celkom'!D64 -> 1720 | E30: ='Aktíva celkom'!E64 -> 1406 | F30: ='Aktíva celkom'!F64 -> 3532 | G30: ='Aktíva celkom'!G64 -> 2866 | H30: ='Aktíva celkom'!H64 -> 3630 | I30: ='Aktíva celkom'!I64 -> 3600
C32: PASÍVA CELKOM | D32: =D33+D39+D45 -> 28867995 | E32: =E33+E39+E45 -> 28752486 | F32: =F33+F39+F45 -> 26909147 | G32: =G33+G39+G45 -> 27123735 | H32: =H33+H39+H45 -> 27331426 | I32: =I33+I39+I45 -> 27119079
C33: Vlastné imanie | D33: =SUM(D34:D38) -> 27863003 | E33: =SUM(E34:E38) -> 27892777 | F33: =SUM(F34:F38) -> 26302710 | G33: =SUM(G34:G38) -> 26567284 | H33: =SUM(H34:H38) -> 26388376 | I33: =SUM(I34:I38) -> 26425509
C34: Základné imanie | D34: ='Pasíva celkom'!D6 -> 27694490 | E34: ='Pasíva celkom'!E6 -> 27694490 | F34: ='Pasíva celkom'!F6 -> 27618580 | G34: ='Pasíva celkom'!G6 -> 27618580 | H34: ='Pasíva celkom'!H6 -> 27624840 | I34: ='Pasíva celkom'!I6 -> 27624840
C35: Kapitálové fondy | D35: ='Pasíva celkom'!D11 -> 344784 | E35: ='Pasíva celkom'!E11 -> 344784 | F35: ='Pasíva celkom'!F11 -> 344784 | G35: ='Pasíva celkom'!G11 -> 344784 | H35: ='Pasíva celkom'!H11 -> 344784 | I35: ='Pasíva celkom'!I11 -> 344784
C36: Fondy zo zisku | D36: ='Pasíva celkom'!D18 -> 68986 | E36: ='Pasíva celkom'!E18 -> 142391 | F36: ='Pasíva celkom'!F18 -> 172164 | G36: ='Pasíva celkom'!G18 -> 174689 | H36: ='Pasíva celkom'!H18 -> 190316 | I36: ='Pasíva celkom'!I18 -> 194659
C37: Výsledok hospodárenia min. rokov | D37: ='Pasíva celkom'!D22 -> -318661 | E37: ='Pasíva celkom'!E22 -> -318661 | F37: ='Pasíva celkom'!F22 -> -1883312 | G37: ='Pasíva celkom'!G22 -> -1883312 | H37: ='Pasíva celkom'!H22 -> -1858428 | I37: ='Pasíva celkom'!I22 -> -1775909
C38: Výsledok hospodárenia po zdanení | D38: ='Pasíva celkom'!D25 -> 73404 | E38: ='Pasíva celkom'!E25 -> 29773 | F38: ='Pasíva celkom'!F25 -> 50494 | G38: ='Pasíva celkom'!G25 -> 312543 | H38: ='Pasíva celkom'!H25 -> 86864 | I38: ='Pasíva celkom'!I25 -> 37135
C39: Záväzky | D39: =SUM(D40:D44) -> 1004992 | E39: =SUM(E40:E44) -> 859709 | F39: =SUM(F40:F44) -> 606437 | G39: =SUM(G40:G44) -> 556451 | H39: =SUM(H40:H44) -> 943050 | I39: =SUM(I40:I44) -> 693570
C40: Rezervy | D40: ='Pasíva celkom'!D27 -> 335414 | E40: ='Pasíva celkom'!E27 -> 155080 | F40: ='Pasíva celkom'!F27 -> 78681 | G40: ='Pasíva celkom'!G27 -> 106233 | H40: ='Pasíva celkom'!H27 -> 355730 | I40: ='Pasíva celkom'!I27 -> 262340
C41: Dlhodobé záväzky | D41: ='Pasíva celkom'!D32 -> 243614 | E41: ='Pasíva celkom'!E32 -> 318877 | F41: ='Pasíva celkom'!F32 -> 292350 | G41: ='Pasíva celkom'!G32 -> 14805 | H41: ='Pasíva celkom'!H32 -> 47453 | I41: ='Pasíva celkom'!I32 -> 51179
C42: Krátkodobé záväzky | D42: ='Pasíva celkom'!D43 -> 425964 | E42: ='Pasíva celkom'!E43 -> 385752 | F42: ='Pasíva celkom'!F43 -> 235406 | G42: ='Pasíva celkom'!G43 -> 435413 | H42: ='Pasíva celkom'!H43 -> 539867 | I42: ='Pasíva celkom'!I43 -> 380051
C43: Krátkodobé finančné výpomoci | D43: ='Pasíva celkom'!D53 -> 0 | E43: ='Pasíva celkom'!E53 -> 0 | F43: ='Pasíva celkom'!F53 -> 0 | G43: ='Pasíva celkom'!G53 -> 0 | H43: ='Pasíva celkom'!H53 -> 0 | I43: ='Pasíva celkom'!I53 -> 0
C44: Bankové úvery | D44: ='Pasíva celkom'!D54 -> 0 | E44: ='Pasíva celkom'!E54 -> 0 | F44: ='Pasíva celkom'!F54 -> 0 | G44: ='Pasíva celkom'!G54 -> 0 | H44: ='Pasíva celkom'!H54 -> 0 | I44: ='Pasíva celkom'!I54 -> 0
C45: Časové rozlíšenie | D45: ='Pasíva celkom'!D57 -> 0 | E45: ='Pasíva celkom'!E57 -> 0 | F45: ='Pasíva celkom'!F57 -> 0 | G45: ='Pasíva celkom'!G57 -> 0 | H45: ='Pasíva celkom'!H57 -> 0 | I45: ='Pasíva celkom'!I57 -> 0

Sheet Vybr. ukazovatele hospodárenia
C2: VYBRANÉ UKAZOVATELE | D2: 40908 | E2: 41274 | F2: 41639 | G2: 42004 | H2: 42369 | I2: 42735
C3: Marža pridanej hodnoty | D3: =VZaS!D15/VZaS!D4 -> 0.50112743 | E3: =VZaS!E15/VZaS!E4 -> 0.5067155 | F3: =VZaS!F15/VZaS!F4 -> 0.53289793 | G3: =VZaS!G15/VZaS!G4 -> 0.52562852 | H3: =VZaS!H15/VZaS!H4 -> 0.53077954 | I3: =VZaS!I15/VZaS!I4 -> 0.55668279
C4: Pracovný kapitál | D4: =('Aktíva celkom'!D50+'Aktíva celkom'!D35+'Aktíva celkom'!D58)-('Pasíva celkom'!D43+'Pasíva celkom'!D56) -> 2393951 | E4: =('Aktíva celkom'!E50+'Aktíva celkom'!E35+'Aktíva celkom'!E58)-('Pasíva celkom'!E43+'Pasíva celkom'!E56) -> 2342872 | F4: =('Aktíva celkom'!F50+'Aktíva celkom'!F35+'Aktíva celkom'!F58)-('Pasíva celkom'!F43+'Pasíva celkom'!F56) -> 2602232 | G4: =('Aktíva celkom'!G50+'Aktíva celkom'!G35+'Aktíva celkom'!G58)-('Pasíva celkom'!G43+'Pasíva celkom'!G56) -> 2423118 | H4: =('Aktíva celkom'!H50+'Aktíva celkom'!H35+'Aktíva celkom'!H58)-('Pasíva celkom'!H43+'Pasíva celkom'!H56) -> 2380640 | I4: =('Aktíva celkom'!I50+'Aktíva celkom'!I35+'Aktíva celkom'!I58)-('Pasíva celkom'!I43+'Pasíva celkom'!I56) -> 2432205
C5: Výška transferu zo štátneho rozpočtu | D5: 0 | E5: 0 | F5: 0 | G5: 0 | H5: 0 | I5: 0
C6: Počet zamestnancov | D6: 195 | E6: 201 | F6: 200 | G6: 205 | H6: 210 | I6: 211
C7: Zdroj samofinancovania
C8: - absolútny ukazovateľ (čistý zisk + odpisy) | D8: =VZaS!D65+VZaS!D22 -> 597719 | E8: =VZaS!E65+VZaS!E22 -> 594143 | F8: =VZaS!F65+VZaS!F22 -> 663399 | G8: =VZaS!G65+VZaS!G22 -> 915261 | H8: =VZaS!H65+VZaS!H22 -> 723697 | I8: =VZaS!I65+VZaS!I22 -> 719475
C9: - pomerový ukazovateľ (čistý zisk / odpisy) | D9: =VZaS!D65/VZaS!D22 -> 0.13999981 | E9: =VZaS!E65/VZaS!E22 -> 0.052754399 | F9: =VZaS!F65/VZaS!F22 -> 0.082384709 | G9: =VZaS!G65/VZaS!G22 -> 0.51855594 | H9: =VZaS!H65/VZaS!H22 -> 0.13639997 | I9: =VZaS!I65/VZaS!I22 -> 0.054423015
C10: Miera zadĺženosti
C11: - ukazovateľ úrokového krytia | D11: =IF('Pasíva celkom'!D54>0,(VZaS!D63+VZaS!D43)/VZaS!D43,"bez úverov") -> bez úverov | E11: =IF('Pasíva celkom'!E54>0,(VZaS!E63+VZaS!E43)/VZaS!E43,"bez úverov") -> bez úverov | F11: =IF('Pasíva celkom'!F54>0,(VZaS!F63+VZaS!F43)/VZaS!F43,"bez úverov") -> bez úverov | G11: =IF('Pasíva celkom'!G54>0,(VZaS!G63+VZaS!G43)/VZaS!G43,"bez úverov") -> bez úverov | H11: =IF('Pasíva celkom'!H54>0,(VZaS!H63+VZaS!H43)/VZaS!H43,"bez úverov") -> bez úverov | I11: =IF('Pasíva celkom'!I54>0,(VZaS!I63+VZaS!I43)/VZaS!I43,"bez úverov") -> bez úverov
C12: - ukazovateľ úrokového zadĺženia (v %) | D12: =IF('Pasíva celkom'!D54>0,(VZaS!D43/(VZaS!D65+VZaS!D43))*100,"bez úverov") -> bez úverov | E12: =IF('Pasíva celkom'!E54>0,(VZaS!E43/(VZaS!E65+VZaS!E43))*100,"bez úverov") -> bez úverov | F12: =IF('Pasíva celkom'!F54>0,(VZaS!F43/(VZaS!F65+VZaS!F43))*100,"bez úverov") -> bez úverov | G12: =IF('Pasíva celkom'!G54>0,(VZaS!G43/(VZaS!G65+VZaS!G43))*100,"bez úverov") -> bez úverov | H12: =IF('Pasíva celkom'!H54>0,(VZaS!H43/(VZaS!H65+VZaS!H43))*100,"bez úverov") -> bez úverov | I12: =IF('Pasíva celkom'!I54>0,(VZaS!I43/(VZaS!I65+VZaS!I43))*100,"bez úverov") -> bez úverov
C13: - D/E | D13: =('Pasíva celkom'!D32+'Pasíva celkom'!D43+'Pasíva celkom'!D53+'Pasíva celkom'!D54)/'Pasíva celkom'!D5 -> 0.024031078 | E13: =('Pasíva celkom'!E32+'Pasíva celkom'!E43+'Pasíva celkom'!E53+'Pasíva celkom'!E54)/'Pasíva celkom'!E5 -> 0.02526206 | F13: =('Pasíva celkom'!F32+'Pasíva celkom'!F43+'Pasíva celkom'!F53+'Pasíva celkom'!F54)/'Pasíva celkom'!F5 -> 0.020064701 | G13: =('Pasíva celkom'!G32+'Pasíva celkom'!G43+'Pasíva celkom'!G53+'Pasíva celkom'!G54)/'Pasíva celkom'!G5 -> 0.016946331 | H13: =('Pasíva celkom'!H32+'Pasíva celkom'!H43+'Pasíva celkom'!H53+'Pasíva celkom'!H54)/'Pasíva celkom'!H5 -> 0.022256769 | I13: =('Pasíva celkom'!I32+'Pasíva celkom'!I43+'Pasíva celkom'!I53+'Pasíva celkom'!I54)/'Pasíva celkom'!I5 -> 0.016318702
C14: Miera nákladovosti
C15: - ukazovateľ prevádzkovej nákladovosti | D15: =1-((VZaS!D63+VZaS!D43+VZaS!D22)/VZaS!D4) -> 0.86890407 | E15: =1-((VZaS!E63+VZaS!E43+VZaS!E22)/VZaS!E4) -> 0.84722706 | F15: =1-((VZaS!F63+VZaS!F43+VZaS!F22)/VZaS!F4) -> 0.85804356 | G15: =1-((VZaS!G63+VZaS!G43+VZaS!G22)/VZaS!G4) -> 0.87578968 | H15: =1-((VZaS!H63+VZaS!H43+VZaS!H22)/VZaS!H4) -> 0.86388377 | I15: =1-((VZaS!I63+VZaS!I43+VZaS!I22)/VZaS!I4) -> 0.86328401
C16: Rentabilita
C17: - rentabilita vlastného kapitálu | D17: =VZaS!D65/'Pasíva celkom'!D5 -> 0.0026344612 | E17: =VZaS!E65/'Pasíva celkom'!E5 -> 0.001067409 | F17: =VZaS!F65/'Pasíva celkom'!F5 -> 0.0019197261 | G17: =VZaS!G65/'Pasíva celkom'!G5 -> 0.011764206 | H17: =VZaS!H65/'Pasíva celkom'!H5 -> 0.0032917524 | I17: =VZaS!I65/'Pasíva celkom'!I5 -> 0.0014052709
C18: Aktivita
C19: - doba inkasa krátkodobých pohľadávok (v dňoch) | D19: =('Aktíva celkom'!D50*365)/VZaS!D4 -> 118.24922 | E19: =('Aktíva celkom'!E50*365)/VZaS!E4 -> 77.512906 | F19: =('Aktíva celkom'!F50*365)/VZaS!F4 -> 113.12098 | G19: =('Aktíva celkom'!G50*365)/VZaS!G4 -> 62.519395 | H19: =('Aktíva celkom'!H50*365)/VZaS!H4 -> 50.088514 | I19: =('Aktíva celkom'!I50*365)/VZaS!I4 -> 70.600132
C20: - doba obratu zásob | D20: =('Aktíva celkom'!D35*365)/VZaS!D4 -> 64.713383 | E20: =('Aktíva celkom'!E35*365)/VZaS!E4 -> 63.801776 | F20: =('Aktíva celkom'!F35*365)/VZaS!F4 -> 73.813405 | G20: =('Aktíva celkom'!G35*365)/VZaS!G4 -> 63.009043 | H20: =('Aktíva celkom'!H35*365)/VZaS!H4 -> 56.436166 | I20: =('Aktíva celkom'!I35*365)/VZaS!I4 -> 60.921771
C21: - doba splatnosti krátkodobých záväzkov (v dňoch) | D21: =('Pasíva celkom'!D43*365)/(VZaS!D12) -> 58.433757 | E21: =('Pasíva celkom'!E43*365)/(VZaS!E12) -> 52.398674 | F21: =('Pasíva celkom'!F43*365)/(VZaS!F12) -> 30.775862 | G21: =('Pasíva celkom'!G43*365)/(VZaS!G12) -> 52.693252 | H21: =('Pasíva celkom'!H43*365)/(VZaS!H12) -> 63.53113 | I21: =('Pasíva celkom'!I43*365)/(VZaS!I12) -> 49.730985
C22: - obrátkovosť dlhodobého majetku | D22: =VZaS!D4/'Aktíva celkom'!D5 -> 0.16648852 | E22: =VZaS!E4/'Aktíva celkom'!E5 -> 0.16895496 | F22: =VZaS!F4/'Aktíva celkom'!F5 -> 0.18727835 | G22: =VZaS!G4/'Aktíva celkom'!G5 -> 0.21362459 | H22: =VZaS!H4/'Aktíva celkom'!H5 -> 0.22629301 | I22: =VZaS!I4/'Aktíva celkom'!I5 -> 0.21793669
C23: Produktivita práce
C24: - priemerný osobný náklad na zamestnanca | D24: =VZaS!D16/'Vybr. ukazovatele hospodárenia'!D6 -> 11062.292 | E24: =VZaS!E16/'Vybr. ukazovatele hospodárenia'!E6 -> 11056.706 | F24: =VZaS!F16/'Vybr. ukazovatele hospodárenia'!F6 -> 11283.38 | G24: =VZaS!G16/'Vybr. ukazovatele hospodárenia'!G6 -> 12506.512 | H24: =VZaS!H16/'Vybr. ukazovatele hospodárenia'!H6 -> 13730.267 | I24: =VZaS!I16/'Vybr. ukazovatele hospodárenia'!I6 -> 13196.199
C25: - osobné náklady na jednotku výnosov | D25: =VZaS!D16/VZaS!D4 -> 0.49744882 | E25: =VZaS!E16/VZaS!E4 -> 0.50547841 | F25: =VZaS!F16/VZaS!F4 -> 0.50065903 | G25: =VZaS!G16/VZaS!G4 -> 0.495803 | H25: =VZaS!H16/VZaS!H4 -> 0.52204456 | I25: =VZaS!I16/VZaS!I4 -> 0.52569892
C26: - tržby na 1 zamestnanca | D26: =VZaS!D4/'Vybr. ukazovatele hospodárenia'!D6 -> 22238.051 | E26: =VZaS!E4/'Vybr. ukazovatele hospodárenia'!E6 -> 21873.746 | F26: =VZaS!F4/'Vybr. ukazovatele hospodárenia'!F6 -> 22537.055 | G26: =VZaS!G4/'Vybr. ukazovatele hospodárenia'!G6 -> 25224.761 | H26: =VZaS!H4/'Vybr. ukazovatele hospodárenia'!H6 -> 26300.948 | I26: =VZaS!I4/'Vybr. ukazovatele hospodárenia'!I6 -> 25102.199
C27: Pomer pracovného kapitálu k celkovým aktívam | D27: =D4/'Aktíva celkom'!D4 -> 0.082927512 | E27: =E4/'Aktíva celkom'!E4 -> 0.081484154 | F27: =F4/'Aktíva celkom'!F4 -> 0.096704366 | G27: =G4/'Aktíva celkom'!G4 -> 0.089335705 | H27: =H4/'Aktíva celkom'!H4 -> 0.087102663 | I27: =I4/'Aktíva celkom'!I4 -> 0.089686121
C28: Pomer zisku po zdanení k celkovým aktívam | D28: =VZaS!D65/'Aktíva celkom'!D4 -> 0.0025427467 | E28: =VZaS!E65/'Aktíva celkom'!E4 -> 0.0010354931 | F28: =VZaS!F65/'Aktíva celkom'!F4 -> 0.0018764623 | G28: =VZaS!G65/'Aktíva celkom'!G4 -> 0.01152286 | H28: =VZaS!H65/'Aktíva celkom'!H4 -> 0.003178173 | I28: =VZaS!I65/'Aktíva celkom'!I4 -> 0.0013693312
C29: Pomer zisku pred zdanením a úrokov k celk. aktívam | D29: =(VZaS!D63+VZaS!D43)/'Aktíva celkom'!D4 -> 0.0015301374 | E29: =(VZaS!E63+VZaS!E43)/'Aktíva celkom'!E4 -> 0.0037323729 | F29: =(VZaS!F63+VZaS!F43)/'Aktíva celkom'!F4 -> 0.0010015553 | G29: =(VZaS!G63+VZaS!G43)/'Aktíva celkom'!G4 -> 0.0014593492 | H29: =(VZaS!H63+VZaS!H43)/'Aktíva celkom'!H4 -> 0.0042062935 | I29: =(VZaS!I63+VZaS!I43)/'Aktíva celkom'!I4 -> 0.0015407972
C30: Pomer tržnej hodnoty VK k účtovnej hodnote cudzieho kap. | D30: ='Pasíva celkom'!D5/('Pasíva celkom'!D26+D5) -> 27.724602 | E30: ='Pasíva celkom'!E5/('Pasíva celkom'!E26+E5) -> 32.44444 | F30: ='Pasíva celkom'!F5/('Pasíva celkom'!F26+F5) -> 43.372535 | G30: ='Pasíva celkom'!G5/('Pasíva celkom'!G26+G5) -> 47.744157 | H30: ='Pasíva celkom'!H5/('Pasíva celkom'!H26+H5) -> 27.981948 | I30: ='Pasíva celkom'!I5/('Pasíva celkom'!I26+I5) -> 38.100709
C31: Pomer tržieb k celk. aktiv. | D31: =VZaS!D4/'Aktíva celkom'!D4 -> 0.15021549 | E31: =VZaS!E4/'Aktíva celkom'!E4 -> 0.1529128 | F31: =VZaS!F4/'Aktíva celkom'!F4 -> 0.16750479 | G31: =VZaS!G4/'Aktíva celkom'!G4 -> 0.19064764 | H31: =VZaS!H4/'Aktíva celkom'!H4 -> 0.20208236 | I31: =VZaS!I4/'Aktíva celkom'!I4 -> 0.19530767
C32: Altmanov index | D32: =0.717*D27+0.847*D28+3.107*D29+0.42*D30+0.998*D31 -> 11.860615 | E32: =0.717*E27+0.847*E28+3.107*E29+0.42*E30+0.998*E31 -> 13.850169 | F32: =0.717*F27+0.847*F28+3.107*F29+0.42*F30+0.998*F31 -> 18.457673 | G32: =0.717*G27+0.847*G28+3.107*G29+0.42*G30+0.998*G31 -> 20.32116 | H32: =0.717*H27+0.847*H28+3.107*H29+0.42*H30+0.998*H31 -> 12.03231 | I32: =0.717*I27+0.847*I28+3.107*I29+0.42*I30+0.998*I31 -> 16.267467
C33: Aktíva celkom | D33: ='Aktíva celkom'!D4 -> 28867995 | E33: ='Aktíva celkom'!E4 -> 28752486 | F33: ='Aktíva celkom'!F4 -> 26909147 | G33: ='Aktíva celkom'!G4 -> 27123735 | H33: ='Aktíva celkom'!H4 -> 27331426 | I33: ='Aktíva celkom'!I4 -> 27119079
C34: Cudzie zdroje celkom (vrátane transferu zo ŠR) | D34: ='Pasíva celkom'!D26+D5 -> 1004992 | E34: ='Pasíva celkom'!E26+E5 -> 859709 | F34: ='Pasíva celkom'!F26+F5 -> 606437 | G34: ='Pasíva celkom'!G26+G5 -> 556451 | H34: ='Pasíva celkom'!H26+H5 -> 943050 | I34: ='Pasíva celkom'!I26+I5 -> 693570
C35: EBIT | D35: =VZaS!D63+VZaS!D43 -> 44172 | E35: =VZaS!E63+VZaS!E43 -> 107315 | F35: =VZaS!F63+VZaS!F43 -> 26951 | G35: =VZaS!G63+VZaS!G43 -> 39583 | H35: =VZaS!H63+VZaS!H43 -> 114964 | I35: =VZaS!I63+VZaS!I43 -> 41785
C36: Nákladové úroky | D36: =IF(D11="bez úverov",0,"D39=VZaS!D43") -> 0 | E36: =IF(E11="bez úverov",0,"D39=VZaS!D43") -> 0 | F36: =IF(F11="bez úverov",0,"D39=VZaS!D43") -> 0 | G36: =IF(G11="bez úverov",0,"D39=VZaS!D43") -> 0 | H36: =IF(H11="bez úverov",0,"D39=VZaS!D43") -> 0 | I36: =IF(I11="bez úverov",0,"D39=VZaS!D43") -> 0
C37: Výnosy celkom | D37: =VZaS!D4 -> 4336420 | E37: =VZaS!E4 -> 4396623 | F37: =VZaS!F4 -> 4507411 | G37: =VZaS!G4 -> 5171076 | H37: =VZaS!H4 -> 5523199 | I37: =VZaS!I4 -> 5296564
C38: Obežný majetok | D38: ='Aktíva celkom'!D34 -> 2819915 | E38: ='Aktíva celkom'!E34 -> 2728624 | F38: ='Aktíva celkom'!F34 -> 2837638 | G38: ='Aktíva celkom'!G34 -> 2914498 | H38: ='Aktíva celkom'!H34 -> 2920507 | I38: ='Aktíva celkom'!I34 -> 2812256
C39: Krátkodobé záväzky, finančné výpomoci a transfery zo ŠR | D39: ='Pasíva celkom'!D43+D5+'Pasíva celkom'!D53 -> 425964 | E39: ='Pasíva celkom'!E43+E5+'Pasíva celkom'!E53 -> 385752 | F39: ='Pasíva celkom'!F43+F5+'Pasíva celkom'!F53 -> 235406 | G39: ='Pasíva celkom'!G43+G5+'Pasíva celkom'!G53 -> 435413 | H39: ='Pasíva celkom'!H43+H5+'Pasíva celkom'!H53 -> 539867 | I39: ='Pasíva celkom'!I43+I5+'Pasíva celkom'!I53 -> 380051
C40: Krátkodobé bankové úvery | D40: ='Pasíva celkom'!D56 -> 0 | E40: ='Pasíva celkom'!E56 -> 0 | F40: ='Pasíva celkom'!F56 -> 0 | G40: ='Pasíva celkom'!G56 -> 0 | H40: ='Pasíva celkom'!H56 -> 0 | I40: ='Pasíva celkom'!I56 -> 0
C41: Index IN05 | D41: =IF(D36<>0,(0.13*(D33/D34))+(0.04*(D35/D36))+(3.97*(D35/D33))+(0.21*(D37/D33))+(0.09*(D38/(D39+D40))),(0.13*(D33/D34))+(3.97*(D35/D33))+(0.21*(D37/D33))+(0.09*(D38/(D39+D40)))) -> 4.3676252 | E41: =IF(E36<>0,(0.13*(E33/E34))+(0.04*(E35/E36))+(3.97*(E35/E33))+(0.21*(E37/E33))+(0.09*(E38/(E39+E40))),(0.13*(E33/E34))+(3.97*(E35/E33))+(0.21*(E37/E33))+(0.09*(E38/(E39+E40)))) -> 5.0313231 | F41: =IF(F36<>0,(0.13*(F33/F34))+(0.04*(F35/F36))+(3.97*(F35/F33))+(0.21*(F37/F33))+(0.09*(F38/(F39+F40))),(0.13*(F33/F34))+(3.97*(F35/F33))+(0.21*(F37/F33))+(0.09*(F38/(F39+F40)))) -> 6.8924624 | G41: =IF(G36<>0,(0.13*(G33/G34))+(0.04*(G35/G36))+(3.97*(G35/G33))+(0.21*(G37/G33))+(0.09*(G38/(G39+G40))),(0.13*(G33/G34))+(3.97*(G35/G33))+(0.21*(G37/G33))+(0.09*(G38/(G39+G40)))) -> 6.9849977 | H41: =IF(H36<>0,(0.13*(H33/H34))+(0.04*(H35/H36))+(3.97*(H35/H33))+(0.21*(H37/H33))+(0.09*(H38/(H39+H40))),(0.13*(H33/H34))+(3.97*(H35/H33))+(0.21*(H37/H33))+(0.09*(H38/(H39+H40)))) -> 4.3136606 | I41: =IF(I36<>0,(0.13*(I33/I34))+(0.04*(I35/I36))+(3.97*(I35/I33))+(0.21*(I37/I33))+(0.09*(I38/(I39+I40))),(0.13*(I33/I34))+(3.97*(I35/I33))+(0.21*(I37/I33))+(0.09*(I38/(I39+I40)))) -> 5.796195
C42: KOMPLEXNÉ HODNOTENIE PODNIKU | D42: =IF((D32<1.2)*AND(D41<1.6),"silné finančné problémy","pomerne stabilný výhľad") -> pomerne stabilný výhľad | E42: =IF((E32<1.2)*AND(E41<1.6),"silné finančné problémy","pomerne stabilný výhľad") -> pomerne stabilný výhľad | F42: =IF((F32<1.2)*AND(F41<1.6),"silné finančné problémy","pomerne stabilný výhľad") -> pomerne stabilný výhľad | G42: =IF((G32<1.2)*AND(G41<1.6),"silné finančné problémy","pomerne stabilný výhľad") -> pomerne stabilný výhľad | H42: =IF((H32<1.2)*AND(H41<1.6),"silné finančné problémy","pomerne stabilný výhľad") -> pomerne stabilný výhľad | I42: =IF((I32<1.2)*AND(I41<1.6),"silné finančné problémy","pomerne stabilný výhľad") -> pomerne stabilný výhľad

Sheet Hárok1
