Workbook

Sheet dataset
A1: Identifikátor výzvy | B1: Názov žiadateľa | C1: IČO žiadateľa | D1: Právna forma oprávneného žiadateľa | E1: kód právnej formy oprávneného žiadateľa | F1: Číselný identifikátor žiadosti | G1: Názov projektu | H1: Stručný popis projektu | I1: Miesto realizácie projektu | J1: Dátum podania žiadosti | K1: stav vyhodnotenia žiadosti | L1: Dátum rozhodnutia o žiadosti / projekte | M1: Výška žiadanej sumy | N1: Číslo projektu schválenej žiadosti | O1: Číslo zmluvy o poskytnutí dotácie uverejnené v CRZ | P1: Výška schválenej sumy | Q1: Výška spolufinancovania | R1: Dátum uverejnenia zmluvy v CRZ | S1: Dátum začiatku realizácie projektu | T1: Dátum ukončenia realizácie projektu | U1: Výška neoprávnených výdavkov | V1: Výška nevyčerpanej dotácie
A2: 2469/2022 | B2: Závodisko, š.p. | C2: 31354301 | D2: štátny podnik | E2: 301 | F2: 4142/2022 | G2: Činnosť dostihovej autority, rozvoj a zachovanie majetku štátu slúžiaceho na organizáciu dostihov, ocenenie víťazov v dostihoch | H2: Organizovanie dostihových dní v roku 2022 a rekonštrukcia pedoku | I2: SK0 | J2: 25.02.2022 | K2: schválená | L2: 30.03.2022 | M2: 1247726 | N2: 7897/2022 | O2: 595/2022/MPRVSR-340 | P2: 1247726 | Q2: 0 | R2: 08.04.2022 | S2: 01.01.2022 | T2: 31.12.2024 | U2: 0 | V2: 0
A3: 24522/2022 | B3: Závodisko, š.p. | C3: 31354301 | D3: štátny podnik | E3: 301 | F3: 26278/2022 | G3: Činnosť dostihovej autority, rozvoj a zachovanie majetku štátu slúžiaceho na organizáciu dostihov | H3: Rekonštrukcia sociálnych zariadení, výmena plynových kotlov | I3: SK0 | J3: 16.11.2022 | K3: schválená | L3: 01.12.2022 | M3: 136000 | N3: 28669/2022 | O3: 1138/2022/MPRVSR-340 | P3: 36000 | Q3: 0 | R3: 18.12.2022 | S3: 01.01.2022 | T3: 31.12.2024 | U3: 0 | V3: 0
A4: 2477/2022 | B4: Hydromeliorácie, š.p. | C4: 687979 | D4: štátny podnik | E4: 301 | F4: 24094/2022 | G4: Projekt zabezpečenia správy, údržby, opráv, prevádzky, likvidácie a preventívne opatrenia na ochranu pred povodňami hydromelioračného majetku vo vlastníctve štátu | H4: Projekt má neziskový charakter. Správa, ochrana, prevádzka, oprava, údržba, likvidácia hydromelioračného majetku vo vlastníctve štátu a preventívne opatrenia na ochranu pred povodňami. | I4: SK0 | J4: 25.02.2022 | K4: schválená | L4: 25.03.2021 | M4: 1250000 | N4: 10592/2022 | O4: 735/2022/MPRVSR-340 | P4: 900000 | Q4: 0 | R4: 11.05.2022 | S4: 01.01.2022 | T4: 31.12.2022 | U4: 0 | V4: 0
A5: 20002/2022 | B5: Hydromeliorácie, štátny podnik | C5: 687979 | D5: štátny podnik | E5: 301 | F5: 21217/2022 | G5: Projekt zabezpečenia správy, údržby, opráv, prevádzky, likvidácie a preventívne opatrenia na ochranu pred povodňami hydromelioračného majetku vo vlastníctve štátu | H5: Zabezpečenie údržby, opráv, prevádzky a preventívnych opatrení na ochranu pred povodňami funkčného hydromelioračného majetku vo vlastníctve štátu v záujme zachovania jeho funkčného a prevádzkyschopného stavu, jeho optimálneho a efektívneho využívania a vytvárania podmienok pre splnenie uzatvorených zmlúv, ako aj vykonávanie údržby, opráv, odstraňovania následkov havárií a likvidácia nefunkčného majetku a tiež zapečpečenie správy hydromelioračného majetku vo vlastníctve štátu v záujme zachovania jeho funkčného a prevádzkyschopného stavu, jeho optimálneho a efektívneho využívania. | I5: SK0 | J5: 44827 | K5: schválená | L5: 10.10.2022 | M5: 1150000 | N5: 23755/2022 | O5: 686/2022/MPRVSR-340 | P5: 1150000 | Q5: 0 | R5: 19.10.2022 | S5: 01.01.2022 | T5: 31.12.2022 | U5: 0 | V5: 0
A6: 24519/2022 | B6: Hydromeliorácie, štátny podnik | C6: 687979 | D6: štátny podnik | E6: 301 | F6: 26611/2022 | G6: Projekt zabezpečenia správy, údržby, opráv, prevádzky, likvidácie a preventívne opatrenia na ochranu pred povodňami hydromelioračného majetku vo vlastníctve štátu | H6: Zabezpečenie údržby, opráv, prevádzky a preventívnych opatrení na ochranu pred povodňami funkčného hydromelioračného majetku vo vlastníctve štátu v záujme zachovania jeho funkčného a prevádzkyschopného stavu, jeho optimálneho a efektívneho využívania a vytvárania podmienok pre splnenie uzatvorených zmlúv, ako aj vykonávanie údržby, opráv, odstraňovania následkov havárií a likvidácia nefunkčného majetku a tiež zapečpečenie správy hydromelioračného majetku vo vlastníctve štátu v záujme zachovania jeho funkčného a prevádzkyschopného stavu, jeho optimálneho a efektívneho využívania. | I6: SK0 | J6: 44887 | K6: schválená | L6: 01.12.2022 | M6: 200000 | N6: 28667/2022 | O6: 1136/2022/MPRVSR-340 | P6: 200000 | Q6: 0 | R6: 18.12.2022 | S6: 01.01.2022 | T6: 31.12.2022 | U6: 0 | V6: 0
A7: 2474/2022 | B7: Národný žrebčín "Topoľčianky" štátny podnik | C7: 31447708 | D7: štátny podnik | E7: 301 | F7: 3751/2022 | G7: Poskytnutie podpory formou dotácie podľa Výnosu MPRV SR č. 536/2011-100 | H7: Krmivo, PHM, potraviny, energie, plemenárske služby, chránený chov plemien koní, organizácia, účasť na súťažiach v oblasti chovu koní a na medzinárodných podujatiach v oblasti chovu koní | I7: SK0 | J7: 22.02.2022 | K7: schválená | L7: 30.03.2022 | M7: 1600000 | N7: 6565/2022 | O7: 596/2022/MPRVSR-340 | P7: 1600000 | Q7: 0 | R7: 08.04.2022 | S7: 01.01.2022 | T7: 31.12.2022 | U7: 0 | V7: 0
A8: 24525/2022 | B8: Národný žrebčín "Topoľčianky" štátny podnik | C8: 31447708 | D8: štátny podnik | E8: 301 | F8: 26270/2022 | G8: Rozvoj a zachovanie majetku štátu na chránený chov plemien koní § 2 ods. 3 písm. b) výnosu č. 536/2011-100 | H8: Výkup pôdy, obnova asfaltového povrchu, obnova fasád a striech, výmena azbestocementovej krytiny na senníku, rekonštrukcia vodovodných rozvodov,nákup úsporných LED svietidiel, rekonštrukcia podhľadov v stajniach, kamerový systém | I8: SK0 | J8: 16.11.2022 | K8: schválená | L8: 01.12.2022 | M8: 38400 | N8: 28668/2022 | O8: 1137/2022/MPRVSR-340 | P8: 384000 | Q8: 0 | R8: 18.12.2022 | S8: 01.01.2022 | T8: 31.12.2024 | U8: 0 | V8: 0
A9: 16942/2022 | B9: LESY Slovenskej republiky, š. p. | C9: 36038351 | D9: štátny podnik | E9: 301 | F9: 19718/2022 | G9: Projekt zachovania a zlepšenia podmienok chovu zubra hrivnatého II. | H9: Chov sa realizuje podľa kritérií na šľachtiteľský a chránený chov a na génovú rezervu zubra hrivnatého - horskej línie. S ohľadom na stav zubrej zvernice v Európe je zámerom vytvorenie podmienok pre riadne poľovnícke obhospodarovanie tejto zveri v kombinácii s objektom na edukáciu verejnosti vo vzťahu k pôvodnej slovenskej, ale i európske faune. | I9: SK0 | J9: 02.09.2022 | K9: schválená | L9: 24.10.2022 | M9: 100000 | N9: 26387/2022 | O9: 917/2022/MPRVSR-340 | P9: 10000 | Q9: 0 | R9: 24.11.2022 | S9: 01.01.2022 | T9: 31.12.2022 | U9: 0 | V9: 0
A10: 11108/2022/POĽNO-1 | B10: Slovenské združenie chovateľov koní - občianske združenie | C10: 42425981 | D10: občianske združenie | E10: 701 | F10: 13400/2022 | G10: Vyššia forma testácie 4 - 7 ročných koní prostredníctvom ocenenia víťazov v jazdeckých súťažiach | H10: Poskytovanie chovateľom koní možnosť prezentácie svojho odchovu i zo zaostalých regiónov Slovenska. | I10: SK0 | J10: 44721 | K10: schválená | L10: 08.11.2022 | M10: 15000 | N10: 27182/2022 | O10: 1074/2022/MPRVSR-340 | P10: 7082.61 | Q10: 0 | R10: 44908 | S10: 01.01.2022 | T10: 31.12.2022 | U10: 0 | V10: 0
A11: 11108/2022/POĽNO-1 | B11: Podunajská vínna cesta | C11: 42209846 | D11: občianske združenie | E11: 701 | F11: 15110/2022 | G11: Danube Wine Challenge IWC | H11: Súťaž vín z celého sveta je najprestížnejšia medzinárodná súťaž v stredoeurópskom priestore. Cieľom je poukázať na kvalitu slovenského vína a vyzdvuhnúť význam v medzinárodnom kontexte. | I11: SK0 | J11: 44741 | K11: schválená | L11: 08.11.2022 | M11: 5000 | N11: 27211/2022 | O11: 1080/2022/MPRVSR-340 | P11: 2360.87 | Q11: 0 | R11: 44903 | S11: 01.01.2022 | T11: 31.12.2022 | U11: 0 | V11: 0
A12: 11108/2022/POĽNO-1 | B12: Slovenská poľnohospodárska a potravinárska komora | C12: 31826253 | D12: komora | E12: 745 | F12: 15092/2022 | G12: Zabezpečenie plnenia úloh Slovenskej poľnohospodárskej a potravinárskej komory (SPPK) pre potreby MPRV SR na základe poverenia MPRV SR zo dňa 27.04.2021 pre SPPK a v zmysle listu MPRV SR č.z. 6322/2022 zo dňa 05.04.2022 pre Slovenskú poľnohospodársku a potravinársku komoru na zabezpečenie distribúcie a zberu informačných listov | H12: Poskytovanie údajov od subjektov podnikajúcich v poľnohospodárskej prvovýrobe a službách formou informačných listov s cieľom komplexnejšie posúdiť stav a vytvorenie podmienok pre ďalší rozvoj. Monitoring jarných, žatevných a jesenných prác. | I12: SK0 | J12: 44741 | K12: schválená | L12: 08.11.2022 | M12: 160000 | N12: 27207/2022 | O12: 1079/2022/MPRVSR-340 | P12: 160000 | Q12: 0 | R12: 44908 | S12: 01.01.2022 | T12: 31.12.2022 | U12: 0 | V12: 0
A13: 11108/2022/POĽNO-1 | B13: Združenie chovateľov rýb na Slovensku | C13: 31796672 | D13: občianske združenie | E13: 701 | F13: 14858/2022 | G13: CHOV RÝB NA SLOVENSKU - podpora tradičného chovu a predaja sladkovodných rýb | H13: Postupné napĺňanie cieľov Strategického plánu rozvoja akvakultúry do roku 2030 | I13: SK0 | J13: 44739 | K13: schválená | L13: 08.11.2022 | M13: 15000 | N13: 27191/2022 | O13: 1076/2022/MPRVSR-340 | P13: 7082.61 | Q13: 0 | R13: 44908 | S13: 01.01.2022 | T13: 31.12.2022 | U13: 0 | V13: 0
A14: 11108/2022/POĽNO-1 | B14: Agrárna komora Slovenska | C14: 42165083 | D14: občianske združenie | E14: 701 | F14: 14598/2022 | G14: Vzájomné informácie prinášajú úspechy | H14: Monitorovanie škôd na poľnohospodárskych plodinách v regiónoch SR, monitoring jarných, letných a jesenných prác, zber informačných listov o výsledkoch hospodárenia vybraných poľnohospodárskych subjektov | I14: SK0 | J14: 44734 | K14: schválená | L14: 08.11.2022 | M14: 30600 | N14: 27272/2022 | O14: 1088/2022/MPRVSR-340 | P14: 30600 | Q14: 0 | R14: 44914 | S14: 01.01.2022 | T14: 31.12.2022 | U14: 0 | V14: 0
A15: 11108/2022/POĽNO-1 | B15: Združenie mladých farmárov na Slovensku - ASYF | C15: 42116686 | D15: občianske združenie | E15: 701 | F15: 15343/2022 | G15: Podpora aktivít na propagáciu slovenského poľnohospodárstva a života na vidieku a integrovanie mladých farmárov Slovenska pri Konfederácii mladých farmárov EU - CEJA | H15: odovzdávanie informácií mladým farmárom a ich zastupovanie na národnej a medzinárodnej úrovni, presadzovania nástrojov, ktoré uľahčia začatie podnikania v poľnohospodárskom sektore, propagácia poľnohospodárstva ako životného štýlu na vidieku | I15: SK0 | J15: 44743 | K15: schválená | L15: 08.11.2022 | M15: 34562.34 | N15: 28665/2022 | O15: 1098/2022/MPRVSR-340 | P15: 16319.45 | Q15: 0 | R15: 44914 | S15: 01.01.2022 | T15: 31.12.2022 | U15: 0 | V15: 0
A16: 11108/2022/POĽNO-1 | B16: Slovenský zväz chovateľov | C16: 0178322 | D16: občianske združenie | E16: 701 | F16: 14689/2022 | G16: XXV. Celoštátna výstava zvierat a V. Medzinárodná výstava zvierat Vyšehradskej štvorky | H16: Vzorník plemien hydiny, elektronická plemenná kniha králikov, výstava, materiálne vybavenie: chovné klietky | I16: SK0 | J16: 44736 | K16: schválená | L16: 08.11.2022 | M16: 48000 | N16: 27185/2022 | O16: 1073/2022/MPRVSR-340 | P16: 22664.37 | Q16: 0 | R16: 44908 | S16: 01.01.2022 | T16: 31.12.2022 | U16: 0 | V16: 0
A17: 11108/2022/POĽNO-1 | B17: Občianske združenie pri Zväze chovateľov oviec a kôz | C17: 42195187 | D17: občianske združenie | E17: 701 | F17: 15173/2022 | G17: Medzinárodné majstrovstvá v strihaní oviec na Slovensku / Mladý začínajúci farmár | H17: Propagácia sektora chovu oviec a strihanie, školenia pre mladých začinajúcich farmárov | I17: SK0 | J17: 44742 | K17: schválená | L17: 08.11.2022 | M17: 43200 | N17: 27213/2022 | O17: 1072/2022/MPRVSR-340 | P17: 20397.93 | Q17: 0 | R17: 44913 | S17: 01.01.2022 | T17: 31.12.2022 | U17: 0 | V17: 14.97
A18: 11108/2022/POĽNO-1 | B18: Slovenský zväz záhradkárov Republikový výbor, občianske združenie | C18: 00178152 | D18: občianske združenie | E18: 701 | F18: 14955/2022 | G18: Celoslovenská súťaž O najkrajšie jablko / Poradenská činnosť v oblasti pestovania, ochrany, určovania rastlín / Floristická súťaž Jesenné inšpirácie dospelí a mládež / Výtvarná súťaž pre deti a mládež Čarovná záhrada | H18: podopra rastlinnej výroby - pestovanie ovocia na Slovensku, združovanie členov SZZ, záhradkárov, drobnopestovateľov, zabezpečenie samozásobovania záhradnými produktmi, podpora manuálnych zručností detí, mládeže a dospelých pri práci s kvetinami | I18: SK0 | J18: 44740 | K18: schválená | L18: 08.11.2022 | M18: 28899 | N18: 27193/2022 | O18: 1070/2022/MPRVSR-340 | P18: 13645.37 | Q18: 0 | R18: 44904 | S18: 01.01.2022 | T18: 31.12.2022 | U18: 0 | V18: 2702.25
A19: 11108/2022/POĽNO-1 | B19: Zemiakársky a zeleninársky zväz Slovenskej republiky | C19: 37800183 | D19: občianske združenie | E19: 701 | F19: 14961/2022 | G19: Harmonizácia hodnotenia kvality ovocia a zeleniny / Budúcnosť slovenského zeleninárstva a zemiakarstva | H19: Interpretácia noriem kvality a ich uplatňovanie v praxi, integrovaná produkcia ovocia a zeleniny, postup pestovateľov, školenie o vykonávaní kontrol kvality, téma znižovania poravinového odpadu, hľadanie cesty umiestňovania slovenskej zeleniny na slovenskom i zahraničnom trhu | I19: SK0 | J19: 44740 | K19: schválená | L19: 08.11.2022 | M19: 24340 | N19: 27194/2022 | O19: 1077/2022/MPRVSR-340 | P19: 11492.72 | Q19: 0 | R19: 44901 | S19: 01.01.2022 | T19: 31.12.2022 | U19: 0 | V19: 0
A20: 11108/2022/POĽNO-1 | B20: Slovenský zväz prvovýrobcov mlieka | C20: 37962876 | D20: občianske združenie | E20: 701 | F20: 15012/2022 | G20: Informácie a analýzy ako základ rozvoja podnikov prvovýroby mlieka | H20: Prispieť k rozvoju sektoru prvovýroby mlieka na Slovensku prostredníctvom zabezpečenia aktuálnych informácií a analýz na hodnotenie ekonomiky výroby mlieka, informačné podujatie 17. ročník "Deň prvovýrobcov mlieka" | I20: SK0 | J20: 44741 | K20: schválená | L20: 08.11.2022 | M20: 20000 | N20: 27195/2022 | O20: 1078/2022/MPRVSR-340 | P20: 9443.49 | Q20: 0 | R20: 44913 | S20: 01.01.2022 | T20: 31.12.2022 | U20: 0 | V20: 0
A21: 11108/2022/POĽNO-1 | B21: Zväz zeleninárov a zemiakarov Slovenska | C21: 42120381 | D21: občianske združenie | E21: 701 | F21: 15026/2022 | G21: Odborná a metodická pomoc členom Zväzu zeleninárov a zemiakarov Slovenska | H21: poskytnúť členom a spolupracujúcim spoločnostiam impulzy pre neustále zlepšovanie sa tak, aby domáca produkcia zeleniny bola konkurencie schopná voči importu hľadiac na efektivitu a kvalitu produkcie | I21: SK0 | J21: 44741 | K21: schválená | L21: 08.11.2022 | M21: 10000 | N21: 27201/2022 | O21: 1071/2022/MPRVSR-340 | P21: 4721.74 | Q21: 0 | R21: 44908 | S21: 01.01.2022 | T21: 31.12.2022 | U21: 0 | V21: 0
... A24: 11108/2022/POĽNO-1 | B24: VODA a RYBY - Spoločnosť pre ochranu vodných biotopov Slovenska, n. o. | C24: 54583811 | D24: občianske združenie | E24: 701 | F24: 14854/2022 | G24: Vplyv inváznych a nepôvodných druhov rýb na celkovú produkciu sladkovodných rýb v sektore akvakultúry na Slovensku | H24: Podrobná analýza sektora rybničnej akvakultúry na Slovensku, vyhodnotenie chovu rýb a dosahovanú produkciu sladkovodných rýb v rybníkoch a vodných nádržiach na Slovensku | I24: SK0 | J24: 44739 | K24: schválená | L24: 08.11.2022 | M24: 2050 | N24: 27186/2022 | O24: 1075/2022/MPRVSR-340 | P24: 967.96 | Q24: 0 | R24: 44913 | S24: 01.01.2022 | T24: 31.12.2022 | U24: 0 | V24: 0
A25: 11108/2022/POĽNO-1 | B25: Vidiecka platforma | C25: 50150251 | D25: občianske združenie | E25: 701 | F25: 15350/2022 | G25: Vidiek žije | H25: Organizácia seminárov, workshopov, prednášok, publikačná činnosť zamerané na prvovýrobcov, remeselníkov, podpora trvaloudržateľného života na vidieku | I25: SK0 | J25: 44743 | K25: schválená | L25: 08.11.2022 | N25: 27117/2022 | O25: 1083/2022/MPRVSR-340 | P25: 80000 | Q25: 0 | R25: 44894 | S25: 01.01.2022 | T25: 31.12.2022 | U25: 0 | V25: 2126
A26: 11112/2022/POTRAV-1 | B26: Slovenská poľnohospodárska a potravinárska komora | C26: 31826253 | D26: komora | E26: 745 | F26: 15091/2022 | G26: Príprava a realizácia X. ročníka týždňa Hovorme o jedle / Príprava a realizácia III. ročníka celoslovenskej súťažno-vzdelávacej aktivity Podpor svoj odbor | H26: podpora aktívnej účasti škôl pri vzdelávaní detí a mládeže o potravinách a dobrých stravovacích návykoch a podpora záujmu žiakov ZŚ o štúdium na SOŠ poskytujúcich vzdelávanie v poľnohospodárskych, potravinárskych, lesníckych a veterinárnych odboroch | I26: SK0 | J26: 29.06.2022 | K26: schválená | L26: 08.11.2022 | M26: 25630 | N26: 27216/2022 | O26: 1084/2022/MPRVSR-340 | P26: 20000 | Q26: 0 | R26: 13.12.2022 | S26: 01.01.2022 | T26: 31.12.2022 | U26: 0 | V26: 0
A27: 11112/2022/POTRAV-1 | B27: Klub poľnohospodárskych novinárov | C27: 00679437 | D27: občianske združenie | E27: 701 | F27: 15120/2022 | G27: Top Agro Slovensko 2021/2022 | H27: Súťaž ekonomických manažmentov všetkých podnikateľských foriem v agropotravinárstve | I27: SK0 | J27: 44741 | K27: schválená | L27: 08.11.2022 | M27: 12006 | N27: 27219/2022 | O27: 1085/2022/MPRVSR-340 | P27: 5000 | Q27: 0 | R27: 08.12.2022 | S27: 01.01.2022 | T27: 31.12.2022 | U27: 0 | V27: 0
A28: 11120/2022/LESY-1 | B28: Združenie vlastníkov spoločenstevných a súkromných lesov Banskobystrického kraja | C28: 37888838 | D28: občianske združenie | E28: 701 | F28: 13884/2022 | G28: Organizácia vzdelávacích a poradenských aktivít, školení, prednášok, konferencií, seminárov a pracovných stretnutí odborníkov. Účasť na odborných konferenciách členov Predstavenstva a Pozemkových spoločenstiev. | H28: Vzdelávanie a informovanosť členov, stretávanie v regiónoch, rozšírenie počtu odborníkov, poradenská, konzultačná a vzdelávacia činnosť pre členov ZVSaSL BBK | I28: SK0 | J28: 44727 | K28: schválená | L28: 24.10.2022 | M28: 5000 | N28: 26401/2022 | O28: 918/2022/MPRVSR-340 | P28: 5000 | Q28: 0 | R28: 44895 | S28: 01.01.2022 | T28: 31.12.2022 | U28: 0 | V28: 0
A29: 11120/2022/LESY-1 | B29: OZ ZELEŇ | C29: 50965760 | D29: občianske združenie | E29: 701 | F29: 13999/2022 | G29: Informovanosť obyvateľstva a najmä detí o význame poľovníckych činností v krajine nížin Slovenska | H29: Prezentácia pre verejnosť význam ochrany prírody a poľovníckych činností | I29: SK0 | J29: 44728 | K29: schválená | L29: 24.10.2022 | M29: 3600 | N29: 26390/2022 | O29: 919/2022/MPRVSR-340 | P29: 3600 | Q29: 0 | R29: 44890 | S29: 01.01.2022 | T29: 31.12.2022 | U29: 0 | V29: 0
A30: 11120/2022/LESY-1 | B30: Pro Silva Slovakia | C30: 54401437 | D30: občianske združenie | E30: 701 | F30: 15336/2022 | G30: Prírode blízke hospodárenie v lesníckej praxi | H30: Celoslovenský seminár, lesnícky deň, medzinárodná exkurzia v ČR a Nemecku, turistická náučná prechádzka pre odbornú a laickú verejnosť | I30: SK0 | J30: 44743 | K30: schválená | L30: 24.10.2022 | M30: 7315 | N30: 26391/2022 | O30: 927/2022/MPRVSR-340 | P30: 7315 | Q30: 0 | R30: 44896 | S30: 01.01.2022 | T30: 31.12.2022 | U30: 0 | V30: 0
A31: 11120/2022/LESY-1 | B31: Slovenská agrolesnícka asociácia | C31: 53495501 | D31: občianske združenie | E31: 701 | F31: 15329/2022 | G31: Rozvoj agrolesníckych systémov a rozširovanie povedomia o agrolesníctve na Slovensku | H31: Propagácia agrolesníckych systémo, ktoré sú adaptačnými opatreniami pri hospodárení na pôde | I31: SK0 | J31: 44742 | K31: schválená | L31: 24.10.2022 | M31: 44302 | N31: 26392/2022 | O31: 924/2022/MPRVSR-340 | P31: 10000 | Q31: 0 | R31: 44896 | S31: 01.01.2022 | T31: 31.12.2022 | U31: 0 | V31: 0
A32: 11120/2022/LESY-1 | B32: Slovenská lesnícka komora | C32: 00156621 | D32: komora | E32: 745 | F32: 14918/2022 | G32: Slovenská lesnícka komora pre lesy a lesníctvo v roku 2022 | H32: Vštepovanie deťom a mládeži pozitívny vzťah k prírode, lesnícke dni, komunikácia s verejnosťou - aktívna spolupráca lesníkov so zástupcami obcí, urbárov, vlastníkov neštátnych lesov, konferenice a semináre | I32: SK0 | J32: 44740 | K32: schválená | L32: 24.10.2022 | M32: 73500 | N32: 26395/2022 | O32: 921/2022/MPRVSR-340 | P32: 60820 | Q32: 0 | R32: 44894 | S32: 01.01.2022 | T32: 31.12.2022 | U32: 0 | V32: 0
A33: 11120/2022/LESY-1 | B33: Slovenská poľovnícka komora | C33: 42175682 | D33: komora | E33: 745 | F33: 14353/2022 | G33: Zastúpenie SR v spolupráci s ministerstvom v medzinárodných poľovníckych, kynologických, sokoliarskych a iných organizáciách, ktoré vykonávajú činnosť súvisiacu s poľovníctvom; zabezpečenie plnenia úloh Slovenskou poľovníckou komorou, ktorými ju poverí ministerstvo; organizácia súťaží a výstav, účasť na súťažiach a výstavách; organizácia medzinárodných podujatí, účasť na medzinárodných podujatiach; prezentácia vlastných činností; organizácia vzdelávacích a poradenských aktivít, školení, prednášok, konferencií, seminárov a pracovných stretnutí odborníkov, účasť na vzdelávacích a poradenských aktivitách, školeniach, prednáškach, konferenciách, seminároch a pracovných stretnutiach odborníkov; publikačná činnosť, práca s mladou generáciou; prezentácia prírodného, historického a kultúrneho dedičstva. | H33: Celoštátny poľovnícka výstava trofejí, Generálne zhromaždenie CIC v Rige, Generálne zhromaždenie FACE vo Varšave, stretnutie v Bruseli - aktivity EÚ, mediálna kampaň na prezentáciu prírodného, historického a kultúrneho dedičstva | I33: SK0 | J33: 44733 | K33: schválená | L33: 24.10.2022 | M33: 129500 | N33: 26396/2022 | O33: 920/2022/MPRVSR-340 | P33: 110000 | Q33: 0 | R33: 44890 | S33: 01.01.2022 | T33: 31.12.2022 | U33: 0 | V33: 0
A34: 11120/2022/LESY-1 | B34: Slovenský klub sokoliarov pri Slovenskej poľovníckej komore | C34: 4268982 | D34: komora | E34: 745 | F34: 15331/2022 | G34: Sokoliarstvo - nehmotné kultúrne dedičstvo Slovenska | H34: Celoslovenská výstava Poľovníctvo a príroda s medzinárodnou účasťou a prezentácia vlastných činností | I34: SK0 | J34: 44743 | K34: schválená | L34: 24.10.2022 | M34: 10000 | N34: 26393/2022 | O34: 925/2022/MPRVSR-340 | P34: 10000 | Q34: 0 | R34: 44896 | S34: 01.01.2022 | T34: 31.12.2022 | U34: 0 | V34: 1000
A35: 11120/2022/LESY-1 | B35: Gemerské regionálne združenie vlastníkov neštátnych lesov | C35: 31946453 | D35: občianske združenie | E35: 701 | F35: 15334/2022 | G35: Riešenie aktuálnych problémov neštátnych vlastníkov | H35: Cyklus semonárov, školení, vzdelávacích a poradenských aktivít, pracovných stretnutí a účasť na odborných seminároch a školeniach o problematike hospodárenia v lese | I35: SK0 | J35: 44743 | K35: schválená | L35: 24.10.2022 | M35: 5000 | N35: 26388/2022 | O35: 926/2022/MPRVSR-340 | P35: 5000 | Q35: 0 | R35: 44889 | S35: 01.01.2022 | T35: 31.12.2022 | U35: 0 | V35: 0
A36: 11120/2022/LESY-1 | B36: ÚNIA regionálnych združení vlastníkov neštátnych lesov Slovenska | C36: 35531657 | D36: občianske združenie | E36: 701 | F36: 15175/2022 | G36: WelcomeToMyForest - VITAJTE V NAŠICH SÚKROMNÝCH LESOCH 2022 | H36: Účasť na medzinárodných aktivitách k Sústave Natura 2000 a Sústave chránených území pre Karpaty a Sústave chránených území pre Alpy, Konfederácia európskych vlastníkov lesov (CEPF), regionálne informačné dni v jednotlivých členských regiónoch o najnovších aktualitách v lesnom hospodárstve so zameraním na všetky oblasti ovplyvňujúce vlastníctvo a obhospodarovanie neštátnych lesov na Slovensku | I36: SK0 | J36: 44742 | K36: schválená | L36: 24.10.2022 | M36: 30000 | N36: 26397/2022 | O36: 922/2022/MPRVSR-340 | P36: 26000 | Q36: 0 | R36: 44889 | S36: 01.01.2022 | T36: 31.12.2022 | U36: 0 | V36: 0
A37: 11120/2022/LESY-1 | B37: Združenie lesných škôlkarov Slovenskej republiky | C37: 36150622 | D37: občianske združenie | E37: 701 | F37: 15181/2022 | G37: Medzinárodná konferencia Lesné semenárstvo, škôlkarstvo a umelá obnova lesa 2022 | H37: Medzinárodná konferencia v Lipt. Jáne (2 dni) zameraná na transfer nových poznatkov v oblasti lesného semenárstva, škôlkarstva a umelej obnovy lesa do praxe | I37: SK0 | J37: 44742 | K37: schválená | L37: 24.10.2022 | M37: 14125.4 | N37: 26399/2022 | O37: 923/2022/MPRVSR-340 | P37: 12265 | Q37: 0 | R37: 44914 | S37: 01.01.2022 | T37: 31.12.2022 | U37: 0 | V37: 187.4
A38: 13942/2022/OPEĽOVACIA | B38: SLOVENSKÍ VČELÁRI | C38: 50920138 | D38: občianske združenie | E38: 701 | F38: 18476/2022 | G38: Dotácia na opeľovaciu činnosť včiel | H38: Dotácia na podporu opeľovacej činnosti včiel určená zaregistrovaným včelárom v CEHZ, ktorí nevykonávajú včelárstvo ako hospodársku činnosť. Dotácia na jedno včelstvo v sume 4,00 € | I38: SK0 | J38: 44785 | K38: schválená | L38: 01.12.2022 | M38: 201444 | N38: 28666/2022 | O38: 1134/2022/MPRVSR-340 | P38: 201444 | Q38: 0 | R38: 21.12.2022 | S38: 01.01.2022 | T38: 31.12.2022 | U38: 0 | V38: 44
A39: 13942/2022/OPEĽOVACIA | B39: SLOVENSKÝ ZVÄZ VČELÁROV | C39: 00178349 | D39: občianske združenie | E39: 701 | F39: 18492/2022 | G39: Opeľovacia činnosť včiel | H39: Dotácia na podporu opeľovacej činnosti včiel určená zaregistrovaným včelárom v CEHZ, ktorí nevykonávajú včelárstvo ako hospodársku činnosť. Dotácia na jedno včelstvo v sume 4,00 € | I39: SK0 | J39: 44785 | K39: schválená | L39: 01.12.2022 | M39: 999828 | N39: 28852/2022 | O39: 1135/2022/MPRVSR-340 | P39: 994596 | Q39: 0 | R39: 44915 | S39: 01.01.2022 | T39: 31.12.2022 | U39: 0 | V39: 2996
A40: Chovatelia – nepodnikatelia (škody) – straty na zvieratách a zariadeniach 2022 | B40: =[1]Žiadatelia_včely!F2 -> Pangrác | C40: fyzická osoba | D40: fyzická osoba | E40: fyzická osoba | F40: =[1]Žiadatelia_včely!T2 -> 12856/2022 | G40: na kompenzáciu strát na zvieratách a zlikvidovaných zariadeniach na chov zvierat, ktoré vznikli v dôsledku nariadených veterinárnych opatrení – mor včelieho plodu | H40: na kompenzáciu strát na zvieratách a zlikvidovaných zariadeniach na chov zvierat, ktoré vznikli v dôsledku nariadených veterinárnych opatrení – mor včelieho plodu | I40: SK0 | J40: =[1]Žiadatelia_včely!S2 -> 44715 | K40: schválená | L40: 15.11.2022 | M40: =[1]Žiadatelia_včely!V2 -> 3900 | N40: =[1]Žiadatelia_včely!C2 -> 22570/2022 | O40: =[1]Žiadatelia_včely!B2 -> 940/2022/MPRVSR-340 | P40: =[1]Žiadatelia_včely!P2 -> 3238 | Q40: 0 | R40: 12.12.2022 | S40: 01.01.2022 | T40: 31.12.2022 | U40: 0 | V40: 0
A41: Chovatelia – nepodnikatelia (škody) – straty na zvieratách a zariadeniach 2022 | B41: =[1]Žiadatelia_včely!F3 -> Ľubek | C41: fyzická osoba | D41: fyzická osoba | E41: fyzická osoba | F41: =[1]Žiadatelia_včely!T3 -> 13369/2022 | G41: na kompenzáciu strát na zvieratách a zlikvidovaných zariadeniach na chov zvierat, ktoré vznikli v dôsledku nariadených veterinárnych opatrení – mor včelieho plodu | H41: na kompenzáciu strát na zvieratách a zlikvidovaných zariadeniach na chov zvierat, ktoré vznikli v dôsledku nariadených veterinárnych opatrení – mor včelieho plodu | I41: SK0 | J41: =[1]Žiadatelia_včely!S3 -> 44721 | K41: schválená | L41: 15.11.2022 | M41: =[1]Žiadatelia_včely!V3 -> 3857.97 | N41: =[1]Žiadatelia_včely!C3 -> 22573/2022 | O41: =[1]Žiadatelia_včely!B3 -> 941/2022/MPRVSR-340 | P41: =[1]Žiadatelia_včely!P3 -> 2284.5 | Q41: 0 | R41: 16.12.2022 | S41: 01.01.2022 | T41: 31.12.2022 | U41: 0 | V41: 0
A42: Chovatelia – nepodnikatelia (škody) – straty na zvieratách a zariadeniach 2022 | B42: =[1]Žiadatelia_včely!F4 -> Kacko | C42: fyzická osoba | D42: fyzická osoba | E42: fyzická osoba | F42: =[1]Žiadatelia_včely!T4 -> 13795/2022 | G42: na kompenzáciu strát na zvieratách a zlikvidovaných zariadeniach na chov zvierat, ktoré vznikli v dôsledku nariadených veterinárnych opatrení – mor včelieho plodu | H42: na kompenzáciu strát na zvieratách a zlikvidovaných zariadeniach na chov zvierat, ktoré vznikli v dôsledku nariadených veterinárnych opatrení – mor včelieho plodu | I42: SK0 | J42: =[1]Žiadatelia_včely!S4 -> 44726 | K42: schválená | L42: 15.11.2022 | M42: =[1]Žiadatelia_včely!V4 -> 3027.6 | N42: =[1]Žiadatelia_včely!C4 -> 22574/2022 | O42: =[1]Žiadatelia_včely!B4 -> 942/2022/MPRVSR-340 | P42: =[1]Žiadatelia_včely!P4 -> 926 | Q42: 0 | R42: 12.12.2022 | S42: 01.01.2022 | T42: 31.12.2022 | U42: 0 | V42: 0
A43: Chovatelia – nepodnikatelia (škody) – straty na zvieratách a zariadeniach 2022 | B43: =[1]Žiadatelia_včely!F5 -> Stančík | C43: fyzická osoba | D43: fyzická osoba | E43: fyzická osoba | F43: =[1]Žiadatelia_včely!T5 -> 13881/2022 | G43: na kompenzáciu strát na zvieratách a zlikvidovaných zariadeniach na chov zvierat, ktoré vznikli v dôsledku nariadených veterinárnych opatrení – mor včelieho plodu | H43: na kompenzáciu strát na zvieratách a zlikvidovaných zariadeniach na chov zvierat, ktoré vznikli v dôsledku nariadených veterinárnych opatrení – mor včelieho plodu | I43: SK0 | J43: =[1]Žiadatelia_včely!S5 -> 44727 | K43: schválená | L43: 15.11.2022 | M43: =[1]Žiadatelia_včely!V5 -> 432 | N43: =[1]Žiadatelia_včely!C5 -> 22576/2022 | O43: =[1]Žiadatelia_včely!B5 -> 943/2022/MPRVSR-340 | P43: =[1]Žiadatelia_včely!P5 -> 414 | Q43: 0 | R43: 31.01.2023 | S43: 01.01.2022 | T43: 31.12.2022 | U43: 0 | V43: 0
A44: Chovatelia – nepodnikatelia (škody) – straty na zvieratách a zariadeniach 2022 | B44: =[1]Žiadatelia_včely!F6 -> Tomašová | C44: fyzická osoba | D44: fyzická osoba | E44: fyzická osoba | F44: =[1]Žiadatelia_včely!T6 -> 14114/2022 | G44: na kompenzáciu strát na zvieratách a zlikvidovaných zariadeniach na chov zvierat, ktoré vznikli v dôsledku nariadených veterinárnych opatrení – mor včelieho plodu | H44: na kompenzáciu strát na zvieratách a zlikvidovaných zariadeniach na chov zvierat, ktoré vznikli v dôsledku nariadených veterinárnych opatrení – mor včelieho plodu | I44: SK0 | J44: =[1]Žiadatelia_včely!S6 -> 44729 | K44: schválená | L44: 15.11.2022 | M44: =[1]Žiadatelia_včely!V6 -> 1185.9 | N44: =[1]Žiadatelia_včely!C6 -> 22578/2022 | O44: =[1]Žiadatelia_včely!B6 -> 944/2022/MPRVSR-340 | P44: =[1]Žiadatelia_včely!P6 -> 1170 | Q44: 0 | R44: 14.12.2022 | S44: 01.01.2022 | T44: 31.12.2022 | U44: 0 | V44: 0
A45: Chovatelia – nepodnikatelia (škody) – straty na zvieratách a zariadeniach 2022 | B45: =[1]Žiadatelia_včely!F7 -> Maslaňák | C45: fyzická osoba | D45: fyzická osoba | E45: fyzická osoba | F45: =[1]Žiadatelia_včely!T7 -> 14117/2022 | G45: na kompenzáciu strát na zvieratách a zlikvidovaných zariadeniach na chov zvierat, ktoré vznikli v dôsledku nariadených veterinárnych opatrení – mor včelieho plodu | H45: na kompenzáciu strát na zvieratách a zlikvidovaných zariadeniach na chov zvierat, ktoré vznikli v dôsledku nariadených veterinárnych opatrení – mor včelieho plodu | I45: SK0 | J45: =[1]Žiadatelia_včely!S7 -> 44729 | K45: schválená | L45: 15.11.2022 | M45: =[1]Žiadatelia_včely!V7 -> 3307 | N45: =[1]Žiadatelia_včely!C7 -> 22581/2022 | O45: =[1]Žiadatelia_včely!B7 -> 945/2022/MPRVSR-340 | P45: =[1]Žiadatelia_včely!P7 -> 2777 | Q45: 0 | R45: 18.12.2022 | S45: 01.01.2022 | T45: 31.12.2022 | U45: 0 | V45: 0
A46: Chovatelia – nepodnikatelia (škody) – straty na zvieratách a zariadeniach 2022 | B46: =[1]Žiadatelia_včely!F8 -> Biskup | C46: fyzická osoba | D46: fyzická osoba | E46: fyzická osoba | F46: =[1]Žiadatelia_včely!T8 -> 14119/2022 | G46: na kompenzáciu strát na zvieratách a zlikvidovaných zariadeniach na chov zvierat, ktoré vznikli v dôsledku nariadených veterinárnych opatrení – mor včelieho plodu | H46: na kompenzáciu strát na zvieratách a zlikvidovaných zariadeniach na chov zvierat, ktoré vznikli v dôsledku nariadených veterinárnych opatrení – mor včelieho plodu | I46: SK0 | J46: =[1]Žiadatelia_včely!S8 -> 44729 | K46: schválená | L46: 15.11.2022 | M46: =[1]Žiadatelia_včely!V8 -> 9171.5 | N46: =[1]Žiadatelia_včely!C8 -> 22584/2022 | O46: =[1]Žiadatelia_včely!B8 -> 946/2022/MPRVSR-340 | P46: =[1]Žiadatelia_včely!P8 -> 9171.5 | Q46: 0 | R46: 18.12.2022 | S46: 01.01.2022 | T46: 31.12.2022 | U46: 0 | V46: 0
A47: Chovatelia – nepodnikatelia (škody) – straty na zvieratách a zariadeniach 2022 | B47: =[1]Žiadatelia_včely!F9 -> Blažej | C47: fyzická osoba | D47: fyzická osoba | E47: fyzická osoba | F47: =[1]Žiadatelia_včely!T9 -> 14248/2022 | G47: na kompenzáciu strát na zvieratách a zlikvidovaných zariadeniach na chov zvierat, ktoré vznikli v dôsledku nariadených veterinárnych opatrení – mor včelieho plodu | H47: na kompenzáciu strát na zvieratách a zlikvidovaných zariadeniach na chov zvierat, ktoré vznikli v dôsledku nariadených veterinárnych opatrení – mor včelieho plodu | I47: SK0 | J47: =[1]Žiadatelia_včely!S9 -> 44732 | K47: schválená | L47: 15.11.2022 | M47: =[1]Žiadatelia_včely!V9 -> 1138 | N47: =[1]Žiadatelia_včely!C9 -> 22585/2022 | O47: =[1]Žiadatelia_včely!B9 -> 947/2022/MPRVSR-340 | P47: =[1]Žiadatelia_včely!P9 -> 1188 | Q47: 0 | R47: 18.12.2022 | S47: 01.01.2022 | T47: 31.12.2022 | U47: 0 | V47: 0
A48: Chovatelia – nepodnikatelia (škody) – straty na zvieratách a zariadeniach 2022 | B48: =[1]Žiadatelia_včely!F10 -> Majkut | C48: fyzická osoba | D48: fyzická osoba | E48: fyzická osoba | F48: =[1]Žiadatelia_včely!T10 -> 14473/2022 | G48: na kompenzáciu strát na zvieratách a zlikvidovaných zariadeniach na chov zvierat, ktoré vznikli v dôsledku nariadených veterinárnych opatrení – mor včelieho plodu | H48: na kompenzáciu strát na zvieratách a zlikvidovaných zariadeniach na chov zvierat, ktoré vznikli v dôsledku nariadených veterinárnych opatrení – mor včelieho plodu | I48: SK0 | J48: =[1]Žiadatelia_včely!S10 -> 44734 | K48: schválená | L48: 15.11.2022 | M48: =[1]Žiadatelia_včely!V10 -> 305.6 | N48: =[1]Žiadatelia_včely!C10 -> 22587/2022 | O48: =[1]Žiadatelia_včely!B10 -> 948/2022/MPRVSR-340 | P48: =[1]Žiadatelia_včely!P10 -> 264.1 | Q48: 0 | R48: 14.12.2022 | S48: 01.01.2022 | T48: 31.12.2022 | U48: 0 | V48: 0
A49: Chovatelia – nepodnikatelia (škody) – straty na zvieratách a zariadeniach 2022 | B49: =[1]Žiadatelia_včely!F11 -> Florek | C49: fyzická osoba | D49: fyzická osoba | E49: fyzická osoba | F49: =[1]Žiadatelia_včely!T11 -> 14474/2022 | G49: na kompenzáciu strát na zvieratách a zlikvidovaných zariadeniach na chov zvierat, ktoré vznikli v dôsledku nariadených veterinárnych opatrení – mor včelieho plodu | H49: na kompenzáciu strát na zvieratách a zlikvidovaných zariadeniach na chov zvierat, ktoré vznikli v dôsledku nariadených veterinárnych opatrení – mor včelieho plodu | I49: SK0 | J49: =[1]Žiadatelia_včely!S11 -> 44734 | K49: schválená | L49: 15.11.2022 | M49: =[1]Žiadatelia_včely!V11 -> 1602.37 | N49: =[1]Žiadatelia_včely!C11 -> 22589/2022 | O49: =[1]Žiadatelia_včely!B11 -> 949/2022/MPRVSR-340 | P49: =[1]Žiadatelia_včely!P11 -> 1108 | Q49: 0 | R49: 18.12.2022 | S49: 01.01.2022 | T49: 31.12.2022 | U49: 0 | V49: 0
A50: Chovatelia – nepodnikatelia (škody) – straty na zvieratách a zariadeniach 2022 | B50: =[1]Žiadatelia_včely!F12 -> Kavoň | C50: fyzická osoba | D50: fyzická osoba | E50: fyzická osoba | F50: =[1]Žiadatelia_včely!T12 -> 14579/2022 | G50: na kompenzáciu strát na zvieratách a zlikvidovaných zariadeniach na chov zvierat, ktoré vznikli v dôsledku nariadených veterinárnych opatrení – mor včelieho plodu | H50: na kompenzáciu strát na zvieratách a zlikvidovaných zariadeniach na chov zvierat, ktoré vznikli v dôsledku nariadených veterinárnych opatrení – mor včelieho plodu | I50: SK0 | J50: =[1]Žiadatelia_včely!S12 -> 44735 | K50: schválená | L50: 15.11.2022 | M50: =[1]Žiadatelia_včely!V12 -> 927 | N50: =[1]Žiadatelia_včely!C12 -> 22590/2022 | O50: =[1]Žiadatelia_včely!B12 -> 950/2022/MPRVSR-340 | P50: =[1]Žiadatelia_včely!P12 -> 1071.5 | Q50: 0 | R50: 16.12.2022 | S50: 01.01.2022 | T50: 31.12.2022 | U50: 0 | V50: 0
A51: Chovatelia – nepodnikatelia (škody) – straty na zvieratách a zariadeniach 2022 | B51: =[1]Žiadatelia_včely!F13 -> Šedivý | C51: fyzická osoba | D51: fyzická osoba | E51: fyzická osoba | F51: =[1]Žiadatelia_včely!T13 -> 14580/2022 | G51: na kompenzáciu strát na zvieratách a zlikvidovaných zariadeniach na chov zvierat, ktoré vznikli v dôsledku nariadených veterinárnych opatrení – mor včelieho plodu | H51: na kompenzáciu strát na zvieratách a zlikvidovaných zariadeniach na chov zvierat, ktoré vznikli v dôsledku nariadených veterinárnych opatrení – mor včelieho plodu | I51: SK0 | J51: =[1]Žiadatelia_včely!S13 -> 44735 | K51: schválená | L51: 15.11.2022 | M51: =[1]Žiadatelia_včely!V13 -> 1518 | N51: =[1]Žiadatelia_včely!C13 -> 22591/2022 | O51: =[1]Žiadatelia_včely!B13 -> 951/2022/MPRVSR-340 | P51: =[1]Žiadatelia_včely!P13 -> 2425 | Q51: 0 | R51: 12.12.2022 | S51: 01.01.2022 | T51: 31.12.2022 | U51: 0 | V51: 0
... A59: Chovatelia – nepodnikatelia (škody) – straty na zvieratách a zariadeniach 2022 | B59: =[1]Žiadatelia_včely!F21 -> Staník | C59: fyzická osoba | D59: fyzická osoba | E59: fyzická osoba | F59: =[1]Žiadatelia_včely!T21 -> 15806/2022 | G59: na kompenzáciu strát na zvieratách a zlikvidovaných zariadeniach na chov zvierat, ktoré vznikli v dôsledku nariadených veterinárnych opatrení – mor včelieho plodu | H59: na kompenzáciu strát na zvieratách a zlikvidovaných zariadeniach na chov zvierat, ktoré vznikli v dôsledku nariadených veterinárnych opatrení – mor včelieho plodu | I59: SK0 | J59: =[1]Žiadatelia_včely!S21 -> 44753 | K59: schválená | L59: 15.11.2022 | M59: =[1]Žiadatelia_včely!V21 -> 2736 | N59: =[1]Žiadatelia_včely!C21 -> 22601/2022 | O59: =[1]Žiadatelia_včely!B21 -> 959/2022/MPRVSR-340 | P59: =[1]Žiadatelia_včely!P21 -> 2449.5 | Q59: 0 | R59: 15.12.2022 | S59: 01.01.2022 | T59: 31.12.2022 | U59: 0 | V59: 0
A60: Chovatelia – nepodnikatelia (škody) – straty na zvieratách a zariadeniach 2022 | B60: =[1]Žiadatelia_včely!F23 -> Petrus | C60: fyzická osoba | D60: fyzická osoba | E60: fyzická osoba | F60: =[1]Žiadatelia_včely!T23 -> 16045/2022 | G60: na kompenzáciu strát na zvieratách a zlikvidovaných zariadeniach na chov zvierat, ktoré vznikli v dôsledku nariadených veterinárnych opatrení – mor včelieho plodu | H60: na kompenzáciu strát na zvieratách a zlikvidovaných zariadeniach na chov zvierat, ktoré vznikli v dôsledku nariadených veterinárnych opatrení – mor včelieho plodu | I60: SK0 | J60: =[1]Žiadatelia_včely!S23 -> 44755 | K60: schválená | L60: 15.11.2022 | M60: =[1]Žiadatelia_včely!V23 -> 5343.8 | N60: =[1]Žiadatelia_včely!C23 -> 22603/2022 | O60: =[1]Žiadatelia_včely!B23 -> 960/2022/MPRVSR-340 | P60: =[1]Žiadatelia_včely!P23 -> 4163.8 | Q60: 0 | R60: 13.12.2022 | S60: 01.01.2022 | T60: 31.12.2022 | U60: 0 | V60: 0
A61: Chovatelia – nepodnikatelia (škody) – straty na zvieratách a zariadeniach 2022 | B61: =[1]Žiadatelia_včely!F24 -> Osif | C61: fyzická osoba | D61: fyzická osoba | E61: fyzická osoba | F61: =[1]Žiadatelia_včely!T24 -> 16866/2022 | G61: na kompenzáciu strát na zvieratách a zlikvidovaných zariadeniach na chov zvierat, ktoré vznikli v dôsledku nariadených veterinárnych opatrení – mor včelieho plodu | H61: na kompenzáciu strát na zvieratách a zlikvidovaných zariadeniach na chov zvierat, ktoré vznikli v dôsledku nariadených veterinárnych opatrení – mor včelieho plodu | I61: SK0 | J61: =[1]Žiadatelia_včely!S24 -> 44764 | K61: schválená | L61: 15.11.2022 | M61: =[1]Žiadatelia_včely!V24 -> 2399.8 | N61: =[1]Žiadatelia_včely!C24 -> 22604/2022 | O61: =[1]Žiadatelia_včely!B24 -> 961/2022/MPRVSR-340 | P61: =[1]Žiadatelia_včely!P24 -> 2399.8 | Q61: 0 | R61: 15.12.2022 | S61: 01.01.2022 | T61: 31.12.2022 | U61: 0 | V61: 0
A62: Chovatelia – nepodnikatelia (škody) – straty na zvieratách a zariadeniach 2022 | B62: =[1]Žiadatelia_včely!F25 -> Jakub | C62: fyzická osoba | D62: fyzická osoba | E62: fyzická osoba | F62: =[1]Žiadatelia_včely!T25 -> 17027/2022 | G62: na kompenzáciu strát na zvieratách a zlikvidovaných zariadeniach na chov zvierat, ktoré vznikli v dôsledku nariadených veterinárnych opatrení – mor včelieho plodu | H62: na kompenzáciu strát na zvieratách a zlikvidovaných zariadeniach na chov zvierat, ktoré vznikli v dôsledku nariadených veterinárnych opatrení – mor včelieho plodu | I62: SK0 | J62: =[1]Žiadatelia_včely!S25 -> 44768 | K62: schválená | L62: 15.11.2022 | M62: =[1]Žiadatelia_včely!V25 -> 3966 | N62: =[1]Žiadatelia_včely!C25 -> 22605/2022 | O62: =[1]Žiadatelia_včely!B25 -> 962/2022/MPRVSR-340 | P62: =[1]Žiadatelia_včely!P25 -> 2014.2 | Q62: 0 | R62: 12.12.2022 | S62: 01.01.2022 | T62: 31.12.2022 | U62: 0 | V62: 0
A63: Chovatelia – nepodnikatelia (škody) – straty na zvieratách a zariadeniach 2022 | B63: =[1]Žiadatelia_včely!F26 -> Drobný | C63: fyzická osoba | D63: fyzická osoba | E63: fyzická osoba | F63: =[1]Žiadatelia_včely!T26 -> 17370/2022 | G63: na kompenzáciu strát na zvieratách a zlikvidovaných zariadeniach na chov zvierat, ktoré vznikli v dôsledku nariadených veterinárnych opatrení – mor včelieho plodu | H63: na kompenzáciu strát na zvieratách a zlikvidovaných zariadeniach na chov zvierat, ktoré vznikli v dôsledku nariadených veterinárnych opatrení – mor včelieho plodu | I63: SK0 | J63: =[1]Žiadatelia_včely!S26 -> 44771 | K63: schválená | L63: 15.11.2022 | M63: =[1]Žiadatelia_včely!V26 -> 426 | N63: =[1]Žiadatelia_včely!C26 -> 22607/2022 | O63: =[1]Žiadatelia_včely!B26 -> 963/2022/MPRVSR-340 | P63: =[1]Žiadatelia_včely!P26 -> 446 | Q63: 0 | R63: 12.12.2022 | S63: 01.01.2022 | T63: 31.12.2022 | U63: 0 | V63: 0
A64: Chovatelia – nepodnikatelia (škody) – straty na zvieratách a zariadeniach 2022 | B64: =[1]Žiadatelia_včely!F27 -> Gusman | C64: fyzická osoba | D64: fyzická osoba | E64: fyzická osoba | F64: =[1]Žiadatelia_včely!T27 -> 17492/2022 | G64: na kompenzáciu strát na zvieratách a zlikvidovaných zariadeniach na chov zvierat, ktoré vznikli v dôsledku nariadených veterinárnych opatrení – mor včelieho plodu | H64: na kompenzáciu strát na zvieratách a zlikvidovaných zariadeniach na chov zvierat, ktoré vznikli v dôsledku nariadených veterinárnych opatrení – mor včelieho plodu | I64: SK0 | J64: =[1]Žiadatelia_včely!S27 -> 44774 | K64: schválená | L64: 15.11.2022 | M64: =[1]Žiadatelia_včely!V27 -> 1560 | N64: =[1]Žiadatelia_včely!C27 -> 22608/2022 | O64: =[1]Žiadatelia_včely!B27 -> 964/2022/MPRVSR-340 | P64: =[1]Žiadatelia_včely!P27 -> 2693 | Q64: 0 | R64: 12.12.2022 | S64: 01.01.2022 | T64: 31.12.2022 | U64: 0 | V64: 0
A65: Chovatelia – nepodnikatelia (škody) – straty na zvieratách a zariadeniach 2022 | B65: =[1]Žiadatelia_včely!F28 -> Cimrák | C65: fyzická osoba | D65: fyzická osoba | E65: fyzická osoba | F65: =[1]Žiadatelia_včely!T28 -> 17494/2022 | G65: na kompenzáciu strát na zvieratách a zlikvidovaných zariadeniach na chov zvierat, ktoré vznikli v dôsledku nariadených veterinárnych opatrení – mor včelieho plodu | H65: na kompenzáciu strát na zvieratách a zlikvidovaných zariadeniach na chov zvierat, ktoré vznikli v dôsledku nariadených veterinárnych opatrení – mor včelieho plodu | I65: SK0 | J65: =[1]Žiadatelia_včely!S28 -> 44774 | K65: schválená | L65: 15.11.2022 | M65: =[1]Žiadatelia_včely!V28 -> 997.3 | N65: =[1]Žiadatelia_včely!C28 -> 22609/2022 | O65: =[1]Žiadatelia_včely!B28 -> 965/2022/MPRVSR-340 | P65: =[1]Žiadatelia_včely!P28 -> 569 | Q65: 0 | R65: 14.12.2022 | S65: 01.01.2022 | T65: 31.12.2022 | U65: 0 | V65: 0
A66: Chovatelia – nepodnikatelia (škody) – straty na zvieratách a zariadeniach 2022 | B66: =[1]Žiadatelia_včely!F29 -> Gendiar | C66: fyzická osoba | D66: fyzická osoba | E66: fyzická osoba | F66: =[1]Žiadatelia_včely!T29 -> 17510/2022 | G66: na kompenzáciu strát na zvieratách a zlikvidovaných zariadeniach na chov zvierat, ktoré vznikli v dôsledku nariadených veterinárnych opatrení – mor včelieho plodu | H66: na kompenzáciu strát na zvieratách a zlikvidovaných zariadeniach na chov zvierat, ktoré vznikli v dôsledku nariadených veterinárnych opatrení – mor včelieho plodu | I66: SK0 | J66: =[1]Žiadatelia_včely!S29 -> 44774 | K66: schválená | L66: 15.11.2022 | M66: =[1]Žiadatelia_včely!V29 -> 1397 | N66: =[1]Žiadatelia_včely!C29 -> 22623/2022 | O66: =[1]Žiadatelia_včely!B29 -> 966/2022/MPRVSR-340 | P66: =[1]Žiadatelia_včely!P29 -> 1363 | Q66: 0 | R66: 16.12.2022 | S66: 01.01.2022 | T66: 31.12.2022 | U66: 0 | V66: 0
A67: Chovatelia – nepodnikatelia (škody) – straty na zvieratách a zariadeniach 2022 | B67: =[1]Žiadatelia_včely!F30 -> Ľaš | C67: fyzická osoba | D67: fyzická osoba | E67: fyzická osoba | F67: =[1]Žiadatelia_včely!T30 -> 17585/2022 | G67: na kompenzáciu strát na zvieratách a zlikvidovaných zariadeniach na chov zvierat, ktoré vznikli v dôsledku nariadených veterinárnych opatrení – mor včelieho plodu | H67: na kompenzáciu strát na zvieratách a zlikvidovaných zariadeniach na chov zvierat, ktoré vznikli v dôsledku nariadených veterinárnych opatrení – mor včelieho plodu | I67: SK0 | J67: =[1]Žiadatelia_včely!S30 -> 44775 | K67: schválená | L67: 15.11.2022 | M67: =[1]Žiadatelia_včely!V30 -> 2303.2 | N67: =[1]Žiadatelia_včely!C30 -> 22625/2022 | O67: =[1]Žiadatelia_včely!B30 -> 967/2022/MPRVSR-340 | P67: =[1]Žiadatelia_včely!P30 -> 0 | Q67: 0 | R67: 15.12.2022 | S67: 01.01.2022 | T67: 31.12.2022 | U67: 0 | V67: 0
A68: Chovatelia – nepodnikatelia (škody) – straty na zvieratách a zariadeniach 2022 | B68: =[1]Žiadatelia_včely!F31 -> Kubovčík | C68: fyzická osoba | D68: fyzická osoba | E68: fyzická osoba | F68: =[1]Žiadatelia_včely!T31 -> 17686/2022 | G68: na kompenzáciu strát na zvieratách a zlikvidovaných zariadeniach na chov zvierat, ktoré vznikli v dôsledku nariadených veterinárnych opatrení – mor včelieho plodu | H68: na kompenzáciu strát na zvieratách a zlikvidovaných zariadeniach na chov zvierat, ktoré vznikli v dôsledku nariadených veterinárnych opatrení – mor včelieho plodu | I68: SK0 | J68: =[1]Žiadatelia_včely!S31 -> 44776 | K68: schválená | L68: 15.11.2022 | M68: =[1]Žiadatelia_včely!V31 -> 795 | N68: =[1]Žiadatelia_včely!C31 -> 22630/2022 | O68: =[1]Žiadatelia_včely!B31 -> 968/2022/MPRVSR-340 | P68: =[1]Žiadatelia_včely!P31 -> 635 | Q68: 0 | R68: 18.12.2022 | S68: 01.01.2022 | T68: 31.12.2022 | U68: 0 | V68: 0
A69: Chovatelia – nepodnikatelia (škody) – straty na zvieratách a zariadeniach 2022 | B69: =[1]Žiadatelia_včely!F32 -> Struhačka | C69: fyzická osoba | D69: fyzická osoba | E69: fyzická osoba | F69: =[1]Žiadatelia_včely!T32 -> 18006/2022 | G69: na kompenzáciu strát na zvieratách a zlikvidovaných zariadeniach na chov zvierat, ktoré vznikli v dôsledku nariadených veterinárnych opatrení – mor včelieho plodu | H69: na kompenzáciu strát na zvieratách a zlikvidovaných zariadeniach na chov zvierat, ktoré vznikli v dôsledku nariadených veterinárnych opatrení – mor včelieho plodu | I69: SK0 | J69: =[1]Žiadatelia_včely!S32 -> 44781 | K69: schválená | L69: 15.11.2022 | M69: =[1]Žiadatelia_včely!V32 -> 5406 | N69: =[1]Žiadatelia_včely!C32 -> 22631/2022 | O69: =[1]Žiadatelia_včely!B32 -> 969/2022/MPRVSR-340 | P69: =[1]Žiadatelia_včely!P32 -> 5406 | Q69: 0 | R69: 14.12.2022 | S69: 01.01.2022 | T69: 31.12.2022 | U69: 0 | V69: 0
A70: Chovatelia – nepodnikatelia (škody) – straty na zvieratách a zariadeniach 2022 | B70: =[1]Žiadatelia_včely!F33 -> Čavoš | C70: fyzická osoba | D70: fyzická osoba | E70: fyzická osoba | F70: =[1]Žiadatelia_včely!T33 -> 18007/2022 | G70: na kompenzáciu strát na zvieratách a zlikvidovaných zariadeniach na chov zvierat, ktoré vznikli v dôsledku nariadených veterinárnych opatrení – mor včelieho plodu | H70: na kompenzáciu strát na zvieratách a zlikvidovaných zariadeniach na chov zvierat, ktoré vznikli v dôsledku nariadených veterinárnych opatrení – mor včelieho plodu | I70: SK0 | J70: =[1]Žiadatelia_včely!S33 -> 44781 | K70: schválená | L70: 15.11.2022 | M70: =[1]Žiadatelia_včely!V33 -> 572.1 | N70: =[1]Žiadatelia_včely!C33 -> 22635/2022 | O70: =[1]Žiadatelia_včely!B33 -> 970/2022/MPRVSR-340 | P70: =[1]Žiadatelia_včely!P33 -> 562.5 | Q70: 0 | R70: 14.12.2022 | S70: 01.01.2022 | T70: 31.12.2022 | U70: 0 | V70: 0
A71: Chovatelia – nepodnikatelia (škody) – straty na zvieratách a zariadeniach 2022 | B71: =[1]Žiadatelia_včely!F34 -> Toman | C71: fyzická osoba | D71: fyzická osoba | E71: fyzická osoba | F71: =[1]Žiadatelia_včely!T34 -> 18130/2022 | G71: na kompenzáciu strát na zvieratách a zlikvidovaných zariadeniach na chov zvierat, ktoré vznikli v dôsledku nariadených veterinárnych opatrení – mor včelieho plodu | H71: na kompenzáciu strát na zvieratách a zlikvidovaných zariadeniach na chov zvierat, ktoré vznikli v dôsledku nariadených veterinárnych opatrení – mor včelieho plodu | I71: SK0 | J71: =[1]Žiadatelia_včely!S34 -> 44782 | K71: schválená | L71: 15.11.2022 | M71: =[1]Žiadatelia_včely!V34 -> 5000 | N71: =[1]Žiadatelia_včely!C34 -> 22636/2022 | O71: =[1]Žiadatelia_včely!B34 -> 971/2022/MPRVSR-340 | P71: =[1]Žiadatelia_včely!P34 -> 4246.3 | Q71: 0 | R71: 12.12.2022 | S71: 01.01.2022 | T71: 31.12.2022 | U71: 0 | V71: 0
... A78: Chovatelia – nepodnikatelia (škody) – straty na zvieratách a zariadeniach 2022 | B78: =[1]Žiadatelia_včely!F41 -> Tvrdovský | C78: fyzická osoba | D78: fyzická osoba | E78: fyzická osoba | F78: =[1]Žiadatelia_včely!T41 -> 18447/2022 | G78: na kompenzáciu strát na zvieratách a zlikvidovaných zariadeniach na chov zvierat, ktoré vznikli v dôsledku nariadených veterinárnych opatrení – mor včelieho plodu | H78: na kompenzáciu strát na zvieratách a zlikvidovaných zariadeniach na chov zvierat, ktoré vznikli v dôsledku nariadených veterinárnych opatrení – mor včelieho plodu | I78: SK0 | J78: =[1]Žiadatelia_včely!S41 -> 44785 | K78: schválená | L78: 15.11.2022 | M78: =[1]Žiadatelia_včely!V41 -> 2476.5 | N78: =[1]Žiadatelia_včely!C41 -> 22652/2022 | O78: =[1]Žiadatelia_včely!B41 -> 978/2022/MPRVSR-340 | P78: =[1]Žiadatelia_včely!P41 -> 1396.5 | Q78: 0 | R78: 12.12.2022 | S78: 01.01.2022 | T78: 31.12.2022 | U78: 0 | V78: 0
A79: Chovatelia – nepodnikatelia (škody) – straty na zvieratách a zariadeniach 2022 | B79: =[1]Žiadatelia_včely!F43 -> Chalupiansky | C79: fyzická osoba | D79: fyzická osoba | E79: fyzická osoba | F79: =[1]Žiadatelia_včely!T43 -> 18451/2022 | G79: na kompenzáciu strát na zvieratách a zlikvidovaných zariadeniach na chov zvierat, ktoré vznikli v dôsledku nariadených veterinárnych opatrení – mor včelieho plodu | H79: na kompenzáciu strát na zvieratách a zlikvidovaných zariadeniach na chov zvierat, ktoré vznikli v dôsledku nariadených veterinárnych opatrení – mor včelieho plodu | I79: SK0 | J79: =[1]Žiadatelia_včely!S43 -> 44785 | K79: schválená | L79: 15.11.2022 | M79: =[1]Žiadatelia_včely!V43 -> 388.3 | N79: =[1]Žiadatelia_včely!C43 -> 22654/2022 | O79: =[1]Žiadatelia_včely!B43 -> 979/2022/MPRVSR-340 | P79: =[1]Žiadatelia_včely!P43 -> 388.3 | Q79: 0 | R79: 18.12.2022 | S79: 01.01.2022 | T79: 31.12.2022 | U79: 0 | V79: 0
A80: Chovatelia – nepodnikatelia (škody) – straty na zvieratách a zariadeniach 2022 | B80: =[1]Žiadatelia_včely!F44 -> Michalec | C80: fyzická osoba | D80: fyzická osoba | E80: fyzická osoba | F80: =[1]Žiadatelia_včely!T44 -> 18629/2022 | G80: na kompenzáciu strát na zvieratách a zlikvidovaných zariadeniach na chov zvierat, ktoré vznikli v dôsledku nariadených veterinárnych opatrení – mor včelieho plodu | H80: na kompenzáciu strát na zvieratách a zlikvidovaných zariadeniach na chov zvierat, ktoré vznikli v dôsledku nariadených veterinárnych opatrení – mor včelieho plodu | I80: SK0 | J80: =[1]Žiadatelia_včely!S44 -> 44789 | K80: schválená | L80: 15.11.2022 | M80: =[1]Žiadatelia_včely!V44 -> 2054 | N80: =[1]Žiadatelia_včely!C44 -> 22655/2022 | O80: =[1]Žiadatelia_včely!B44 -> 980/2022/MPRVSR-340 | P80: =[1]Žiadatelia_včely!P44 -> 1092.9 | Q80: 0 | R80: 13.12.2022 | S80: 01.01.2022 | T80: 31.12.2022 | U80: 0 | V80: 0
A81: Chovatelia – nepodnikatelia (škody) – straty na zvieratách a zariadeniach 2022 | B81: =[1]Žiadatelia_včely!F45 -> Pastoráková | C81: fyzická osoba | D81: fyzická osoba | E81: fyzická osoba | F81: =[1]Žiadatelia_včely!T45 -> 18631/2022 | G81: na kompenzáciu strát na zvieratách a zlikvidovaných zariadeniach na chov zvierat, ktoré vznikli v dôsledku nariadených veterinárnych opatrení – mor včelieho plodu | H81: na kompenzáciu strát na zvieratách a zlikvidovaných zariadeniach na chov zvierat, ktoré vznikli v dôsledku nariadených veterinárnych opatrení – mor včelieho plodu | I81: SK0 | J81: =[1]Žiadatelia_včely!S45 -> 44789 | K81: schválená | L81: 15.11.2022 | M81: =[1]Žiadatelia_včely!V45 -> 3428 | N81: =[1]Žiadatelia_včely!C45 -> 22656/2022 | O81: =[1]Žiadatelia_včely!B45 -> 981/2022/MPRVSR-340 | P81: =[1]Žiadatelia_včely!P45 -> 1771.9 | Q81: 0 | R81: 15.12.2022 | S81: 01.01.2022 | T81: 31.12.2022 | U81: 0 | V81: 0
A82: Chovatelia – nepodnikatelia (škody) – straty na zvieratách a zariadeniach 2022 | B82: =[1]Žiadatelia_včely!F46 -> Paluš | C82: fyzická osoba | D82: fyzická osoba | E82: fyzická osoba | F82: =[1]Žiadatelia_včely!T46 -> 18632/2022 | G82: na kompenzáciu strát na zvieratách a zlikvidovaných zariadeniach na chov zvierat, ktoré vznikli v dôsledku nariadených veterinárnych opatrení – mor včelieho plodu | H82: na kompenzáciu strát na zvieratách a zlikvidovaných zariadeniach na chov zvierat, ktoré vznikli v dôsledku nariadených veterinárnych opatrení – mor včelieho plodu | I82: SK0 | J82: =[1]Žiadatelia_včely!S46 -> 44789 | K82: schválená | L82: 15.11.2022 | M82: =[1]Žiadatelia_včely!V46 -> 3576 | N82: =[1]Žiadatelia_včely!C46 -> 22657/2022 | O82: =[1]Žiadatelia_včely!B46 -> 982/2022/MPRVSR-340 | P82: =[1]Žiadatelia_včely!P46 -> 3017 | Q82: 0 | R82: 12.12.2022 | S82: 01.01.2022 | T82: 31.12.2022 | U82: 0 | V82: 0
A83: Chovatelia – nepodnikatelia (škody) – straty na zvieratách a zariadeniach 2022 | B83: =[1]Žiadatelia_včely!F47 -> Gumančík | C83: fyzická osoba | D83: fyzická osoba | E83: fyzická osoba | F83: =[1]Žiadatelia_včely!T47 -> 18634/2022 | G83: na kompenzáciu strát na zvieratách a zlikvidovaných zariadeniach na chov zvierat, ktoré vznikli v dôsledku nariadených veterinárnych opatrení – mor včelieho plodu | H83: na kompenzáciu strát na zvieratách a zlikvidovaných zariadeniach na chov zvierat, ktoré vznikli v dôsledku nariadených veterinárnych opatrení – mor včelieho plodu | I83: SK0 | J83: =[1]Žiadatelia_včely!S47 -> 44789 | K83: schválená | L83: 15.11.2022 | M83: =[1]Žiadatelia_včely!V47 -> 8507.45 | N83: =[1]Žiadatelia_včely!C47 -> 22663/2022 | O83: 983/2022/MPRVSR-340 | P83: =[1]Žiadatelia_včely!P47 -> 9373 | Q83: 0 | R83: 16.12.2022 | S83: 01.01.2022 | T83: 31.12.2022 | U83: 0 | V83: 0
A84: Chovatelia – nepodnikatelia (škody) – straty na zvieratách a zariadeniach 2022 | B84: =[1]Žiadatelia_včely!F48 -> Benko | C84: fyzická osoba | D84: fyzická osoba | E84: fyzická osoba | F84: =[1]Žiadatelia_včely!T48 -> 18938/2022 | G84: na kompenzáciu strát na zvieratách a zlikvidovaných zariadeniach na chov zvierat, ktoré vznikli v dôsledku nariadených veterinárnych opatrení – mor včelieho plodu | H84: na kompenzáciu strát na zvieratách a zlikvidovaných zariadeniach na chov zvierat, ktoré vznikli v dôsledku nariadených veterinárnych opatrení – mor včelieho plodu | I84: SK0 | J84: =[1]Žiadatelia_včely!S48 -> 44792 | K84: schválená | L84: 15.11.2022 | M84: =[1]Žiadatelia_včely!V48 -> 1591.4 | N84: =[1]Žiadatelia_včely!C48 -> 22664/2022 | O84: =[1]Žiadatelia_včely!B48 -> 984/2022/MPRVSR-340 | P84: =[1]Žiadatelia_včely!P48 -> 1591.4 | Q84: 0 | R84: 13.12.2023 | S84: 01.01.2022 | T84: 31.12.2022 | U84: 0 | V84: 0
A85: Chovatelia – nepodnikatelia (škody) – straty na zvieratách a zariadeniach 2022 | B85: =[1]Žiadatelia_včely!F49 -> Kido | C85: fyzická osoba | D85: fyzická osoba | E85: fyzická osoba | F85: =[1]Žiadatelia_včely!T49 -> 19038/2022 | G85: na kompenzáciu strát na zvieratách a zlikvidovaných zariadeniach na chov zvierat, ktoré vznikli v dôsledku nariadených veterinárnych opatrení – mor včelieho plodu | H85: na kompenzáciu strát na zvieratách a zlikvidovaných zariadeniach na chov zvierat, ktoré vznikli v dôsledku nariadených veterinárnych opatrení – mor včelieho plodu | I85: SK0 | J85: =[1]Žiadatelia_včely!S49 -> 44795 | K85: schválená | L85: 15.11.2022 | M85: =[1]Žiadatelia_včely!V49 -> 3774 | N85: =[1]Žiadatelia_včely!C49 -> 22665/2022 | O85: =[1]Žiadatelia_včely!B49 -> 985/2022/MPRVSR-340 | P85: =[1]Žiadatelia_včely!P49 -> 3774 | Q85: 0 | R85: 18.12.2022 | S85: 01.01.2022 | T85: 31.12.2022 | U85: 0 | V85: 0
A86: Chovatelia – nepodnikatelia (škody) – straty na zvieratách a zariadeniach 2022 | B86: =[1]Žiadatelia_včely!F50 -> Kuciak | C86: fyzická osoba | D86: fyzická osoba | E86: fyzická osoba | F86: =[1]Žiadatelia_včely!T50 -> 19039/2022 | G86: na kompenzáciu strát na zvieratách a zlikvidovaných zariadeniach na chov zvierat, ktoré vznikli v dôsledku nariadených veterinárnych opatrení – mor včelieho plodu | H86: na kompenzáciu strát na zvieratách a zlikvidovaných zariadeniach na chov zvierat, ktoré vznikli v dôsledku nariadených veterinárnych opatrení – mor včelieho plodu | I86: SK0 | J86: =[1]Žiadatelia_včely!S50 -> 44795 | K86: schválená | L86: 15.11.2022 | M86: =[1]Žiadatelia_včely!V50 -> 595.4 | N86: =[1]Žiadatelia_včely!C50 -> 22693/2022 | O86: =[1]Žiadatelia_včely!B50 -> 986/2022/MPRVSR-340 | P86: =[1]Žiadatelia_včely!P50 -> 595.4 | Q86: 0 | R86: 18.12.2022 | S86: 01.01.2022 | T86: 31.12.2022 | U86: 0 | V86: 0
A87: Chovatelia – nepodnikatelia (škody) – straty na zvieratách a zariadeniach 2022 | B87: =[1]Žiadatelia_včely!F51 -> Holák | C87: fyzická osoba | D87: fyzická osoba | E87: fyzická osoba | F87: =[1]Žiadatelia_včely!T51 -> 19045/2022 | G87: na kompenzáciu strát na zvieratách a zlikvidovaných zariadeniach na chov zvierat, ktoré vznikli v dôsledku nariadených veterinárnych opatrení – mor včelieho plodu | H87: na kompenzáciu strát na zvieratách a zlikvidovaných zariadeniach na chov zvierat, ktoré vznikli v dôsledku nariadených veterinárnych opatrení – mor včelieho plodu | I87: SK0 | J87: =[1]Žiadatelia_včely!S51 -> 44795 | K87: schválená | L87: 15.11.2022 | M87: =[1]Žiadatelia_včely!V51 -> 644.8 | N87: =[1]Žiadatelia_včely!C51 -> 22694/2022 | O87: =[1]Žiadatelia_včely!B51 -> 987/2022/MPRVSR-340 | P87: =[1]Žiadatelia_včely!P51 -> 644.8 | Q87: 0 | R87: 18.12.2022 | S87: 01.01.2022 | T87: 31.12.2022 | U87: 0 | V87: 0
A88: Chovatelia – nepodnikatelia (škody) – straty na zvieratách a zariadeniach 2022 | B88: =[1]Žiadatelia_včely!F52 -> Červenec | C88: fyzická osoba | D88: fyzická osoba | E88: fyzická osoba | F88: =[1]Žiadatelia_včely!T52 -> 19049/2022 | G88: na kompenzáciu strát na zvieratách a zlikvidovaných zariadeniach na chov zvierat, ktoré vznikli v dôsledku nariadených veterinárnych opatrení – mor včelieho plodu | H88: na kompenzáciu strát na zvieratách a zlikvidovaných zariadeniach na chov zvierat, ktoré vznikli v dôsledku nariadených veterinárnych opatrení – mor včelieho plodu | I88: SK0 | J88: =[1]Žiadatelia_včely!S52 -> 44795 | K88: schválená | L88: 15.11.2022 | M88: =[1]Žiadatelia_včely!V52 -> 941.5 | N88: =[1]Žiadatelia_včely!C52 -> 22696/2022 | O88: =[1]Žiadatelia_včely!B52 -> 988/2022/MPRVSR-340 | P88: =[1]Žiadatelia_včely!P52 -> 941.5 | Q88: 0 | R88: 16.12.2022 | S88: 01.01.2022 | T88: 31.12.2022 | U88: 0 | V88: 0
A89: Chovatelia – nepodnikatelia (škody) – straty na zvieratách a zariadeniach 2022 | B89: =[1]Žiadatelia_včely!F53 -> Kačur | C89: fyzická osoba | D89: fyzická osoba | E89: fyzická osoba | F89: =[1]Žiadatelia_včely!T53 -> 19231/2022 | G89: na kompenzáciu strát na zvieratách a zlikvidovaných zariadeniach na chov zvierat, ktoré vznikli v dôsledku nariadených veterinárnych opatrení – mor včelieho plodu | H89: na kompenzáciu strát na zvieratách a zlikvidovaných zariadeniach na chov zvierat, ktoré vznikli v dôsledku nariadených veterinárnych opatrení – mor včelieho plodu | I89: SK0 | J89: =[1]Žiadatelia_včely!S53 -> 44797 | K89: schválená | L89: 15.11.2022 | M89: =[1]Žiadatelia_včely!V53 -> 9920.2 | N89: =[1]Žiadatelia_včely!C53 -> 22697/2022 | O89: =[1]Žiadatelia_včely!B53 -> 989/2022/MPRVSR-340 | P89: =[1]Žiadatelia_včely!P53 -> 5938.6 | Q89: 0 | R89: 15.12.2022 | S89: 01.01.2022 | T89: 31.12.2022 | U89: 0 | V89: 0
A90: Chovatelia – nepodnikatelia (škody) – straty na zvieratách a zariadeniach 2022 | B90: =[1]Žiadatelia_včely!F54 -> Jesenský | C90: fyzická osoba | D90: fyzická osoba | E90: fyzická osoba | F90: =[1]Žiadatelia_včely!T54 -> 19232/2022 | G90: na kompenzáciu strát na zvieratách a zlikvidovaných zariadeniach na chov zvierat, ktoré vznikli v dôsledku nariadených veterinárnych opatrení – mor včelieho plodu | H90: na kompenzáciu strát na zvieratách a zlikvidovaných zariadeniach na chov zvierat, ktoré vznikli v dôsledku nariadených veterinárnych opatrení – mor včelieho plodu | I90: SK0 | J90: =[1]Žiadatelia_včely!S54 -> 44797 | K90: schválená | L90: 15.11.2022 | M90: =[1]Žiadatelia_včely!V54 -> 191.1 | N90: =[1]Žiadatelia_včely!C54 -> 22698/2022 | O90: =[1]Žiadatelia_včely!B54 -> 990/2022/MPRVSR-340 | P90: =[1]Žiadatelia_včely!P54 -> 191.1 | Q90: 0 | R90: 15.12.2022 | S90: 01.01.2022 | T90: 31.12.2022 | U90: 0 | V90: 0
A91: Chovatelia – nepodnikatelia (škody) – straty na zvieratách a zariadeniach 2022 | B91: =[1]Žiadatelia_včely!F55 -> Mika | C91: fyzická osoba | D91: fyzická osoba | E91: fyzická osoba | F91: =[1]Žiadatelia_včely!T55 -> 19320/2022 | G91: na kompenzáciu strát na zvieratách a zlikvidovaných zariadeniach na chov zvierat, ktoré vznikli v dôsledku nariadených veterinárnych opatrení – mor včelieho plodu | H91: na kompenzáciu strát na zvieratách a zlikvidovaných zariadeniach na chov zvierat, ktoré vznikli v dôsledku nariadených veterinárnych opatrení – mor včelieho plodu | I91: SK0 | J91: =[1]Žiadatelia_včely!S55 -> 44798 | K91: schválená | L91: 15.11.2022 | M91: =[1]Žiadatelia_včely!V55 -> 3380.57 | N91: =[1]Žiadatelia_včely!C55 -> 22699/2022 | O91: =[1]Žiadatelia_včely!B55 -> 991/2022/MPRVSR-340 | P91: =[1]Žiadatelia_včely!P55 -> 2464 | Q91: 0 | R91: 18.12.2022 | S91: 01.01.2022 | T91: 31.12.2022 | U91: 0 | V91: 0
A92: Chovatelia – nepodnikatelia (škody) – straty na zvieratách a zariadeniach 2022 | B92: =[1]Žiadatelia_včely!F56 -> Hlinický | C92: fyzická osoba | D92: fyzická osoba | E92: fyzická osoba | F92: =[1]Žiadatelia_včely!T56 -> 19322/2022 | G92: na kompenzáciu strát na zvieratách a zlikvidovaných zariadeniach na chov zvierat, ktoré vznikli v dôsledku nariadených veterinárnych opatrení – mor včelieho plodu | H92: na kompenzáciu strát na zvieratách a zlikvidovaných zariadeniach na chov zvierat, ktoré vznikli v dôsledku nariadených veterinárnych opatrení – mor včelieho plodu | I92: SK0 | J92: =[1]Žiadatelia_včely!S56 -> 44798 | K92: schválená | L92: 15.11.2022 | M92: =[1]Žiadatelia_včely!V56 -> 407.87 | N92: =[1]Žiadatelia_včely!C56 -> 22700/2022 | O92: =[1]Žiadatelia_včely!B56 -> 992/2022/MPRVSR-340 | P92: =[1]Žiadatelia_včely!P56 -> 270.5 | Q92: 0 | R92: 18.12.2022 | S92: 01.01.2022 | T92: 31.12.2022 | U92: 0 | V92: 0
A93: Chovatelia – nepodnikatelia (škody) – straty na zvieratách a zariadeniach 2022 | B93: =[1]Žiadatelia_včely!F57 -> Škvara | C93: fyzická osoba | D93: fyzická osoba | E93: fyzická osoba | F93: =[1]Žiadatelia_včely!T57 -> 19453/2022 | G93: na kompenzáciu strát na zvieratách a zlikvidovaných zariadeniach na chov zvierat, ktoré vznikli v dôsledku nariadených veterinárnych opatrení – mor včelieho plodu | H93: na kompenzáciu strát na zvieratách a zlikvidovaných zariadeniach na chov zvierat, ktoré vznikli v dôsledku nariadených veterinárnych opatrení – mor včelieho plodu | I93: SK0 | J93: =[1]Žiadatelia_včely!S57 -> 44799 | K93: schválená | L93: 15.11.2022 | M93: =[1]Žiadatelia_včely!V57 -> 4788 | N93: =[1]Žiadatelia_včely!C57 -> 22701/2022 | O93: =[1]Žiadatelia_včely!B58 -> 993/2022/MPRVSR-340 | P93: =[1]Žiadatelia_včely!P57 -> 4406 | Q93: 0 | R93: 12.12.2022 | S93: 01.01.2022 | T93: 31.12.2022 | U93: 0 | V93: 0
A94: Chovatelia – nepodnikatelia (škody) – straty na zvieratách a zariadeniach 2022 | B94: =[1]Žiadatelia_včely!F58 -> Škvara | C94: fyzická osoba | D94: fyzická osoba | E94: fyzická osoba | F94: =[1]Žiadatelia_včely!T58 -> 19454/2022 | G94: na kompenzáciu strát na zvieratách a zlikvidovaných zariadeniach na chov zvierat, ktoré vznikli v dôsledku nariadených veterinárnych opatrení – mor včelieho plodu | H94: na kompenzáciu strát na zvieratách a zlikvidovaných zariadeniach na chov zvierat, ktoré vznikli v dôsledku nariadených veterinárnych opatrení – mor včelieho plodu | I94: SK0 | J94: =[1]Žiadatelia_včely!S58 -> 44799 | K94: schválená | L94: 15.11.2022 | M94: =[1]Žiadatelia_včely!V58 -> 13830 | P94: =[1]Žiadatelia_včely!P58 -> 12016 | Q94: 0 | S94: 01.01.2022 | T94: 31.12.2022 | U94: 0 | V94: 0
A95: Chovatelia – nepodnikatelia (škody) – straty na zvieratách a zariadeniach 2022 | B95: =[1]Žiadatelia_včely!F59 -> Bušík | C95: fyzická osoba | D95: fyzická osoba | E95: fyzická osoba | F95: =[1]Žiadatelia_včely!T59 -> 19455/2022 | G95: na kompenzáciu strát na zvieratách a zlikvidovaných zariadeniach na chov zvierat, ktoré vznikli v dôsledku nariadených veterinárnych opatrení – mor včelieho plodu | H95: na kompenzáciu strát na zvieratách a zlikvidovaných zariadeniach na chov zvierat, ktoré vznikli v dôsledku nariadených veterinárnych opatrení – mor včelieho plodu | I95: SK0 | J95: =[1]Žiadatelia_včely!S59 -> 44799 | K95: schválená | L95: 15.11.2022 | M95: =[1]Žiadatelia_včely!V59 -> 1275.1 | N95: =[1]Žiadatelia_včely!C59 -> 22765/2022 | O95: =[1]Žiadatelia_včely!B59 -> 994/2022/MPRVSR-340 | P95: =[1]Žiadatelia_včely!P59 -> 1275.1 | Q95: 0 | R95: 16.12.2022 | S95: 01.01.2022 | T95: 31.12.2022 | U95: 0 | V95: 0
A96: Chovatelia – nepodnikatelia (škody) – straty na zvieratách a zariadeniach 2022 | B96: =[1]Žiadatelia_včely!F60 -> Aschengeschvandtner | C96: fyzická osoba | D96: fyzická osoba | E96: fyzická osoba | F96: =[1]Žiadatelia_včely!T60 -> 19456/2022 | G96: na kompenzáciu strát na zvieratách a zlikvidovaných zariadeniach na chov zvierat, ktoré vznikli v dôsledku nariadených veterinárnych opatrení – mor včelieho plodu | H96: na kompenzáciu strát na zvieratách a zlikvidovaných zariadeniach na chov zvierat, ktoré vznikli v dôsledku nariadených veterinárnych opatrení – mor včelieho plodu | I96: SK0 | J96: =[1]Žiadatelia_včely!S60 -> 44799 | K96: schválená | L96: 15.11.2022 | M96: =[1]Žiadatelia_včely!V60 -> 2271.6 | N96: =[1]Žiadatelia_včely!C60 -> 22767/2022 | O96: =[1]Žiadatelia_včely!B60 -> 995/2022/MPRVSR-340 | P96: =[1]Žiadatelia_včely!P60 -> 1753.6 | Q96: 0 | R96: 16.12.2022 | S96: 01.01.2022 | T96: 31.12.2022 | U96: 0 | V96: 0
A97: Chovatelia – nepodnikatelia (škody) – straty na zvieratách a zariadeniach 2022 | B97: =[1]Žiadatelia_včely!F61 -> Kavčiak | C97: fyzická osoba | D97: fyzická osoba | E97: fyzická osoba | F97: =[1]Žiadatelia_včely!T61 -> 19458/2022 | G97: na kompenzáciu strát na zvieratách a zlikvidovaných zariadeniach na chov zvierat, ktoré vznikli v dôsledku nariadených veterinárnych opatrení – mor včelieho plodu | H97: na kompenzáciu strát na zvieratách a zlikvidovaných zariadeniach na chov zvierat, ktoré vznikli v dôsledku nariadených veterinárnych opatrení – mor včelieho plodu | I97: SK0 | J97: =[1]Žiadatelia_včely!S61 -> 44799 | K97: schválená | L97: 15.11.2022 | M97: =[1]Žiadatelia_včely!V61 -> 1594.49 | N97: =[1]Žiadatelia_včely!C61 -> 22768/2022 | O97: =[1]Žiadatelia_včely!B61 -> 996/2022/MPRVSR-340 | P97: =[1]Žiadatelia_včely!P61 -> 793 | Q97: 0 | R97: 19.12.2022 | S97: 01.01.2022 | T97: 31.12.2022 | U97: 0 | V97: 0
A98: Chovatelia – nepodnikatelia (škody) – straty na zvieratách a zariadeniach 2022 | B98: =[1]Žiadatelia_včely!F62 -> Majerník | C98: fyzická osoba | D98: fyzická osoba | E98: fyzická osoba | F98: =[1]Žiadatelia_včely!T62 -> 19551/2022 | G98: na kompenzáciu strát na zvieratách a zlikvidovaných zariadeniach na chov zvierat, ktoré vznikli v dôsledku nariadených veterinárnych opatrení – mor včelieho plodu | H98: na kompenzáciu strát na zvieratách a zlikvidovaných zariadeniach na chov zvierat, ktoré vznikli v dôsledku nariadených veterinárnych opatrení – mor včelieho plodu | I98: SK0 | J98: =[1]Žiadatelia_včely!S62 -> 44803 | K98: schválená | L98: 15.11.2022 | M98: =[1]Žiadatelia_včely!V62 -> 0 | N98: =[1]Žiadatelia_včely!C62 -> 22771/2022 | O98: =[1]Žiadatelia_včely!B62 -> 997/2022/MPRVSR-340 | P98: =[1]Žiadatelia_včely!P62 -> 349.8 | Q98: 0 | R98: 15.12.2022 | S98: 01.01.2022 | T98: 31.12.2022 | U98: 0 | V98: 0
A99: Chovatelia – nepodnikatelia (škody) – straty na zvieratách a zariadeniach 2022 | B99: =[1]Žiadatelia_včely!F63 -> Balvan | C99: fyzická osoba | D99: fyzická osoba | E99: fyzická osoba | F99: =[1]Žiadatelia_včely!T63 -> 19554/2022 | G99: na kompenzáciu strát na zvieratách a zlikvidovaných zariadeniach na chov zvierat, ktoré vznikli v dôsledku nariadených veterinárnych opatrení – mor včelieho plodu | H99: na kompenzáciu strát na zvieratách a zlikvidovaných zariadeniach na chov zvierat, ktoré vznikli v dôsledku nariadených veterinárnych opatrení – mor včelieho plodu | I99: SK0 | J99: =[1]Žiadatelia_včely!S63 -> 44803 | K99: schválená | L99: 15.11.2022 | M99: =[1]Žiadatelia_včely!V63 -> 300.7 | N99: =[1]Žiadatelia_včely!C63 -> 22772/2022 | O99: =[1]Žiadatelia_včely!B63 -> 998/2022/MPRVSR-340 | P99: =[1]Žiadatelia_včely!P63 -> 300.7 | Q99: 0 | R99: 18.12.2022 | S99: 01.01.2022 | T99: 31.12.2022 | U99: 0 | V99: 0
A100: Chovatelia – nepodnikatelia (škody) – straty na zvieratách a zariadeniach 2022 | B100: =[1]Žiadatelia_včely!F64 -> Markovič | C100: fyzická osoba | D100: fyzická osoba | E100: fyzická osoba | F100: =[1]Žiadatelia_včely!T64 -> 19555/2022 | G100: na kompenzáciu strát na zvieratách a zlikvidovaných zariadeniach na chov zvierat, ktoré vznikli v dôsledku nariadených veterinárnych opatrení – mor včelieho plodu | H100: na kompenzáciu strát na zvieratách a zlikvidovaných zariadeniach na chov zvierat, ktoré vznikli v dôsledku nariadených veterinárnych opatrení – mor včelieho plodu | I100: SK0 | J100: =[1]Žiadatelia_včely!S64 -> 44803 | K100: schválená | L100: 15.11.2022 | M100: =[1]Žiadatelia_včely!V64 -> 4661.08 | N100: =[1]Žiadatelia_včely!C64 -> 22774/2022 | O100: =[1]Žiadatelia_včely!B64 -> 999/2022/MPRVSR-340 | P100: =[1]Žiadatelia_včely!P64 -> 2678.3 | Q100: 0 | R100: 18.12.2022 | S100: 01.01.2022 | T100: 31.12.2022 | U100: 0 | V100: 0
A101: Chovatelia – nepodnikatelia (škody) – straty na zvieratách a zariadeniach 2022 | B101: =[1]Žiadatelia_včely!F65 -> Kolej | C101: fyzická osoba | D101: fyzická osoba | E101: fyzická osoba | F101: =[1]Žiadatelia_včely!T65 -> 19625/2022 | G101: na kompenzáciu strát na zvieratách a zlikvidovaných zariadeniach na chov zvierat, ktoré vznikli v dôsledku nariadených veterinárnych opatrení – mor včelieho plodu | H101: na kompenzáciu strát na zvieratách a zlikvidovaných zariadeniach na chov zvierat, ktoré vznikli v dôsledku nariadených veterinárnych opatrení – mor včelieho plodu | I101: SK0 | J101: =[1]Žiadatelia_včely!S65 -> 44804 | K101: schválená | L101: 15.11.2022 | M101: =[1]Žiadatelia_včely!V65 -> 2459.9 | N101: =[1]Žiadatelia_včely!C65 -> 22776/2022 | O101: =[1]Žiadatelia_včely!B65 -> 1000/2022/MPRVSR-340 | P101: =[1]Žiadatelia_včely!P65 -> 1106.4 | Q101: 0 | R101: 15.12.2022 | S101: 01.01.2022 | T101: 31.12.2022 | U101: 0 | V101: 0
A102: Chovatelia – nepodnikatelia (škody) – straty na zvieratách a zariadeniach 2022 | B102: =[1]Žiadatelia_včely!F66 -> Milan | C102: fyzická osoba | D102: fyzická osoba | E102: fyzická osoba | F102: =[1]Žiadatelia_včely!T66 -> 19713/2022 | G102: na kompenzáciu strát na zvieratách a zlikvidovaných zariadeniach na chov zvierat, ktoré vznikli v dôsledku nariadených veterinárnych opatrení – mor včelieho plodu | H102: na kompenzáciu strát na zvieratách a zlikvidovaných zariadeniach na chov zvierat, ktoré vznikli v dôsledku nariadených veterinárnych opatrení – mor včelieho plodu | I102: SK0 | J102: =[1]Žiadatelia_včely!S66 -> 44806 | K102: schválená | L102: 15.11.2022 | M102: =[1]Žiadatelia_včely!V66 -> 262 | N102: =[1]Žiadatelia_včely!C66 -> 22777/2022 | O102: =[1]Žiadatelia_včely!B66 -> 1001/2022/MPRVSR-340 | P102: =[1]Žiadatelia_včely!P66 -> 215.3 | Q102: 0 | R102: 20.12.2022 | S102: 01.01.2022 | T102: 31.12.2022 | U102: 0 | V102: 0
A103: Chovatelia – nepodnikatelia (škody) – straty na zvieratách a zariadeniach 2022 | B103: =[1]Žiadatelia_včely!F67 -> Vislocký | C103: fyzická osoba | D103: fyzická osoba | E103: fyzická osoba | F103: =[1]Žiadatelia_včely!T67 -> 19714/2022 | G103: na kompenzáciu strát na zvieratách a zlikvidovaných zariadeniach na chov zvierat, ktoré vznikli v dôsledku nariadených veterinárnych opatrení – mor včelieho plodu | H103: na kompenzáciu strát na zvieratách a zlikvidovaných zariadeniach na chov zvierat, ktoré vznikli v dôsledku nariadených veterinárnych opatrení – mor včelieho plodu | I103: SK0 | J103: =[1]Žiadatelia_včely!S67 -> 44806 | K103: schválená | L103: 15.11.2022 | M103: =[1]Žiadatelia_včely!V67 -> 7497.5 | N103: =[1]Žiadatelia_včely!C67 -> 22778/2022 | O103: =[1]Žiadatelia_včely!B67 -> 1002/2022/MPRVSR-340 | P103: =[1]Žiadatelia_včely!P67 -> 5630 | Q103: 0 | R103: 12.12.2022 | S103: 01.01.2022 | T103: 31.12.2022 | U103: 0 | V103: 0
A104: Chovatelia – nepodnikatelia (škody) – straty na zvieratách a zariadeniach 2022 | B104: =[1]Žiadatelia_včely!F68 -> Viktorín | C104: fyzická osoba | D104: fyzická osoba | E104: fyzická osoba | F104: =[1]Žiadatelia_včely!T68 -> 19715/2022 | G104: na kompenzáciu strát na zvieratách a zlikvidovaných zariadeniach na chov zvierat, ktoré vznikli v dôsledku nariadených veterinárnych opatrení – mor včelieho plodu | H104: na kompenzáciu strát na zvieratách a zlikvidovaných zariadeniach na chov zvierat, ktoré vznikli v dôsledku nariadených veterinárnych opatrení – mor včelieho plodu | I104: SK0 | J104: =[1]Žiadatelia_včely!S68 -> 44806 | K104: schválená | L104: 15.11.2022 | M104: =[1]Žiadatelia_včely!V68 -> 1300 | N104: =[1]Žiadatelia_včely!C68 -> 22779/2022 | O104: =[1]Žiadatelia_včely!B68 -> 1003/2022/MPRVSR-340 | P104: =[1]Žiadatelia_včely!P68 -> 3162 | Q104: 0 | R104: 12.12.2022 | S104: 01.01.2022 | T104: 31.12.2022 | U104: 0 | V104: 0
A105: Chovatelia – nepodnikatelia (škody) – straty na zvieratách a zariadeniach 2022 | B105: =[1]Žiadatelia_včely!F69 -> Zima | C105: fyzická osoba | D105: fyzická osoba | E105: fyzická osoba | F105: =[1]Žiadatelia_včely!T69 -> 19765/2022 | G105: na kompenzáciu strát na zvieratách a zlikvidovaných zariadeniach na chov zvierat, ktoré vznikli v dôsledku nariadených veterinárnych opatrení – mor včelieho plodu | H105: na kompenzáciu strát na zvieratách a zlikvidovaných zariadeniach na chov zvierat, ktoré vznikli v dôsledku nariadených veterinárnych opatrení – mor včelieho plodu | I105: SK0 | J105: =[1]Žiadatelia_včely!S69 -> 44809 | K105: schválená | L105: 15.11.2022 | M105: =[1]Žiadatelia_včely!V69 -> 495.5 | N105: =[1]Žiadatelia_včely!C69 -> 22781/2022 | O105: =[1]Žiadatelia_včely!B69 -> 1004/2022/MPRVSR-340 | P105: =[1]Žiadatelia_včely!P69 -> 274.1 | Q105: 0 | R105: 14.12.2022 | S105: 01.01.2022 | T105: 31.12.2022 | U105: 0 | V105: 0
A106: Chovatelia – nepodnikatelia (škody) – straty na zvieratách a zariadeniach 2022 | B106: =[1]Žiadatelia_včely!F70 -> Kopčík | C106: fyzická osoba | D106: fyzická osoba | E106: fyzická osoba | F106: =[1]Žiadatelia_včely!T70 -> 19770/2020 | G106: na kompenzáciu strát na zvieratách a zlikvidovaných zariadeniach na chov zvierat, ktoré vznikli v dôsledku nariadených veterinárnych opatrení – mor včelieho plodu | H106: na kompenzáciu strát na zvieratách a zlikvidovaných zariadeniach na chov zvierat, ktoré vznikli v dôsledku nariadených veterinárnych opatrení – mor včelieho plodu | I106: SK0 | J106: =[1]Žiadatelia_včely!S70 -> 44809 | K106: schválená | L106: 15.11.2022 | M106: =[1]Žiadatelia_včely!V70 -> 1504 | N106: =[1]Žiadatelia_včely!C70 -> 22782/2022 | O106: =[1]Žiadatelia_včely!B70 -> 1005/2022/MPRVSR-340 | P106: =[1]Žiadatelia_včely!P70 -> 1437 | Q106: 0 | R106: 19.12.2022 | S106: 01.01.2022 | T106: 31.12.2022 | U106: 0 | V106: 0
... A126: Chovatelia – nepodnikatelia (škody) – straty na zvieratách a zariadeniach 2022 | B126: =[1]Žiadatelia_včely!F90 -> Hagara, PhD., MBA Dr.H.c. | C126: fyzická osoba | D126: fyzická osoba | E126: fyzická osoba | F126: =[1]Žiadatelia_včely!T90 -> 20223/2022 | G126: na kompenzáciu strát na zvieratách a zlikvidovaných zariadeniach na chov zvierat, ktoré vznikli v dôsledku nariadených veterinárnych opatrení – mor včelieho plodu | H126: na kompenzáciu strát na zvieratách a zlikvidovaných zariadeniach na chov zvierat, ktoré vznikli v dôsledku nariadených veterinárnych opatrení – mor včelieho plodu | I126: SK0 | J126: =[1]Žiadatelia_včely!S90 -> 44813 | K126: schválená | L126: 15.11.2022 | M126: =[1]Žiadatelia_včely!V90 -> 705 | N126: =[1]Žiadatelia_včely!C90 -> 22807/2022 | O126: =[1]Žiadatelia_včely!B90 -> 1025/2022/MPRVSR-340 | P126: =[1]Žiadatelia_včely!P90 -> 405 | Q126: 0 | R126: 09.12.2022 | S126: 01.01.2022 | T126: 31.12.2022 | U126: 0 | V126: 0
A127: Chovatelia – nepodnikatelia (škody) – straty na zvieratách a zariadeniach 2022 | B127: =[1]Žiadatelia_včely!F92 -> Miško | C127: fyzická osoba | D127: fyzická osoba | E127: fyzická osoba | F127: =[1]Žiadatelia_včely!T92 -> 20305/2022 | G127: na kompenzáciu strát na zvieratách a zlikvidovaných zariadeniach na chov zvierat, ktoré vznikli v dôsledku nariadených veterinárnych opatrení – mor včelieho plodu | H127: na kompenzáciu strát na zvieratách a zlikvidovaných zariadeniach na chov zvierat, ktoré vznikli v dôsledku nariadených veterinárnych opatrení – mor včelieho plodu | I127: SK0 | J127: =[1]Žiadatelia_včely!S92 -> 44816 | K127: schválená | L127: 15.11.2022 | M127: =[1]Žiadatelia_včely!V92 -> 8056.8 | N127: =[1]Žiadatelia_včely!C92 -> 22809/2022 | O127: =[1]Žiadatelia_včely!B92 -> 1027/2022/MPRVSR-340 | P127: =[1]Žiadatelia_včely!P92 -> 5280 | Q127: 0 | R127: 12.12.2022 | S127: 01.01.2022 | T127: 31.12.2022 | U127: 0 | V127: 0
A128: Chovatelia – nepodnikatelia (škody) – straty na zvieratách a zariadeniach 2022 | B128: =[1]Žiadatelia_včely!F93 -> Dianiška | C128: fyzická osoba | D128: fyzická osoba | E128: fyzická osoba | F128: =[1]Žiadatelia_včely!T93 -> 20307/2022 | G128: na kompenzáciu strát na zvieratách a zlikvidovaných zariadeniach na chov zvierat, ktoré vznikli v dôsledku nariadených veterinárnych opatrení – mor včelieho plodu | H128: na kompenzáciu strát na zvieratách a zlikvidovaných zariadeniach na chov zvierat, ktoré vznikli v dôsledku nariadených veterinárnych opatrení – mor včelieho plodu | I128: SK0 | J128: =[1]Žiadatelia_včely!S93 -> 44816 | K128: schválená | L128: 15.11.2022 | M128: =[1]Žiadatelia_včely!V93 -> 1091.7 | N128: =[1]Žiadatelia_včely!C93 -> 22810/2022 | O128: =[1]Žiadatelia_včely!B93 -> 1028/2022/MPRVSR-340 | P128: =[1]Žiadatelia_včely!P93 -> 820 | Q128: 0 | R128: 18.12.2022 | S128: 01.01.2022 | T128: 31.12.2022 | U128: 0 | V128: 0
A129: Chovatelia – nepodnikatelia (škody) – straty na zvieratách a zariadeniach 2022 | B129: =[1]Žiadatelia_včely!F94 -> Veverka | C129: fyzická osoba | D129: fyzická osoba | E129: fyzická osoba | F129: =[1]Žiadatelia_včely!T94 -> 20309/2022 | G129: na kompenzáciu strát na zvieratách a zlikvidovaných zariadeniach na chov zvierat, ktoré vznikli v dôsledku nariadených veterinárnych opatrení – mor včelieho plodu | H129: na kompenzáciu strát na zvieratách a zlikvidovaných zariadeniach na chov zvierat, ktoré vznikli v dôsledku nariadených veterinárnych opatrení – mor včelieho plodu | I129: SK0 | J129: =[1]Žiadatelia_včely!S94 -> 44816 | K129: schválená | L129: 15.11.2022 | M129: =[1]Žiadatelia_včely!V94 -> 616 | N129: =[1]Žiadatelia_včely!C94 -> 22812/2022 | O129: =[1]Žiadatelia_včely!B94 -> 1029/2022/MPRVSR-340 | P129: =[1]Žiadatelia_včely!P94 -> 706 | Q129: 0 | R129: 18.12.2022 | S129: 01.01.2022 | T129: 31.12.2022 | U129: 0 | V129: 0
A130: Chovatelia – nepodnikatelia (škody) – straty na zvieratách a zariadeniach 2022 | B130: =[1]Žiadatelia_včely!F95 -> Gábik | C130: fyzická osoba | D130: fyzická osoba | E130: fyzická osoba | F130: =[1]Žiadatelia_včely!T95 -> 20311/2022 | G130: na kompenzáciu strát na zvieratách a zlikvidovaných zariadeniach na chov zvierat, ktoré vznikli v dôsledku nariadených veterinárnych opatrení – mor včelieho plodu | H130: na kompenzáciu strát na zvieratách a zlikvidovaných zariadeniach na chov zvierat, ktoré vznikli v dôsledku nariadených veterinárnych opatrení – mor včelieho plodu | I130: SK0 | J130: =[1]Žiadatelia_včely!S95 -> 44816 | K130: schválená | L130: 15.11.2022 | M130: =[1]Žiadatelia_včely!V95 -> 1916.5 | N130: =[1]Žiadatelia_včely!C95 -> 22814/2022 | O130: =[1]Žiadatelia_včely!B95 -> 1030/2022/MPRVSR-340 | P130: =[1]Žiadatelia_včely!P95 -> 1208 | Q130: 0 | R130: 12.12.2022 | S130: 01.01.2022 | T130: 31.12.2022 | U130: 0 | V130: 0
A131: Chovatelia – nepodnikatelia (škody) – straty na zvieratách a zariadeniach 2022 | B131: =[1]Žiadatelia_včely!F96 -> Jankovičová | C131: fyzická osoba | D131: fyzická osoba | E131: fyzická osoba | F131: =[1]Žiadatelia_včely!T96 -> 20313/2022 | G131: na kompenzáciu strát na zvieratách a zlikvidovaných zariadeniach na chov zvierat, ktoré vznikli v dôsledku nariadených veterinárnych opatrení – mor včelieho plodu | H131: na kompenzáciu strát na zvieratách a zlikvidovaných zariadeniach na chov zvierat, ktoré vznikli v dôsledku nariadených veterinárnych opatrení – mor včelieho plodu | I131: SK0 | J131: =[1]Žiadatelia_včely!S96 -> 44816 | K131: schválená | L131: 15.11.2022 | M131: =[1]Žiadatelia_včely!V96 -> 702 | N131: =[1]Žiadatelia_včely!C96 -> 22815/2022 | O131: =[1]Žiadatelia_včely!B96 -> 1031/2022/MPRVSR-340 | P131: =[1]Žiadatelia_včely!P96 -> 470 | Q131: 0 | R131: 16.12.2022 | S131: 01.01.2022 | T131: 31.12.2022 | U131: 0 | V131: 0
A132: Chovatelia – nepodnikatelia (škody) – straty na zvieratách a zariadeniach 2022 | B132: =[1]Žiadatelia_včely!F97 -> Adamovič | C132: fyzická osoba | D132: fyzická osoba | E132: fyzická osoba | F132: =[1]Žiadatelia_včely!T97 -> 20315/2022 | G132: na kompenzáciu strát na zvieratách a zlikvidovaných zariadeniach na chov zvierat, ktoré vznikli v dôsledku nariadených veterinárnych opatrení – mor včelieho plodu | H132: na kompenzáciu strát na zvieratách a zlikvidovaných zariadeniach na chov zvierat, ktoré vznikli v dôsledku nariadených veterinárnych opatrení – mor včelieho plodu | I132: SK0 | J132: =[1]Žiadatelia_včely!S97 -> 44816 | K132: schválená | L132: 15.11.2022 | M132: =[1]Žiadatelia_včely!V97 -> 3856.1 | N132: =[1]Žiadatelia_včely!C97 -> 22816/2022 | O132: =[1]Žiadatelia_včely!B97 -> 1032/2022/MPRVSR-340 | P132: =[1]Žiadatelia_včely!P97 -> 3756.1 | Q132: 0 | R132: 15.12.2022 | S132: 01.01.2022 | T132: 31.12.2022 | U132: 0 | V132: 0
A133: Chovatelia – nepodnikatelia (škody) – straty na zvieratách a zariadeniach 2022 | B133: =[1]Žiadatelia_včely!F98 -> Kovaľ | C133: fyzická osoba | D133: fyzická osoba | E133: fyzická osoba | F133: =[1]Žiadatelia_včely!T98 -> 20317/2022 | G133: na kompenzáciu strát na zvieratách a zlikvidovaných zariadeniach na chov zvierat, ktoré vznikli v dôsledku nariadených veterinárnych opatrení – mor včelieho plodu | H133: na kompenzáciu strát na zvieratách a zlikvidovaných zariadeniach na chov zvierat, ktoré vznikli v dôsledku nariadených veterinárnych opatrení – mor včelieho plodu | I133: SK0 | J133: =[1]Žiadatelia_včely!S98 -> 44816 | K133: schválená | L133: 15.11.2022 | M133: =[1]Žiadatelia_včely!V98 -> 3404.2 | N133: =[1]Žiadatelia_včely!C98 -> 22817/2022 | O133: =[1]Žiadatelia_včely!B98 -> 1033/2022/MPRVSR-340 | P133: =[1]Žiadatelia_včely!P98 -> 3419.2 | Q133: 0 | R133: 18.12.2022 | S133: 01.01.2022 | T133: 31.12.2022 | U133: 0 | V133: 0
A134: Chovatelia – nepodnikatelia (škody) – straty na zvieratách a zariadeniach 2022 | B134: =[1]Žiadatelia_včely!F99 -> Januška | C134: fyzická osoba | D134: fyzická osoba | E134: fyzická osoba | F134: =[1]Žiadatelia_včely!T99 -> 20346/2022 | G134: na kompenzáciu strát na zvieratách a zlikvidovaných zariadeniach na chov zvierat, ktoré vznikli v dôsledku nariadených veterinárnych opatrení – mor včelieho plodu | H134: na kompenzáciu strát na zvieratách a zlikvidovaných zariadeniach na chov zvierat, ktoré vznikli v dôsledku nariadených veterinárnych opatrení – mor včelieho plodu | I134: SK0 | J134: =[1]Žiadatelia_včely!S99 -> 44816 | K134: schválená | L134: 15.11.2022 | M134: =[1]Žiadatelia_včely!V99 -> 2051.1 | N134: =[1]Žiadatelia_včely!C99 -> 22819/2022 | O134: =[1]Žiadatelia_včely!B99 -> 1034/2022/MPRVSR-340 | P134: =[1]Žiadatelia_včely!P99 -> 1703.6 | Q134: 0 | R134: 16.12.2022 | S134: 01.01.2022 | T134: 31.12.2022 | U134: 0 | V134: 0
...
