Workbook

Sheet dataset
A1: Identifikátor výzvy | B1: Názov žiadateľa | C1: IČO žiadateľa | D1: Právna forma oprávneného žiadateľa | E1: kód právnej formy oprávneného žiadateľa | F1: Číselný identifikátor žiadosti | G1: Názov projektu | H1: Stručný popis projektu | I1: Miesto realizácie projektu | J1: Dátum podania žiadosti | K1: stav vyhodnotenia žiadosti | L1: Dátum rozhodnutia o žiadosti / projekte | M1: Výška žiadanej sumy | N1: Číslo projektu schválenej žiadosti | O1: Číslo zmluvy o poskytnutí dotácie uverejnené v CRZ | P1: Výška schválenej sumy | Q1: Výška spolufinancovania | R1: Dátum uverejnenia zmluvy v CRZ | S1: Dátum začiatku realizácie projektu | T1: Dátum ukončenia realizácie projektu | U1: Výška neoprávnených výdavkov | V1: Výška nevyčerpanej dotácie
A2: 2469/2022 | B2: Závodisko, š.p. | C2: 31354301 | D2: štátny podnik | E2: 301 | F2: 4142/2022 | G2: Činnosť dostihovej autority, rozvoj a zachovanie majetku štátu slúžiaceho na organizáciu dostihov, ocenenie víťazov v dostihoch | H2: Organizovanie dostihových dní v roku 2022 a rekonštrukcia pedoku | I2: SK0 | J2: 25.02.2022 | K2: schválená | L2: 30.03.2022 | M2: 1247726 | N2: 7897/2022 | O2: 595/2022/MPRVSR-340 | P2: 1247726 | Q2: 0 | R2: 08.04.2022 | S2: 01.01.2022 | T2: 31.12.2024 | U2: 0 | V2: 0
A3: 24522/2022 | B3: Závodisko, š.p. | C3: 31354301 | D3: štátny podnik | E3: 301 | F3: 26278/2022 | G3: Činnosť dostihovej autority, rozvoj a zachovanie majetku štátu slúžiaceho na organizáciu dostihov | H3: Rekonštrukcia sociálnych zariadení, výmena plynových kotlov | I3: SK0 | J3: 16.11.2022 | K3: schválená | L3: 01.12.2022 | M3: 136000 | N3: 28669/2022 | O3: 1138/2022/MPRVSR-340 | P3: 36000 | Q3: 0 | R3: 18.12.2022 | S3: 01.01.2022 | T3: 31.12.2024 | U3: 0 | V3: 0
A4: 2477/2022 | B4: Hydromeliorácie, š.p. | C4: 687979 | D4: štátny podnik | E4: 301 | F4: 24094/2022 | G4: Projekt zabezpečenia správy, údržby, opráv, prevádzky, likvidácie a preventívne opatrenia na ochranu pred povodňami hydromelioračného majetku vo vlastníctve štátu | H4: Projekt má neziskový charakter. Správa, ochrana, prevádzka, oprava, údržba, likvidácia hydromelioračného majetku vo vlastníctve štátu a preventívne opatrenia na ochranu pred povodňami. | I4: SK0 | J4: 25.02.2022 | K4: schválená | L4: 25.03.2021 | M4: 1250000 | N4: 10592/2022 | O4: 735/2022/MPRVSR-340 | P4: 900000 | Q4: 0 | R4: 11.05.2022 | S4: 01.01.2022 | T4: 31.12.2022 | U4: 0 | V4: 0
A5: 20002/2022 | B5: Hydromeliorácie, štátny podnik | C5: 687979 | D5: štátny podnik | E5: 301 | F5: 21217/2022 | G5: Projekt zabezpečenia správy, údržby, opráv, prevádzky, likvidácie a preventívne opatrenia na ochranu pred povodňami hydromelioračného majetku vo vlastníctve štátu | H5: Zabezpečenie údržby, opráv, prevádzky a preventívnych opatrení na ochranu pred povodňami funkčného hydromelioračného majetku vo vlastníctve štátu v záujme zachovania jeho funkčného a prevádzkyschopného stavu, jeho optimálneho a efektívneho využívania a vytvárania podmienok pre splnenie uzatvorených zmlúv, ako aj vykonávanie údržby, opráv, odstraňovania následkov havárií a likvidácia nefunkčného majetku a tiež zapečpečenie správy hydromelioračného majetku vo vlastníctve štátu v záujme zachovania jeho funkčného a prevádzkyschopného stavu, jeho optimálneho a efektívneho využívania. | I5: SK0 | J5: 44827 | K5: schválená | L5: 10.10.2022 | M5: 1150000 | N5: 23755/2022 | O5: 686/2022/MPRVSR-340 | P5: 1150000 | Q5: 0 | R5: 19.10.2022 | S5: 01.01.2022 | T5: 31.12.2022 | U5: 0 | V5: 0
A6: 24519/2022 | B6: Hydromeliorácie, štátny podnik | C6: 687979 | D6: štátny podnik | E6: 301 | F6: 26611/2022 | G6: Projekt zabezpečenia správy, údržby, opráv, prevádzky, likvidácie a preventívne opatrenia na ochranu pred povodňami hydromelioračného majetku vo vlastníctve štátu | H6: Zabezpečenie údržby, opráv, prevádzky a preventívnych opatrení na ochranu pred povodňami funkčného hydromelioračného majetku vo vlastníctve štátu v záujme zachovania jeho funkčného a prevádzkyschopného stavu, jeho optimálneho a efektívneho využívania a vytvárania podmienok pre splnenie uzatvorených zmlúv, ako aj vykonávanie údržby, opráv, odstraňovania následkov havárií a likvidácia nefunkčného majetku a tiež zapečpečenie správy hydromelioračného majetku vo vlastníctve štátu v záujme zachovania jeho funkčného a prevádzkyschopného stavu, jeho optimálneho a efektívneho využívania. | I6: SK0 | J6: 44887 | K6: schválená | L6: 01.12.2022 | M6: 200000 | N6: 28667/2022 | O6: 1136/2022/MPRVSR-340 | P6: 200000 | Q6: 0 | R6: 18.12.2022 | S6: 01.01.2022 | T6: 31.12.2022 | U6: 0 | V6: 0
A7: 2474/2022 | B7: Národný žrebčín "Topoľčianky" štátny podnik | C7: 31447708 | D7: štátny podnik | E7: 301 | F7: 3751/2022 | G7: Poskytnutie podpory formou dotácie podľa Výnosu MPRV SR č. 536/2011-100 | H7: Krmivo, PHM, potraviny, energie, plemenárske služby, chránený chov plemien koní, organizácia, účasť na súťažiach v oblasti chovu koní a na medzinárodných podujatiach v oblasti chovu koní | I7: SK0 | J7: 22.02.2022 | K7: schválená | L7: 30.03.2022 | M7: 1600000 | N7: 6565/2022 | O7: 596/2022/MPRVSR-340 | P7: 1600000 | Q7: 0 | R7: 08.04.2022 | S7: 01.01.2022 | T7: 31.12.2022 | U7: 0 | V7: 0
A8: 24525/2022 | B8: Národný žrebčín "Topoľčianky" štátny podnik | C8: 31447708 | D8: štátny podnik | E8: 301 | F8: 26270/2022 | G8: Rozvoj a zachovanie majetku štátu na chránený chov plemien koní § 2 ods. 3 písm. b) výnosu č. 536/2011-100 | H8: Výkup pôdy, obnova asfaltového povrchu, obnova fasád a striech, výmena azbestocementovej krytiny na senníku, rekonštrukcia vodovodných rozvodov,nákup úsporných LED svietidiel, rekonštrukcia podhľadov v stajniach, kamerový systém | I8: SK0 | J8: 16.11.2022 | K8: schválená | L8: 01.12.2022 | M8: 38400 | N8: 28668/2022 | O8: 1137/2022/MPRVSR-340 | P8: 384000 | Q8: 0 | R8: 18.12.2022 | S8: 01.01.2022 | T8: 31.12.2024 | U8: 0 | V8: 0
A9: 16942/2022 | B9: LESY Slovenskej republiky, š. p. | C9: 36038351 | D9: štátny podnik | E9: 301 | F9: 19718/2022 | G9: Projekt zachovania a zlepšenia podmienok chovu zubra hrivnatého II. | H9: Chov sa realizuje podľa kritérií na šľachtiteľský a chránený chov a na génovú rezervu zubra hrivnatého - horskej línie. S ohľadom na stav zubrej zvernice v Európe je zámerom vytvorenie podmienok pre riadne poľovnícke obhospodarovanie tejto zveri v kombinácii s objektom na edukáciu verejnosti vo vzťahu k pôvodnej slovenskej, ale i európske faune. | I9: SK0 | J9: 02.09.2022 | K9: schválená | L9: 24.10.2022 | M9: 100000 | N9: 26387/2022 | O9: 917/2022/MPRVSR-340 | P9: 10000 | Q9: 0 | R9: 24.11.2022 | S9: 01.01.2022 | T9: 31.12.2022 | U9: 0 | V9: 0
A10: 11108/2022/POĽNO-1 | B10: Slovenské združenie chovateľov koní - občianske združenie | C10: 42425981 | D10: občianske združenie | E10: 701 | F10: 13400/2022 | G10: Vyššia forma testácie 4 - 7 ročných koní prostredníctvom ocenenia víťazov v jazdeckých súťažiach | H10: Poskytovanie chovateľom koní možnosť prezentácie svojho odchovu i zo zaostalých regiónov Slovenska. | I10: SK0 | J10: 44721 | K10: schválená | L10: 08.11.2022 | M10: 15000 | N10: 27182/2022 | O10: 1074/2022/MPRVSR-340 | P10: 7082.61 | Q10: 0 | R10: 44908 | S10: 01.01.2022 | T10: 31.12.2022 | U10: 0 | V10: 0
A11: 11108/2022/POĽNO-1 | B11: Podunajská vínna cesta | C11: 42209846 | D11: občianske združenie | E11: 701 | F11: 15110/2022 | G11: Danube Wine Challenge IWC | H11: Súťaž vín z celého sveta je najprestížnejšia medzinárodná súťaž v stredoeurópskom priestore. Cieľom je poukázať na kvalitu slovenského vína a vyzdvuhnúť význam v medzinárodnom kontexte. | I11: SK0 | J11: 44741 | K11: schválená | L11: 08.11.2022 | M11: 5000 | N11: 27211/2022 | O11: 1080/2022/MPRVSR-340 | P11: 2360.87 | Q11: 0 | R11: 44903 | S11: 01.01.2022 | T11: 31.12.2022 | U11: 0 | V11: 0
A12: 11108/2022/POĽNO-1 | B12: Slovenská poľnohospodárska a potravinárska komora | C12: 31826253 | D12: komora | E12: 745 | F12: 15092/2022 | G12: Zabezpečenie plnenia úloh Slovenskej poľnohospodárskej a potravinárskej komory (SPPK) pre potreby MPRV SR na základe poverenia MPRV SR zo dňa 27.04.2021 pre SPPK a v zmysle listu MPRV SR č.z. 6322/2022 zo dňa 05.04.2022 pre Slovenskú poľnohospodársku a potravinársku komoru na zabezpečenie distribúcie a zberu informačných listov | H12: Poskytovanie údajov od subjektov podnikajúcich v poľnohospodárskej prvovýrobe a službách formou informačných listov s cieľom komplexnejšie posúdiť stav a vytvorenie podmienok pre ďalší rozvoj. Monitoring jarných, žatevných a jesenných prác. | I12: SK0 | J12: 44741 | K12: schválená | L12: 08.11.2022 | M12: 160000 | N12: 27207/2022 | O12: 1079/2022/MPRVSR-340 | P12: 160000 | Q12: 0 | R12: 44908 | S12: 01.01.2022 | T12: 31.12.2022 | U12: 0 | V12: 0
A13: 11108/2022/POĽNO-1 | B13: Združenie chovateľov rýb na Slovensku | C13: 31796672 | D13: občianske združenie | E13: 701 | F13: 14858/2022 | G13: CHOV RÝB NA SLOVENSKU - podpora tradičného chovu a predaja sladkovodných rýb | H13: Postupné napĺňanie cieľov Strategického plánu rozvoja akvakultúry do roku 2030 | I13: SK0 | J13: 44739 | K13: schválená | L13: 08.11.2022 | M13: 15000 | N13: 27191/2022 | O13: 1076/2022/MPRVSR-340 | P13: 7082.61 | Q13: 0 | R13: 44908 | S13: 01.01.2022 | T13: 31.12.2022 | U13: 0 | V13: 0
A14: 11108/2022/POĽNO-1 | B14: Agrárna komora Slovenska | C14: 42165083 | D14: občianske združenie | E14: 701 | F14: 14598/2022 | G14: Vzájomné informácie prinášajú úspechy | H14: Monitorovanie škôd na poľnohospodárskych plodinách v regiónoch SR, monitoring jarných, letných a jesenných prác, zber informačných listov o výsledkoch hospodárenia vybraných poľnohospodárskych subjektov | I14: SK0 | J14: 44734 | K14: schválená | L14: 08.11.2022 | M14: 30600 | N14: 27272/2022 | O14: 1088/2022/MPRVSR-340 | P14: 30600 | Q14: 0 | R14: 44914 | S14: 01.01.2022 | T14: 31.12.2022 | U14: 0 | V14: 0
A15: 11108/2022/POĽNO-1 | B15: Združenie mladých farmárov na Slovensku - ASYF | C15: 42116686 | D15: občianske združenie | E15: 701 | F15: 15343/2022 | G15: Podpora aktivít na propagáciu slovenského poľnohospodárstva a života na vidieku a integrovanie mladých farmárov Slovenska pri Konfederácii mladých farmárov EU - CEJA | H15: odovzdávanie informácií mladým farmárom a ich zastupovanie na národnej a medzinárodnej úrovni, presadzovania nástrojov, ktoré uľahčia začatie podnikania v poľnohospodárskom sektore, propagácia poľnohospodárstva ako životného štýlu na vidieku | I15: SK0 | J15: 44743 | K15: schválená | L15: 08.11.2022 | M15: 34562.34 | N15: 28665/2022 | O15: 1098/2022/MPRVSR-340 | P15: 16319.45 | Q15: 0 | R15: 44914 | S15: 01.01.2022 | T15: 31.12.2022 | U15: 0 | V15: 0
A16: 11108/2022/POĽNO-1 | B16: Slovenský zväz chovateľov | C16: 0178322 | D16: občianske združenie | E16: 701 | F16: 14689/2022 | G16: XXV. Celoštátna výstava zvierat a V. Medzinárodná výstava zvierat Vyšehradskej štvorky | H16: Vzorník plemien hydiny, elektronická plemenná kniha králikov, výstava, materiálne vybavenie: chovné klietky | I16: SK0 | J16: 44736 | K16: schválená | L16: 08.11.2022 | M16: 48000 | N16: 27185/2022 | O16: 1073/2022/MPRVSR-340 | P16: 22664.37 | Q16: 0 | R16: 44908 | S16: 01.01.2022 | T16: 31.12.2022 | U16: 0 | V16: 0
A17: 11108/2022/POĽNO-1 | B17: Občianske združenie pri Zväze chovateľov oviec a kôz | C17: 42195187 | D17: občianske združenie | E17: 701 | F17: 15173/2022 | G17: Medzinárodné majstrovstvá v strihaní oviec na Slovensku / Mladý začínajúci farmár | H17: Propagácia sektora chovu oviec a strihanie, školenia pre mladých začinajúcich farmárov | I17: SK0 | J17: 44742 | K17: schválená | L17: 08.11.2022 | M17: 43200 | N17: 27213/2022 | O17: 1072/2022/MPRVSR-340 | P17: 20397.93 | Q17: 0 | R17: 44913 | S17: 01.01.2022 | T17: 31.12.2022 | U17: 0 | V17: 14.97
A18: 11108/2022/POĽNO-1 | B18: Slovenský zväz záhradkárov Republikový výbor, občianske združenie | C18: 00178152 | D18: občianske združenie | E18: 701 | F18: 14955/2022 | G18: Celoslovenská súťaž O najkrajšie jablko / Poradenská činnosť v oblasti pestovania, ochrany, určovania rastlín / Floristická súťaž Jesenné inšpirácie dospelí a mládež / Výtvarná súťaž pre deti a mládež Čarovná záhrada | H18: podopra rastlinnej výroby - pestovanie ovocia na Slovensku, združovanie členov SZZ, záhradkárov, drobnopestovateľov, zabezpečenie samozásobovania záhradnými produktmi, podpora manuálnych zručností detí, mládeže a dospelých pri práci s kvetinami | I18: SK0 | J18: 44740 | K18: schválená | L18: 08.11.2022 | M18: 28899 | N18: 27193/2022 | O18: 1070/2022/MPRVSR-340 | P18: 13645.37 | Q18: 0 | R18: 44904 | S18: 01.01.2022 | T18: 31.12.2022 | U18: 0 | V18: 2702.25
A19: 11108/2022/POĽNO-1 | B19: Zemiakársky a zeleninársky zväz Slovenskej republiky | C19: 37800183 | D19: občianske združenie | E19: 701 | F19: 14961/2022 | G19: Harmonizácia hodnotenia kvality ovocia a zeleniny / Budúcnosť slovenského zeleninárstva a zemiakarstva | H19: Interpretácia noriem kvality a ich uplatňovanie v praxi, integrovaná produkcia ovocia a zeleniny, postup pestovateľov, školenie o vykonávaní kontrol kvality, téma znižovania poravinového odpadu, hľadanie cesty umiestňovania slovenskej zeleniny na slovenskom i zahraničnom trhu | I19: SK0 | J19: 44740 | K19: schválená | L19: 08.11.2022 | M19: 24340 | N19: 27194/2022 | O19: 1077/2022/MPRVSR-340 | P19: 11492.72 | Q19: 0 | R19: 44901 | S19: 01.01.2022 | T19: 31.12.2022 | U19: 0 | V19: 0
A20: 11108/2022/POĽNO-1 | B20: Slovenský zväz prvovýrobcov mlieka | C20: 37962876 | D20: občianske združenie | E20: 701 | F20: 15012/2022 | G20: Informácie a analýzy ako základ rozvoja podnikov prvovýroby mlieka | H20: Prispieť k rozvoju sektoru prvovýroby mlieka na Slovensku prostredníctvom zabezpečenia aktuálnych informácií a analýz na hodnotenie ekonomiky výroby mlieka, informačné podujatie 17. ročník "Deň prvovýrobcov mlieka" | I20: SK0 | J20: 44741 | K20: schválená | L20: 08.11.2022 | M20: 20000 | N20: 27195/2022 | O20: 1078/2022/MPRVSR-340 | P20: 9443.49 | Q20: 0 | R20: 44913 | S20: 01.01.2022 | T20: 31.12.2022 | U20: 0 | V20: 0
A21: 11108/2022/POĽNO-1 | B21: Zväz zeleninárov a zemiakarov Slovenska | C21: 42120381 | D21: občianske združenie | E21: 701 | F21: 15026/2022 | G21: Odborná a metodická pomoc členom Zväzu zeleninárov a zemiakarov Slovenska | H21: poskytnúť členom a spolupracujúcim spoločnostiam impulzy pre neustále zlepšovanie sa tak, aby domáca produkcia zeleniny bola konkurencie schopná voči importu hľadiac na efektivitu a kvalitu produkcie | I21: SK0 | J21: 44741 | K21: schválená | L21: 08.11.2022 | M21: 10000 | N21: 27201/2022 | O21: 1071/2022/MPRVSR-340 | P21: 4721.74 | Q21: 0 | R21: 44908 | S21: 01.01.2022 | T21: 31.12.2022 | U21: 0 | V21: 0
... A24: 11108/2022/POĽNO-1 | B24: VODA a RYBY - Spoločnosť pre ochranu vodných biotopov Slovenska, n. o. | C24: 54583811 | D24: občianske združenie | E24: 701 | F24: 14854/2022 | G24: Vplyv inváznych a nepôvodných druhov rýb na celkovú produkciu sladkovodných rýb v sektore akvakultúry na Slovensku | H24: Podrobná analýza sektora rybničnej akvakultúry na Slovensku, vyhodnotenie chovu rýb a dosahovanú produkciu sladkovodných rýb v rybníkoch a vodných nádržiach na Slovensku | I24: SK0 | J24: 44739 | K24: schválená | L24: 08.11.2022 | M24: 2050 | N24: 27186/2022 | O24: 1075/2022/MPRVSR-340 | P24: 967.96 | Q24: 0 | R24: 44913 | S24: 01.01.2022 | T24: 31.12.2022 | U24: 0 | V24: 0
A25: 11108/2022/POĽNO-1 | B25: Vidiecka platforma | C25: 50150251 | D25: občianske združenie | E25: 701 | F25: 15350/2022 | G25: Vidiek žije | H25: Organizácia seminárov, workshopov, prednášok, publikačná činnosť zamerané na prvovýrobcov, remeselníkov, podpora trvaloudržateľného života na vidieku | I25: SK0 | J25: 44743 | K25: schválená | L25: 08.11.2022 | N25: 27117/2022 | O25: 1083/2022/MPRVSR-340 | P25: 80000 | Q25: 0 | R25: 44894 | S25: 01.01.2022 | T25: 31.12.2022 | U25: 0 | V25: 2126
A26: 11112/2022/POTRAV-1 | B26: Slovenská poľnohospodárska a potravinárska komora | C26: 31826253 | D26: komora | E26: 745 | F26: 15091/2022 | G26: Príprava a realizácia X. ročníka týždňa Hovorme o jedle / Príprava a realizácia III. ročníka celoslovenskej súťažno-vzdelávacej aktivity Podpor svoj odbor | H26: podpora aktívnej účasti škôl pri vzdelávaní detí a mládeže o potravinách a dobrých stravovacích návykoch a podpora záujmu žiakov ZŚ o štúdium na SOŠ poskytujúcich vzdelávanie v poľnohospodárskych, potravinárskych, lesníckych a veterinárnych odboroch | I26: SK0 | J26: 29.06.2022 | K26: schválená | L26: 08.11.2022 | M26: 25630 | N26: 27216/2022 | O26: 1084/2022/MPRVSR-340 | P26: 20000 | Q26: 0 | R26: 13.12.2022 | S26: 01.01.2022 | T26: 31.12.2022 | U26: 0 | V26: 0
A27: 11112/2022/POTRAV-1 | B27: Klub poľnohospodárskych novinárov | C27: 00679437 | D27: občianske združenie | E27: 701 | F27: 15120/2022 | G27: Top Agro Slovensko 2021/2022 | H27: Súťaž ekonomických manažmentov všetkých podnikateľských foriem v agropotravinárstve | I27: SK0 | J27: 44741 | K27: schválená | L27: 08.11.2022 | M27: 12006 | N27: 27219/2022 | O27: 1085/2022/MPRVSR-340 | P27: 5000 | Q27: 0 | R27: 08.12.2022 | S27: 01.01.2022 | T27: 31.12.2022 | U27: 0 | V27: 0
A28: 11120/2022/LESY-1 | B28: Združenie vlastníkov spoločenstevných a súkromných lesov Banskobystrického kraja | C28: 37888838 | D28: občianske združenie | E28: 701 | F28: 13884/2022 | G28: Organizácia vzdelávacích a poradenských aktivít, školení, prednášok, konferencií, seminárov a pracovných stretnutí odborníkov. Účasť na odborných konferenciách členov Predstavenstva a Pozemkových spoločenstiev. | H28: Vzdelávanie a informovanosť členov, stretávanie v regiónoch, rozšírenie počtu odborníkov, poradenská, konzultačná a vzdelávacia činnosť pre členov ZVSaSL BBK | I28: SK0 | J28: 44727 | K28: schválená | L28: 24.10.2022 | M28: 5000 | N28: 26401/2022 | O28: 918/2022/MPRVSR-340 | P28: 5000 | Q28: 0 | R28: 44895 | S28: 01.01.2022 | T28: 31.12.2022 | U28: 0 | V28: 0
A29: 11120/2022/LESY-1 | B29: OZ ZELEŇ | C29: 50965760 | D29: občianske združenie | E29: 701 | F29: 13999/2022 | G29: Informovanosť obyvateľstva a najmä detí o význame poľovníckych činností v krajine nížin Slovenska | H29: Prezentácia pre verejnosť význam ochrany prírody a poľovníckych činností | I29: SK0 | J29: 44728 | K29: schválená | L29: 24.10.2022 | M29: 3600 | N29: 26390/2022 | O29: 919/2022/MPRVSR-340 | P29: 3600 | Q29: 0 | R29: 44890 | S29: 01.01.2022 | T29: 31.12.2022 | U29: 0 | V29: 0
A30: 11120/2022/LESY-1 | B30: Pro Silva Slovakia | C30: 54401437 | D30: občianske združenie | E30: 701 | F30: 15336/2022 | G30: Prírode blízke hospodárenie v lesníckej praxi | H30: Celoslovenský seminár, lesnícky deň, medzinárodná exkurzia v ČR a Nemecku, turistická náučná prechádzka pre odbornú a laickú verejnosť | I30: SK0 | J30: 44743 | K30: schválená | L30: 24.10.2022 | M30: 7315 | N30: 26391/2022 | O30: 927/2022/MPRVSR-340 | P30: 7315 | Q30: 0 | R30: 44896 | S30: 01.01.2022 | T30: 31.12.2022 | U30: 0 | V30: 0
A31: 11120/2022/LESY-1 | B31: Slovenská agrolesnícka asociácia | C31: 53495501 | D31: občianske združenie | E31: 701 | F31: 15329/2022 | G31: Rozvoj agrolesníckych systémov a rozširovanie povedomia o agrolesníctve na Slovensku | H31: Propagácia agrolesníckych systémo, ktoré sú adaptačnými opatreniami pri hospodárení na pôde | I31: SK0 | J31: 44742 | K31: schválená | L31: 24.10.2022 | M31: 44302 | N31: 26392/2022 | O31: 924/2022/MPRVSR-340 | P31: 10000 | Q31: 0 | R31: 44896 | S31: 01.01.2022 | T31: 31.12.2022 | U31: 0 | V31: 0
A32: 11120/2022/LESY-1 | B32: Slovenská lesnícka komora | C32: 00156621 | D32: komora | E32: 745 | F32: 14918/2022 | G32: Slovenská lesnícka komora pre lesy a lesníctvo v roku 2022 | H32: Vštepovanie deťom a mládeži pozitívny vzťah k prírode, lesnícke dni, komunikácia s verejnosťou - aktívna spolupráca lesníkov so zástupcami obcí, urbárov, vlastníkov neštátnych lesov, konferenice a semináre | I32: SK0 | J32: 44740 | K32: schválená | L32: 24.10.2022 | M32: 73500 | N32: 26395/2022 | O32: 921/2022/MPRVSR-340 | P32: 60820 | Q32: 0 | R32: 44894 | S32: 01.01.2022 | T32: 31.12.2022 | U32: 0 | V32: 0
A33: 11120/2022/LESY-1 | B33: Slovenská poľovnícka komora | C33: 42175682 | D33: komora | E33: 745 | F33: 14353/2022 | G33: Zastúpenie SR v spolupráci s ministerstvom v medzinárodných poľovníckych, kynologických, sokoliarskych a iných organizáciách, ktoré vykonávajú činnosť súvisiacu s poľovníctvom; zabezpečenie plnenia úloh Slovenskou poľovníckou komorou, ktorými ju poverí ministerstvo; organizácia súťaží a výstav, účasť na súťažiach a výstavách; organizácia medzinárodných podujatí, účasť na medzinárodných podujatiach; prezentácia vlastných činností; organizácia vzdelávacích a poradenských aktivít, školení, prednášok, konferencií, seminárov a pracovných stretnutí odborníkov, účasť na vzdelávacích a poradenských aktivitách, školeniach, prednáškach, konferenciách, seminároch a pracovných stretnutiach odborníkov; publikačná činnosť, práca s mladou generáciou; prezentácia prírodného, historického a kultúrneho dedičstva. | H33: Celoštátny poľovnícka výstava trofejí, Generálne zhromaždenie CIC v Rige, Generálne zhromaždenie FACE vo Varšave, stretnutie v Bruseli - aktivity EÚ, mediálna kampaň na prezentáciu prírodného, historického a kultúrneho dedičstva | I33: SK0 | J33: 44733 | K33: schválená | L33: 24.10.2022 | M33: 129500 | N33: 26396/2022 | O33: 920/2022/MPRVSR-340 | P33: 110000 | Q33: 0 | R33: 44890 | S33: 01.01.2022 | T33: 31.12.2022 | U33: 0 | V33: 0
A34: 11120/2022/LESY-1 | B34: Slovenský klub sokoliarov pri Slovenskej poľovníckej komore | C34: 4268982 | D34: komora | E34: 745 | F34: 15331/2022 | G34: Sokoliarstvo - nehmotné kultúrne dedičstvo Slovenska | H34: Celoslovenská výstava Poľovníctvo a príroda s medzinárodnou účasťou a prezentácia vlastných činností | I34: SK0 | J34: 44743 | K34: schválená | L34: 24.10.2022 | M34: 10000 | N34: 26393/2022 | O34: 925/2022/MPRVSR-340 | P34: 10000 | Q34: 0 | R34: 44896 | S34: 01.01.2022 | T34: 31.12.2022 | U34: 0 | V34: 1000
A35: 11120/2022/LESY-1 | B35: Gemerské regionálne združenie vlastníkov neštátnych lesov | C35: 31946453 | D35: občianske združenie | E35: 701 | F35: 15334/2022 | G35: Riešenie aktuálnych problémov neštátnych vlastníkov | H35: Cyklus semonárov, školení, vzdelávacích a poradenských aktivít, pracovných stretnutí a účasť na odborných seminároch a školeniach o problematike hospodárenia v lese | I35: SK0 | J35: 44743 | K35: schválená | L35: 24.10.2022 | M35: 5000 | N35: 26388/2022 | O35: 926/2022/MPRVSR-340 | P35: 5000 | Q35: 0 | R35: 44889 | S35: 01.01.2022 | T35: 31.12.2022 | U35: 0 | V35: 0
A36: 11120/2022/LESY-1 | B36: ÚNIA regionálnych združení vlastníkov neštátnych lesov Slovenska | C36: 35531657 | D36: občianske združenie | E36: 701 | F36: 15175/2022 | G36: WelcomeToMyForest - VITAJTE V NAŠICH SÚKROMNÝCH LESOCH 2022 | H36: Účasť na medzinárodných aktivitách k Sústave Natura 2000 a Sústave chránených území pre Karpaty a Sústave chránených území pre Alpy, Konfederácia európskych vlastníkov lesov (CEPF), regionálne informačné dni v jednotlivých členských regiónoch o najnovších aktualitách v lesnom hospodárstve so zameraním na všetky oblasti ovplyvňujúce vlastníctvo a obhospodarovanie neštátnych lesov na Slovensku | I36: SK0 | J36: 44742 | K36: schválená | L36: 24.10.2022 | M36: 30000 | N36: 26397/2022 | O36: 922/2022/MPRVSR-340 | P36: 26000 | Q36: 0 | R36: 44889 | S36: 01.01.2022 | T36: 31.12.2022 | U36: 0 | V36: 0
A37: 11120/2022/LESY-1 | B37: Združenie lesných škôlkarov Slovenskej republiky | C37: 36150622 | D37: občianske združenie | E37: 701 | F37: 15181/2022 | G37: Medzinárodná konferencia Lesné semenárstvo, škôlkarstvo a umelá obnova lesa 2022 | H37: Medzinárodná konferencia v Lipt. Jáne (2 dni) zameraná na transfer nových poznatkov v oblasti lesného semenárstva, škôlkarstva a umelej obnovy lesa do praxe | I37: SK0 | J37: 44742 | K37: schválená | L37: 24.10.2022 | M37: 14125.4 | N37: 26399/2022 | O37: 923/2022/MPRVSR-340 | P37: 12265 | Q37: 0 | R37: 44914 | S37: 01.01.2022 | T37: 31.12.2022 | U37: 0 | V37: 187.4
A38: 13942/2022/OPEĽOVACIA | B38: SLOVENSKÍ VČELÁRI | C38: 50920138 | D38: občianske združenie | E38: 701 | F38: 18476/2022 | G38: Dotácia na opeľovaciu činnosť včiel | H38: Dotácia na podporu opeľovacej činnosti včiel určená zaregistrovaným včelárom v CEHZ, ktorí nevykonávajú včelárstvo ako hospodársku činnosť. Dotácia na jedno včelstvo v sume 4,00 € | I38: SK0 | J38: 44785 | K38: schválená | L38: 01.12.2022 | M38: 201444 | N38: 28666/2022 | O38: 1134/2022/MPRVSR-340 | P38: 201444 | Q38: 0 | R38: 21.12.2022 | S38: 01.01.2022 | T38: 31.12.2022 | U38: 0 | V38: 44
A39: 13942/2022/OPEĽOVACIA | B39: SLOVENSKÝ ZVÄZ VČELÁROV | C39: 00178349 | D39: občianske združenie | E39: 701 | F39: 18492/2022 | G39: Opeľovacia činnosť včiel | H39: Dotácia na podporu opeľovacej činnosti včiel určená zaregistrovaným včelárom v CEHZ, ktorí nevykonávajú včelárstvo ako hospodársku činnosť. Dotácia na jedno včelstvo v sume 4,00 € | I39: SK0 | J39: 44785 | K39: schválená | L39: 01.12.2022 | M39: 999828 | N39: 28852/2022 | O39: 1135/2022/MPRVSR-340 | P39: 994596 | Q39: 0 | R39: 44915 | S39: 01.01.2022 | T39: 31.12.2022 | U39: 0 | V39: 2996
A40: Chovatelia – nepodnikatelia (škody) – straty na zvieratách a zariadeniach 2022 | B40: =[1]Žiadatelia_včely!F2 -> Pangrác | C40: fyzická osoba | D40: fyzická osoba | E40: fyzická osoba | F40: =[1]Žiadatelia_včely!T2 -> 12856/2022 | G40: na kompenzáciu strát na zvieratách a zlikvidovaných zariadeniach na chov zvierat, ktoré vznikli v dôsledku nariadených veterinárnych opatrení – mor včelieho plodu | H40: na kompenzáciu strát na zvieratách a zlikvidovaných zariadeniach na chov zvierat, ktoré vznikli v dôsledku nariadených veterinárnych opatrení – mor včelieho plodu | I40: SK0 | J40: =[1]Žiadatelia_včely!S2 -> 44715 | K40: schválená | L40: 15.11.2022 | M40: =[1]Žiadatelia_včely!V2 -> 3900 | N40: =[1]Žiadatelia_včely!C2 -> 22570/2022 | O40: =[1]Žiadatelia_včely!B2 -> 940/2022/MPRVSR-340 | P40: =[1]Žiadatelia_včely!P2 -> 3238 | Q40: 0 | R40: 12.12.2022 | S40: 01.01.2022 | T40: 31.12.2022 | U40: 0 | V40: 0
A41: Chovatelia – nepodnikatelia (škody) – straty na zvieratách a zariadeniach 2022 | B41: =[1]Žiadatelia_včely!F3 -> Ľubek | C41: fyzická osoba | D41: fyzická osoba | E41: fyzická osoba | F41: =[1]Žiadatelia_včely!T3 -> 13369/2022 | G41: na kompenzáciu strát na zvieratách a zlikvidovaných zariadeniach na chov zvierat, ktoré vznikli v dôsledku nariadených veterinárnych opatrení – mor včelieho plodu | H41: na kompenzáciu strát na zvieratách a zlikvidovaných zariadeniach na chov zvierat, ktoré vznikli v dôsledku nariadených veterinárnych opatrení – mor včelieho plodu | I41: SK0 | J41: =[1]Žiadatelia_včely!S3 -> 44721 | K41: schválená | L41: 15.11.2022 | M41: =[1]Žiadatelia_včely!V3 -> 3857.97 | N41: =[1]Žiadatelia_včely!C3 -> 22573/2022 | O41: =[1]Žiadatelia_včely!B3 -> 941/2022/MPRVSR-340 | P41: =[1]Žiadatelia_včely!P3 -> 2284.5 | Q41: 0 | R41: 16.12.2022 | S41: 01.01.2022 | T41: 31.12.2022 | U41: 0 | V41: 0
A42: Chovatelia – nepodnikatelia (škody) – straty na zvieratách a zariadeniach 2022 | B42: =[1]Žiadatelia_včely!F4 -> Kacko | C42: fyzická osoba | D42: fyzická osoba | E42: fyzická osoba | F42: =[1]Žiadatelia_včely!T4 -> 13795/2022 | G42: na kompenzáciu strát na zvieratách a zlikvidovaných zariadeniach na chov zvierat, ktoré vznikli v dôsledku nariadených veterinárnych opatrení – mor včelieho plodu | H42: na kompenzáciu strát na zvieratách a zlikvidovaných zariadeniach na chov zvierat, ktoré vznikli v dôsledku nariadených veterinárnych opatrení – mor včelieho plodu | I42: SK0 | J42: =[1]Žiadatelia_včely!S4 -> 44726 | K42: schválená | L42: 15.11.2022 | M42: =[1]Žiadatelia_včely!V4 -> 3027.6 | N42: =[1]Žiadatelia_včely!C4 -> 22574/2022 | O42: =[1]Žiadatelia_včely!B4 -> 942/2022/MPRVSR-340 | P42: =[1]Žiadatelia_včely!P4 -> 926 | Q42: 0 | R42: 12.12.2022 | S42: 01.01.2022 | T42: 31.12.2022 | U42: 0 | V42: 0
...
