Workbook

Sheet Číselník zdrojov financovanie
A1: 1 | B1: Finančný mechanizmus EHP/Štátny rozpočet | C1: 1
A2: 2 | B2: Nórsky finančný mechanizmus/Štátny rozpočet | C2: 2
A3: 3 | B3: Nórsky finančný mechanizmus/Finančný mechanizmus EHP | C3: 3
A4: 4 | B4: Švajčiarsky finančný mechanizmus/Štátny rozpočet | C4: 4
A5: 5 | B5: Štátny rozpočet | C5: 5
A6: 6 | B6: Iný | C6: 6
A7: 7 | B7: Európsky fond regionálneho rozvoja | C7: 7
A8: 8 | B8: Európsky sociálny fond | C8: 8
A9: 9 | B9: Kohézny fond | C9: 9
A10: 10 | B10: Európsky poľnohospodársky fond pre rozvoj vidieka | C10: 10
A11: 11 | B11: Európsky námorný a rybársky fond | C11: 11
A12: 12 | B12: Rozpočty územných samospráv | C12: 12

Sheet Žiadosť _vyplnenie
A1: Informácia o žiadosti o projekt/projekte
A2: Identifikátor výzvy | B2: Názov žiadateľa | C2: IČO žiadateľa | D2: Právna forma oprávneného žiadateľa | E2: kód právnej formy oprávneného žiadateľa | F2: Číselný identifikátor žiadosti | G2: Názov projektu | H2: Stručný popis projektu | I2: Miesto realizácie projektu | J2: Dátum podania žiadosti | K2: stav vyhodnotenia žiadosti | L2: Dátum rozhodnutia o žiadosti / projekte | M2: Výška žiadanej sumy | N2: Číslo projektu schválenej žiadosti | O2: Číslo zmluvy o poskytnutí dotácie uverejnené v CRZ | P2: Výška schválenej sumy | Q2: Výška spolufinancovania | R2: Dátum uverejnenia zmluvy v CRZ | S2: Dátum začiatku realizácie projektu | T2: Dátum ukončenia realizácie projektu | U2: Výška neoprávnených výdavkov | V2: Výška nevyčerpanej dotácie | W2: Vyplatené prostriedky národného spolufinancovania za rok 2024
A3: CE-COF | B3: Ekonomická univerzita v Bratislave | C3: 00399957 | D3: Verejnoprávna inštitúcia | E3: =IFERROR(VLOOKUP(D3,'Číselník právnych foriem ŠÚ SR'!$B:$C,2,0),"") -> 382 | F3: CE0100090 | G3: GREENPACT | H3: Futurepreneurs and SMEs for a sustainable Central Europe | Certification Scheme | I3: Bratislava | J3: 45068 | K3: schválená | L3: 45154 | M3: 24864 | N3: =F3 -> CE0100090 | O3: 1330/2023 | P3: 24864 | Q3: 24864 | R3: 45156 | S3: 45017 | T3: 46112 | U3: N/A | V3: N/A - projekt v implementácií | W3: 6862.51
A4: CE-COF | B4: Ekonomická univerzita v Bratislave | C4: 00399957 | D4: Verejnoprávna inštitúcia | E4: =IFERROR(VLOOKUP(D4,'Číselník právnych foriem ŠÚ SR'!$B:$C,2,0),"") -> 382 | F4: CE0100136 | G4: VReduMED | H4: Virtual Reality Education and Training Solutions for Medicine Sector | I4: Bratislava | J4: 45076 | K4: schválená | L4: 45155 | M4: 26508 | N4: =F4 -> CE0100136 | O4: 1331/2023 | P4: 26508 | Q4: 26508 | R4: 45156 | S4: 45017 | T4: 46112 | U4: N/A | V4: N/A - projekt v implementácií | W4: 6294.07
A5: CE-COF | B5: Nadácia Ekopolis | C5: 00631736 | D5: Nadácia | E5: =IFERROR(VLOOKUP(D5,'Číselník právnych foriem ŠÚ SR'!$B:$C,2,0),"") -> 117 | F5: CE0100401 | G5: ICTr-CE | H5: Innovative participatory sustainable business model for cycling along the Iron Curtain Trail | I5: Banská Bystrica | J5: 45077 | K5: schválená | L5: 45161 | M5: 19353.6 | N5: =F5 -> CE0100401 | O5: 1332/2023 | P5: 19353.6 | Q5: 19353.6 | R5: 45162 | S5: 44986 | T5: 46081 | U5: N/A | V5: N/A - projekt v implementácií | W5: 8981.72
A6: CE-COF | B6: B I C Bratislava | C6: 30840007 | D6: Spoločnosť s ručením obmedzeným | E6: =IFERROR(VLOOKUP(D6,'Číselník právnych foriem ŠÚ SR'!$B:$C,2,0),"") -> 112 | F6: CE0100414 | G6: CIREVALC | H6: Introducing and upscaling circular economy models in regional value chains in the food, catering and packaging sectors | I6: Bratislava | J6: 45107 | K6: schválená | L6: 45190 | M6: 25492.364 | N6: =F6 -> CE0100414 | O6: 1977/2023 | P6: 25492.364 | Q6: 25492.364 | R6: 45191 | S6: 45017 | T6: 46112 | U6: N/A | V6: N/A - projekt v implementácií | W6: 6724.94
A7: CE-COF | B7: Univerzita Žilina | C7: 00397563 | D7: Verejnoprávna inštitúcia | E7: =IFERROR(VLOOKUP(D7,'Číselník právnych foriem ŠÚ SR'!$B:$C,2,0),"") -> 382 | F7: CE0100248 | G7: HUMANITA | H7: Human-Nature Interactions and Impacts of Tourist Activities on Protected Areas | I7: Žilina | J7: 45110 | K7: schválená | L7: 45156 | M7: 27037.2 | N7: =F7 -> CE0100248 | O7: 1978/2023 | P7: 27037.2 | Q7: 27037.2 | R7: 45157 | S7: 45017 | T7: 46112 | U7: N/A | V7: N/A - projekt v implementácií | W7: 7532.06
A8: CE-COF | B8: Univerzita Žilina | C8: 00397563 | D8: Verejnoprávna inštitúcia | E8: =IFERROR(VLOOKUP(D8,'Číselník právnych foriem ŠÚ SR'!$B:$C,2,0),"") -> 382 | F8: CE0100127 | G8: Rail4Regions | H8: Enhancement of spatial and transport planning capacities in the promotion of the accessibility of the rail freight transport network and regional development | I8: Žilina | J8: 45111 | K8: schválená | L8: 45155 | M8: 20160 | N8: =F8 -> CE0100127 | O8: 1979/2023 | P8: 20160 | Q8: 20160 | R8: 45156 | S8: 44958 | T8: 46053 | U8: N/A | V8: N/A - projekt v implementácií | W8: 9456.23
A9: CE-COF | B9: Národné lesnícke centrum | C9: 42001315 | D9: Príspevková organizácia | E9: =IFERROR(VLOOKUP(D9,'Číselník právnych foriem ŠÚ SR'!$B:$C,2,0),"") -> 331 | F9: CE0100310 | G9: HealthyForestRegions | H9: Healthy Forest Regions: Supporting Healthy Forest ecosystems for human well-being in forest Regions | I9: Zvolen | J9: 45124 | K9: schválená | L9: 45162 | M9: 67831.8 | N9: =F9 -> CE0100310 | O9: 1980/2023 | P9: 67831.8 | Q9: 67831.8 | R9: 45163 | S9: 45017 | T9: 46112 | U9: N/A | V9: N/A - projekt v implementácií | W9: 9577.73
A10: CE-COF | B10: Slovenský hydrometeorologický ústav | C10: 00156884 | D10: Príspevková organizácia | E10: =IFERROR(VLOOKUP(D10,'Číselník právnych foriem ŠÚ SR'!$B:$C,2,0),"") -> 331 | F10: CE0100059 | G10: Clim4Cast | H10: Central European Alliance for Increasing Climate Change Resilience to Combined Consequences of Drought, Heatwave, and Fire Weather through Regionally-Tuned Forecasting | I10: Bratislava | J10: 45142 | K10: schválená | L10: 45174 | M10: 54256 | N10: =F10 -> CE0100059 | O10: 2240/2023 | P10: 54256 | Q10: 54256 | R10: 45175 | S10: 44986 | T10: 46081 | U10: N/A | V10: N/A - projekt v implementácií | W10: 28653.36
A11: CE-COF | B11: Technická univerzita vo Zvolene | C11: 00397440 | D11: Verejnoprávna inštitúcia | E11: =IFERROR(VLOOKUP(D11,'Číselník právnych foriem ŠÚ SR'!$B:$C,2,0),"") -> 382 | F11: CE0100170 | G11: LECA | H11: Supporting the coexistence and conservation of Carpathian LargE Carnivores | I11: Zvolen | J11: 45126 | K11: schválená | L11: 45189 | M11: 38088.71 | N11: =F11 -> CE0100170 | O11: 2241/2023 | P11: 38088.71 | Q11: 38088.71 | R11: 45190 | S11: 45017 | T11: 46112 | U11: N/A | V11: N/A - projekt v implementácií | W11: 7063.82
A12: CE-COF | B12: EZÚS Via Carpatia s ručením obmedzeným | C12: 45230030 | D12: Európske zoskupenie územnej spolupráce | E12: =IFERROR(VLOOKUP(D12,'Číselník právnych foriem ŠÚ SR'!$B:$C,2,0),"") -> 804 | F12: CE0100038 | G12: DigiCare4CE | H12: Digital transformation of long-term care facilities for older people | I12: Košice | J12: 45142 | K12: schválená | L12: 45190 | M12: 24530.69 | N12: =F12 -> CE0100038 | O12: 2243/2023 | P12: 24530.69 | Q12: 24530.69 | R12: 45191 | S12: 44986 | T12: 46081 | U12: N/A | V12: N/A - projekt v implementácií | W12: 8002.2
A13: CE-COF | B13: WWF Slovensko | C13: 52204430 | D13: Združenie (zväz, spolok, spoločnosť, klub ai.) | E13: =IFERROR(VLOOKUP(D13,'Číselník právnych foriem ŠÚ SR'!$B:$C,2,0),"") -> 701 | F13: CE0100170 | G13: LECA | H13: Supporting the coexistence and conservation of Carpathian LargE Carnivores | I13: Bratislava | J13: 45125 | K13: schválená | L13: 45196 | M13: 34629.72 | N13: =F13 -> CE0100170 | O13: 2244/2023 | P13: 34629.72 | Q13: 34629.72 | R13: 45197 | S13: 45017 | T13: 46112 | U13: N/A | V13: N/A - projekt v implementácií | W13: 9554.14
A14: CE-COF | B14: SIEA | C14: 00002801 | D14: Príspevková organizácia | E14: =IFERROR(VLOOKUP(D14,'Číselník právnych foriem ŠÚ SR'!$B:$C,2,0),"") -> 331 | F14: CE0100081 | G14: JETforCE | H14: Just Energy Transition for Central Europe | I14: Bratislava | J14: 45139 | K14: schválená | L14: 45203 | M14: 35084 | N14: =F14 -> CE0100081 | O14: 2692/2023 | P14: 35084 | Q14: 35084 | R14: 45204 | S14: 45017 | T14: 46112 | U14: N/A | V14: N/A - projekt v implementácií | W14: 5938.16
... A31: CE-COF | B31: ZMOS | C31: 00584614 | D31: Záujmové združenie právnických osôb | E31: =IFERROR(VLOOKUP(D31,'Číselník právnych foriem ŠÚ SR'!$B:$C,2,0),"") -> 751 | F31: CE0100083 | G31: Central Mountains | H31: From the Alps to the Carpathians – strengthening governance models for sustainable development of mountain areas in Central Europe | I31: Bratislava | J31: 45401 | K31: schválená | L31: 45527 | M31: 23904 | N31: =F31 -> CE0100083 | O31: 991/2024 | P31: 23904 | Q31: 23904 | R31: 45528 | S31: 45017 | T31: 46112 | U31: N/A | V31: N/A - projekt v implementácií | W31: 1174.11
A32: DRP-COF | B32: Centrum vedecko-technických informácií SR | C32: 00151882 | D32: Príspevková organizácia | E32: =IFERROR(VLOOKUP(D32,'[1]Číselník právnych foriem ŠÚ SR'!$B:$C,2,0),"") -> 331 | F32: DRP0100010 | G32: DRP-PAC-PA7 | H32: DRP-PAC3-PA7 Knowledge society | I32: Bratislava | J32: 45124 | K32: schválená | L32: 45204 | M32: 90000 | N32: N/A | O32: 3073/2023 | P32: 90000 | Q32: 90000 | R32: 45209 | S32: 44927 | T32: 47118 | U32: N/A | V32: N/A - projekt v implementácií | W32: 16947
A33: DRP-COF | B33: Výskumný ústav vodného hospodárstva | C33: 00156850 | D33: Príspevková organizácia | E33: =IFERROR(VLOOKUP(D33,'[1]Číselník právnych foriem ŠÚ SR'!$B:$C,2,0),"") -> 331 | F33: DRP0100006 | G33: DRP-PAC-PA4 | H33: PA04 - Water Quality | I33: Bratislava | J33: 45187 | K33: schválená | L33: 45246 | M33: 74850 | N33: N/A | O33: 3340/2023 | P33: 74850 | Q33: 74850 | R33: 45209 | S33: 44927 | T33: 47118 | U33: N/A | V33: N/A - projekt v implementácií | W33: 9513.81

Sheet Číselník právnych foriem ŠÚ SR
A1: Kód | B1: Názov | C1: Kód
A2: 100 | B2: Fyzická osoba-príležitostne činná-zapísaná v registri daňového informačného systému | C2: 100
A3: 101 | B3: Podnikateľ-fyzická osoba-nezapísaný v obchodnom registri | C3: 101
A4: 102 | B4: Podnikateľ-fyzická osoba-zapísaný v obchodnom registri | C4: 102
A5: 103 | B5: Samostatne hospodáriaci roľník nezapísaný v obchodnom registri | C5: 103
A6: 104 | B6: Samostatne hospodáriaci roľník zapísaný v obchodnom registri | C6: 104
A7: 105 | B7: Slobodné povolanie-fyzická osoba podnikajúca na základe iného ako živnostenského zákona | C7: 105
A8: 106 | B8: Slobodné povolanie-fyzická osoba podnikajúca na základe iného ako živnostenského zákona zapísaná v obchodnom registri | C8: 106
A9: 107 | B9: Podnikateľ-fyzická osoba-nezapís.v OR-podnikajúca súčasne ako sam.hosp.roľník | C9: 107
A10: 108 | B10: Podnikateľ-fyzická osoba-zapís.v OR-podnikajúca súčasne ako sam.hosp.roľník | C10: 108
A11: 109 | B11: Podnikateľ-fyzická osoba-nezapís.v OR-podnikajúca súčasne ako osoba so slobodným povolaním | C11: 109
A12: 110 | B12: Podnikateľ-fyzická osoba-zapís.v OR-podnikajúca súčasne ako osoba so slobodným povolaním | C12: 110
A13: 111 | B13: Verejná obchodná spoločnosť | C13: 111
... A58: 273 | B58: Združenie účastníkov pozemkových úprav | C58: 273
A59: 000 | B59: fyzická osoba, ktorá dovŕšila vek 18 rokov | C59: 000
