Workbook

Sheet report-neaktualne
B2: Od | C2: Do | D2: Hovory (prichádzajúce a odchádzajúce) | E2: Kontaktný formulár | F2: Spadnuté hovory | G2: Požiadavky nahodené za eGOV | H2: Test | I2: Spolu dopytov | J2: priemer: operátor/deň | K2: Aktualizácia
A3: aktuálne za rok 2017 - otvorený rok | B3: 42736 | C3: 43028 | D3: =SUM('2017'!D:D,'2017'!L:L) -> 69447 | E3: =SUM('2017'!E2:E587) -> 14282 | F3: =SUM('2017'!K2:K587) -> 3909 | G3: nenahadzujeme už | H3: =SUM('2016'!G2:G588) -> 159 | I3: =SUM('2017'!D:D,'2017'!E:E,'2017'!L:L) -> 83729 | J3: =AVERAGE('2017'!I2:I587) -> 27.923695 | K3: týždenne | L3: automaticky
A4: spolu za posledný mesiac | B4: 42979 | C4: 43008 | D4: =SUM('2017'!D206,'2017'!D186:D206,'2017'!L186:L206) -> 8640 | E4: =SUM('2017'!E186:E206) -> 2033 | F4: =SUM('2017'!K188:K206) -> 1555 | G4: nenahadzujeme už | H4: =SUM('2016'!G184:G205) -> 19 | I4: =SUM('2017'!D186,'2017'!D186:D206,'2017'!E186:E206,'2017'!L188,'2017'!L186,'2017'!L187,'2017'!L188,'2017'!L189:L206) -> 10377 | J4: =AVERAGE('2016'!I184:I205) -> 23.7 | K4: mesačne | L4: ručne
A5: spolu za posledný týždeň | B5: 43024 | C5: 43028 | D5: =SUM('2017'!D218:D222,'2017'!L218:L222) -> 1618 | E5: =SUM('2017'!E218:E222) -> 321 | F5: =SUM('2017'!K218:K222) -> 79 | G5: nenahadzujeme už | H5: =SUM('2016'!G207:G211) -> 0 | I5: =SUM('2017'!D218,'2017'!D218:E222,'2017'!L218:L222) -> 2228 | J5: =AVERAGE('2016'!I218:I222) -> 32.2 | K5: týždenne | L5: ručne
A6: zmena oproti predchádzajúcemu týždňu | B6: porovnanie za predchádzajúci týždeň | D6: =D5-SUM('2016'!D154:D158) -> 1216 | E6: =E5-SUM('2016'!E154:E158) -> 273 | F6: =F5-SUM('2016'!K154:K158) -> 78 | G6: =G5-SUM('2016'!F154:F158) -> #VALUE! | H6: =H5-SUM('2016'!G154:G158) -> 0 | I6: =I5-SUM('2016'!H154:H158) -> 1776 | J6: =J5-AVERAGE('2016'!I154:I158) -> 16.8 | K6: týždenne | L6: 42590
A7: zmena oproti predchádzajúcemu mesiacu | B7: porovnanie (Jún - Júl) | D7: =D4-SUM('2016'!D115:D136) -> 7396 | E7: =E4-SUM('2016'!E115:E136) -> 1844 | F7: =F4-SUM('2016'!K115:K136) -> 1555 | G7: =G4-SUM('2016'!F115:F136) -> #VALUE! | H7: =H4-SUM('2016'!G115:G136) -> 15 | I7: =I4-SUM('2016'!H115:H136) -> 8931 | J7: =J4-AVERAGE('2016'!I115:I136) -> 7.7454545 | K7: mesačne | L7: 42583
A8: spolu za 2013 | B8: 41596 | C8: 41639 | D8: =SUM('2013-2014'!D2:D8) -> 1997 | E8: =SUM('2013-2014'!F2:F8) -> 521 | F8: =SUM('2013-2014'!G2:G8) -> 417 | G8: neevidované | H8: neevidované | I8: =SUM(D8,E8,F8) -> 2935 | J8: neevidované | K8: ročne | L8: automaticky
A9: spolu za 2014 | B9: 41640 | C9: 42004 | D9: =SUM('2013-2014'!D9:D11,'2013-2014'!D13:D17,'2013-2014'!D18:D255) -> 10546 | E9: =SUM('2013-2014'!F9:F11,'2013-2014'!F13:F17,'2013-2014'!F18:F255) -> 3231 | F9: =SUM('2013-2014'!G9:G11,'2013-2014'!G13:G17,'2013-2014'!G18:G255) -> 207 | G9: neevidované | H9: neevidované | I9: =SUM(D9,E9,F9) -> 13984 | J9: =AVERAGE('2013-2014'!E13:E255) -> 9.8232759 | K9: ročne | L9: automaticky
A10: spolu za 2015 | B10: 42005 | C10: 42369 | D10: =SUM('2015'!D2:D300) -> 10560 | E10: =SUM('2015'!E2:E262) -> 2807 | F10: =SUM('2015'!F2:F262) -> 0 | G10: =SUM('2015'!G2:G262) -> 385 | H10: =SUM('2015'!H2:H262) -> 111 | I10: =SUM('2015'!I2:I262) -> 13844 | J10: =AVERAGE('2015'!J2:J262) -> 13.384 | K10: ročne | L10: automaticky
A11: spolu za 2016 | B11: 42370 | C11: 42735 | D11: =SUM('2016'!D:D,'2016'!L:L) -> 23847 | E11: =SUM('2016'!E2:E300) -> 5112 | F11: =SUM('2016'!K2:K300) -> 1792 | G11: nenahadzujeme už | I11: =SUM('2016'!D:D,'2016'!E:E,'2016'!L:L) -> 28959 | J11: =AVERAGE('2016'!I2:I300) -> 21.384 | K11: ročne | L11: automaticky

Sheet 2013-2014
B1: Datum | C1: Calls + HD | D1: CALLS | E1: priemer: operátor/tyzden | F1: HD | G1: Failed | H1: CC | I1: Spolu dopytov
B2: 18-22/11/2013 | C2: 215 | D2: =I2-F2-G2 -> 161 | E2: =C2/3 -> 71.666667 | F2: 83 | G2: 7 | H2: 29 | I2: =C2+H2+G2 -> 251
B3: 25-29/11/2013 | C3: 166 | D3: =I3-F3-G3 -> 172 | E3: =C3/3 -> 55.333333 | F3: 49 | G3: 14 | H3: 55 | I3: =C3+H3+G3 -> 235
B4: 2-6/12/2013 | C4: 161 | D4: =I4-F4-G4 -> 182 | E4: =C4/3 -> 53.666667 | F4: 63 | G4: 12 | H4: 84 | I4: =C4+H4+G4 -> 257
B5: 9-13/12/2013 | C5: 242 | D5: =I5-F5-G5 -> 343 | E5: =C5/3 -> 80.666667 | F5: 113 | G5: 109 | H5: 214 | I5: =C5+H5+G5 -> 565
B6: 16-20/12/2013 | C6: 289 | D6: =I6-F6-G6 -> 594 | E6: =C6/3 -> 96.333333 | F6: 88 | G6: 169 | H6: 393 | I6: =C6+H6+G6 -> 851
B7: 21-27/12/2013 | C7: 104 | D7: =I7-F7-G7 -> 186 | E7: =C7/3 -> 34.666667 | F7: 27 | G7: 56 | H7: 109 | I7: =C7+H7+G7 -> 269
B8: 30/12-3/1/2014 | C8: 294 | D8: =I8-F8-G8 -> 359 | E8: =C8/3 -> 98 | F8: 98 | G8: 50 | H8: 163 | I8: =C8+H8+G8 -> 507
B9: 7-10/1/2014 | C9: 386 | D9: =I9-F9-G9 -> 356 | E9: =C9/3 -> 128.66667 | F9: 128 | G9: 64 | H9: 98 | I9: =C9+H9+G9 -> 548
B10: 13-17/1/2014 | C10: 531 | D10: =I10-F10-G10 -> 397 | E10: =C10/3 -> 177 | F10: 168 | G10: 13 | H10: 34 | I10: =C10+H10+G10 -> 578
B11: 20-24/1/2014 | C11: 464 | D11: =I11-F11-G11 -> 347 | E11: =C11/3 -> 154.66667 | F11: 133 | G11: 4 | H11: 16 | I11: =C11+H11+G11 -> 484
B12: Datum | C12: Calls + HD | D12: CALLS | E12: priemer: operátor/deň | F12: HD | G12: Failed | H12: CC | I12: Spolu dopytov
B13: 41666 | C13: 79 | D13: =I13-F13-G13 -> 66 | E13: 13 | F13: 15 | G13: 0 | H13: 2 | I13: =C13+H13+G13 -> 81
B14: 41667 | C14: 109 | D14: =I14-F14-G14 -> 87 | E14: 22 | F14: 27 | G14: 1 | H14: 5 | I14: =C14+H14+G14 -> 115
B15: 41668 | C15: 111 | D15: =I15-F15-G15 -> 78 | E15: 37 | F15: 41 | G15: 3 | H15: 8 | I15: =C15+H15+G15 -> 122
B16: 41669 | C16: 124 | D16: =I16-F16-G16 -> 94 | E16: 21 | F16: 47 | G16: 6 | H16: 17 | I16: =C16+H16+G16 -> 147
B17: 41670 | C17: 148 | D17: =I17-F17-G17 -> 117 | E17: 37 | F17: 47 | G17: 4 | H17: 16 | I17: =C17+H17+G17 -> 168
B18: 41673 | C18: 287 | D18: =I18-F18-G18 -> 222 | E18: 57 | F18: 65 | G18: 19 | I18: =C18+G18 -> 306
B19: 41674 | C19: 258 | D19: =I19-F19-G19 -> 209 | E19: 43 | F19: 49 | G19: 6 | I19: =C19+G19 -> 264
B20: 41675 | C20: 181 | D20: =I20-F20-G20 -> 155 | E20: 30 | F20: 26 | G20: 7 | I20: =C20+G20 -> 188
B21: 41676 | C21: 143 | D21: =I21-F21-G21 -> 112 | E21: 24 | F21: 31 | G21: 4 | I21: =C21+G21 -> 147
B22: 41677 | C22: 126 | D22: =I22-F22-G22 -> 108 | E22: 25 | F22: 18 | G22: 2 | I22: =C22+G22 -> 128
B23: 41680 | C23: 181 | D23: =I23-F23-G23 -> 133 | E23: 30 | F23: 48 | G23: 3 | I23: =C23+G23 -> 184
B24: 41681 | C24: 164 | D24: =I24-F24-G24 -> 128 | E24: 33 | F24: 36 | G24: 9 | I24: =C24+G24 -> 173
B25: 41682 | C25: 140 | D25: =I25-F25-G25 -> 106 | E25: 47 | F25: 34 | G25: 14 | I25: =C25+G25 -> 154
B26: 41683 | C26: 96 | D26: =I26-F26-G26 -> 78 | E26: 19 | F26: 18 | G26: 0 | I26: =C26+G26 -> 96
B27: 41684 | C27: 71 | D27: =I27-F27-G27 -> 55 | E27: 14 | F27: 16 | G27: 0 | I27: =C27+G27 -> 71
B28: 41687 | C28: 113 | D28: =I28-F28-G28 -> 89 | E28: 38 | F28: 24 | G28: 0 | I28: =C28+G28 -> 113
B29: 41688 | C29: 128 | D29: =I29-F29-G29 -> 104 | E29: 43 | F29: 24 | G29: 4 | I29: =C29+G29 -> 132
... B71: 41746 | C71: 48 | D71: =I71-F71-G71 -> 39 | E71: 12 | F71: 9 | G71: 1 | I71: =C71+G71 -> 49
B72: 41747
B73: 41750
B74: 41751 | C74: 111 | D74: =I74-F74-G74 -> 91 | E74: 19 | F74: 20 | G74: 0 | I74: =C74+G74 -> 111
B75: 41752 | C75: 98 | D75: =I75-F75-G75 -> 75 | E75: 14 | F75: 23 | G75: 0 | I75: =C75+G75 -> 98
B76: 41753 | C76: 95 | D76: =I76-F76-G76 -> 69 | E76: 14 | F76: 26 | G76: 1 | I76: =C76+G76 -> 96
B77: 41754 | C77: 96 | D77: =I77-F77-G77 -> 78 | E77: 14 | F77: 18 | G77: 1 | I77: =C77+G77 -> 97
B78: 41757 | C78: 88 | D78: =I78-F78-G78 -> 68 | E78: 15 | F78: 20 | G78: 0 | I78: =C78+G78 -> 88
B79: 41758 | C79: 88 | D79: =I79-F79-G79 -> 68 | E79: 13 | F79: 20 | G79: 0 | I79: =C79+G79 -> 88
B80: 41759 | C80: 103 | D80: =I80-F80-G80 -> 88 | E80: 15 | F80: 15 | G80: 6 | I80: =C80+G80 -> 109
B81: 41760
B82: 41761 | C82: 56 | D82: =I82-F82-G82 -> 42 | E82: 14 | F82: 14 | G82: 0 | I82: =C82+G82 -> 56
B83: 41764 | C83: 79 | D83: =I83-F83-G83 -> 59 | E83: 11 | F83: 20 | G83: 1 | I83: =C83+G83 -> 80
B84: 41765 | C84: 80 | D84: =I84-F84-G84 -> 59 | E84: 11 | F84: 21 | G84: 0 | I84: =C84+G84 -> 80
B85: 41766 | C85: 75 | D85: =I85-F85-G85 -> 59 | E85: 14 | F85: 16 | G85: 0 | I85: =C85+G85 -> 75
B86: 41767
B87: 41768 | C87: 45 | D87: =I87-F87-G87 -> 32 | E87: 11 | F87: 13 | G87: 1 | I87: =C87+G87 -> 46
B88: 41771 | C88: 65 | D88: =I88-F88-G88 -> 48 | E88: 11 | F88: 17 | G88: 0 | I88: =C88+G88 -> 65
B89: 41772 | C89: 72 | D89: =I89-F89-G89 -> 59 | E89: 12 | F89: 13 | G89: 0 | I89: =C89+G89 -> 72
B90: 41773 | C90: 64 | D90: =I90-F90-G90 -> 47 | E90: 9 | F90: 17 | G90: 1 | I90: =C90+G90 -> 65
B91: 41774 | C91: 41 | D91: =I91-F91-G91 -> 34 | E91: 6 | F91: 7 | G91: 0 | I91: =C91+G91 -> 41
B92: 41775 | C92: 40 | D92: =I92-F92-G92 -> 29 | E92: 6 | F92: 11 | G92: 0 | I92: =C92+G92 -> 40
B93: 41778 | C93: 40 | D93: =I93-F93-G93 -> 34 | E93: 6 | F93: 6 | G93: 0 | I93: =C93+G93 -> 40
B94: 41779 | C94: 59 | D94: =I94-F94-G94 -> 41 | E94: 8 | F94: 18 | G94: 0 | I94: =C94+G94 -> 59
B95: 41780 | C95: 54 | D95: =I95-F95-G95 -> 43 | E95: 9 | F95: 11 | G95: 0 | I95: =C95+G95 -> 54
B96: 41781 | C96: 63 | D96: =I96-F96-G96 -> 42 | E96: 9 | F96: 21 | G96: 0 | I96: =C96+G96 -> 63
B97: 41782 | C97: 48 | D97: =I97-F97-G97 -> 37 | E97: 8 | F97: 11 | G97: 0 | I97: =C97+G97 -> 48
B98: 41785 | C98: 58 | D98: =I98-F98-G98 -> 47 | E98: 8 | F98: 11 | G98: 1 | I98: =C98+G98 -> 59
... B166: 41879 | C166: 41 | D166: =I166-F166-G166 -> 35 | E166: 8 | F166: 6 | G166: 0 | I166: =C166+G166 -> 41
B167: 41880
B168: 41883
B169: 41884 | C169: 40 | D169: =I169-F169-G169 -> 27 | E169: 8 | F169: 13 | G169: 0 | I169: =C169+G169 -> 40
B170: 41885 | C170: 38 | D170: =I170-F170-G170 -> 27 | E170: 8 | F170: 11 | G170: 0 | I170: =C170+G170 -> 38
B171: 41886 | C171: 46 | D171: =I171-F171-G171 -> 30 | E171: 8 | F171: 16 | G171: 0 | I171: =C171+G171 -> 46
B172: 41887 | C172: 31 | D172: =I172-F172-G172 -> 24 | E172: 4 | F172: 7 | G172: 0 | I172: =C172+G172 -> 31
B173: 41890 | C173: 36 | D173: =I173-F173-G173 -> 29 | E173: 6 | F173: 7 | G173: 0 | I173: =C173+G173 -> 36
B174: 41891 | C174: 26 | D174: =I174-F174-G174 -> 21 | E174: 4 | F174: 5 | G174: 0 | I174: =C174+G174 -> 26
B175: 41892 | C175: 53 | D175: =I175-F175-G175 -> 41 | E175: 8 | F175: 12 | G175: 0 | I175: =C175+G175 -> 53
B176: 41893 | C176: 59 | D176: =I176-F176-G176 -> 49 | E176: 8 | F176: 10 | G176: 0 | I176: =C176+G176 -> 59
B177: 41894 | C177: 39 | D177: =I177-F177-G177 -> 36 | E177: 8 | F177: 3 | G177: 0 | I177: =C177+G177 -> 39
B178: 41897
B179: 41898 | C179: 43 | D179: =I179-F179-G179 -> 31 | E179: 9 | F179: 12 | G179: 0 | I179: =C179+G179 -> 43
B180: 41899 | C180: 33 | D180: =I180-F180-G180 -> 29 | E180: 8 | F180: 4 | G180: 0 | I180: =C180+G180 -> 33
B181: 41900 | C181: 20 | D181: =I181-F181-G181 -> 16 | E181: 5 | F181: 4 | G181: 0 | I181: =C181+G181 -> 20
B182: 41901 | C182: 28 | D182: =I182-F182-G182 -> 25 | E182: 7 | F182: 3 | G182: 0 | I182: =C182+G182 -> 28
B183: 41904 | C183: 43 | D183: =I183-F183-G183 -> 27 | E183: 9 | F183: 16 | G183: 0 | I183: =C183+G183 -> 43
B184: 41905 | C184: 29 | D184: =I184-F184-G184 -> 24 | E184: 7 | F184: 5 | G184: 0 | I184: =C184+G184 -> 29
B185: 41906 | C185: 32 | D185: =I185-F185-G185 -> 26 | E185: 8 | F185: 6 | G185: 0 | I185: =C185+G185 -> 32
B186: 41907 | C186: 25 | D186: =I186-F186-G186 -> 21 | E186: 4 | F186: 4 | G186: 0 | I186: =C186+G186 -> 25
B187: 41908 | C187: 28 | D187: =I187-F187-G187 -> 23 | E187: 4 | F187: 5 | G187: 0 | I187: =C187+G187 -> 28
B188: 41911 | C188: 34 | D188: =I188-F188-G188 -> 26 | E188: 6 | F188: 8 | G188: 0 | I188: =C188+G188 -> 34
B189: 41912 | C189: 36 | D189: =I189-F189-G189 -> 29 | E189: 5 | F189: 7 | G189: 0 | I189: =C189+G189 -> 36
B190: 41913 | C190: 31 | D190: =I190-F190-G190 -> 24 | E190: 4 | F190: 7 | G190: 0 | I190: =C190+G190 -> 31
... B222: 41957 | C222: 31 | D222: =I222-F222-G222 -> 22 | E222: 6 | F222: 9 | G222: 0 | I222: =C222+G222 -> 31
B223: 41960
B224: 41961 | C224: 39 | D224: =I224-F224-G224 -> 28 | E224: 7 | F224: 11 | G224: 0 | I224: =C224+G224 -> 39
B225: 41962 | C225: 47 | D225: =I225-F225-G225 -> 40 | E225: 9 | F225: 7 | G225: 0 | I225: =C225+G225 -> 47
B226: 41963 | C226: 43 | D226: =I226-F226-G226 -> 30 | E226: 7 | F226: 13 | G226: 0 | I226: =C226+G226 -> 43
B227: 41964 | C227: 34 | D227: =I227-F227-G227 -> 27 | E227: 6 | F227: 7 | G227: 0 | I227: =C227+G227 -> 34
B228: 41967 | C228: 48 | D228: =I228-F228-G228 -> 37 | E228: 8 | F228: 11 | G228: 0 | I228: =C228+G228 -> 48
B229: 41968 | C229: 36 | D229: =I229-F229-G229 -> 30 | E229: 6 | F229: 6 | G229: 0 | I229: =C229+G229 -> 36
B230: 41969 | C230: 25 | D230: =I230-F230-G230 -> 18 | E230: 4 | F230: 7 | G230: 0 | I230: =C230+G230 -> 25
B231: 41970 | C231: 25 | D231: =I231-F231-G231 -> 18 | E231: 4 | F231: 7 | G231: 0 | I231: =C231+G231 -> 25
B232: 41971 | C232: 29 | D232: =I232-F232-G232 -> 20 | E232: 5 | F232: 9 | G232: 0 | I232: =C232+G232 -> 29
B233: 41974 | C233: 43 | D233: =I233-F233-G233 -> 30 | E233: 7 | F233: 13 | G233: 0 | I233: =C233+G233 -> 43
B234: 41975 | C234: 24 | D234: =I234-F234-G234 -> 18 | E234: 4 | F234: 6 | G234: 0 | I234: =C234+G234 -> 24
B235: 41976 | C235: 32 | D235: =I235-F235-G235 -> 28 | E235: 6 | F235: 4 | G235: 0 | I235: =C235+G235 -> 32
... B249: 41996 | C249: 19 | D249: =I249-F249-G249 -> 17 | E249: 4 | F249: 2 | G249: 0 | I249: =C249+G249 -> 19
B250: 41997
B251: 41998
B252: 41999
...

Sheet 2015
B1: Datum | C1: Calls + HD | D1: Hovory | E1: Kontaktný formulár | F1: Prepadnuté do odkazovej schránky | G1: Požiadavky nahodené za eGOV | H1: Test | I1: Spolu dopytov | J1: priemer: operátor/deň
B2: 42005
B3: 42006 | C3: 13 | D3: =I3-E3-F3 -> 11 | E3: 2 | F3: 0 | I3: =C3+F3 -> 13 | J3: 7
B4: 42009 | C4: 28 | D4: =I4-E4-F4 -> 24 | E4: 4 | F4: 0 | I4: =C4+F4 -> 28 | J4: 14
B5: 42010
B6: 42011 | C6: 42 | D6: =I6-E6-F6 -> 28 | E6: 14 | F6: 0 | I6: =C6+F6 -> 42 | J6: 8
B7: 42012 | C7: 26 | D7: =I7-E7-F7 -> 19 | E7: 7 | F7: 0 | I7: =C7+F7 -> 26 | J7: 5
B8: 42013 | C8: 35 | D8: =I8-E8-F8 -> 23 | E8: 12 | F8: 0 | I8: =C8+F8 -> 35 | J8: 7
B9: 42016 | C9: 53 | D9: =I9-E9-F9 -> 34 | E9: 19 | F9: 0 | I9: =C9+F9 -> 53 | J9: 11
B10: 42017 | C10: 27 | D10: =I10-E10-F10 -> 21 | E10: 6 | F10: 0 | I10: =C10+F10 -> 27 | J10: 5
B11: 42018 | C11: 34 | D11: =I11-E11-F11 -> 24 | E11: 10 | F11: 0 | I11: =C11+F11 -> 34 | J11: 7
B12: 42019 | C12: 27 | D12: =I12-E12-F12 -> 18 | E12: 9 | F12: 0 | I12: =C12+F12 -> 27 | J12: 5
B13: 42020 | C13: 45 | D13: =I13-E13-F13 -> 34 | E13: 11 | F13: 0 | I13: =C13+F13 -> 45 | J13: 8
B14: 42023 | C14: 35 | D14: =I14-E14-F14 -> 26 | E14: 9 | F14: 0 | I14: =C14+F14 -> 35 | J14: 7
B15: 42024 | C15: 29 | D15: =I15-E15-F15 -> 22 | E15: 7 | F15: 0 | I15: =C15+F15 -> 29 | J15: 6
B16: 42025 | C16: 45 | D16: =I16-E16-F16 -> 32 | E16: 13 | F16: 0 | I16: =C16+F16 -> 45 | J16: 8
B17: 42026 | C17: 50 | D17: =I17-E17-F17 -> 36 | E17: 14 | F17: 0 | I17: =C17+F17 -> 50 | J17: 10
... B67: 42096 | C67: 36 | D67: =I67-E67-F67 -> 33 | E67: 3 | F67: 0 | I67: =C67+F67 -> 36 | J67: 6
B68: 42097
B69: 42100
B70: 42101 | C70: 65 | D70: =I70-E70-F70 -> 48 | E70: 17 | F70: 0 | I70: =C70+F70 -> 65 | J70: 11
B71: 42102 | C71: 55 | D71: =I71-E71-F71 -> 39 | E71: 16 | F71: 0 | I71: =C71+F71 -> 55 | J71: 9
B72: 42103 | C72: 105 | D72: =I72-E72-F72 -> 73 | E72: 32 | F72: 0 | I72: =C72+F72 -> 105 | J72: 53
B73: 42104 | C73: 82 | D73: =I73-E73-F73 -> 63 | E73: 19 | F73: 0 | I73: =C73+F73 -> 82 | J73: 41
B74: 42107 | C74: 60 | D74: =I74-E74-F74 -> 48 | E74: 12 | F74: 0 | I74: =C74+F74 -> 60 | J74: 10
B75: 42108 | C75: 30 | D75: =I75-E75-F75 -> 23 | E75: 7 | F75: 0 | I75: =C75+F75 -> 30 | J75: 5
B76: 42109 | C76: 40 | D76: =I76-E76-F76 -> 30 | E76: 10 | F76: 0 | I76: =C76+F76 -> 40 | J76: 8
B77: 42110 | C77: 40 | D77: =I77-E77-F77 -> 29 | E77: 11 | F77: 0 | I77: =C77+F77 -> 40 | J77: 7
B78: 42111 | C78: 30 | D78: =I78-E78-F78 -> 25 | E78: 5 | F78: 0 | I78: =C78+F78 -> 30 | J78: 8
B79: 42114 | C79: 37 | D79: =I79-E79-F79 -> 23 | E79: 14 | F79: 0 | I79: =C79+F79 -> 37 | J79: 9
B80: 42115 | C80: 46 | D80: =I80-E80-F80 -> 32 | E80: 14 | F80: 0 | I80: =C80+F80 -> 46 | J80: 12
B81: 42116 | C81: 33 | D81: =I81-E81-F81 -> 26 | E81: 7 | F81: 0 | I81: =C81+F81 -> 33 | J81: 8
... B87: 42124 | C87: 30 | D87: =I87-E87-F87 -> 25 | E87: 5 | F87: 0 | I87: =C87+F87 -> 30 | J87: 8
B88: 42125
B89: 42128 | D89: 14 | E89: 8 | F89: 0 | G89: 2 | H89: 1 | I89: =SUM(D89+E89+F89+G89) -> 24 | J89: 8
B90: 42129 | D90: 20 | E90: 5 | F90: 0 | G90: 3 | H90: 0 | I90: =SUM(D90+E90+F90+G90) -> 28 | J90: 9
B91: 42130 | D91: 17 | E91: 6 | F91: 0 | G91: 0 | H91: 4 | I91: =SUM(D91+E91+F91+G91) -> 23 | J91: 6
B92: 42131 | D92: 15 | E92: 4 | F92: 0 | G92: 0 | H92: 2 | I92: =SUM(D92+E92+F92+G92) -> 19 | J92: 5
B93: 42132
B94: 42135 | D94: 70 | E94: 34 | F94: 0 | G94: 1 | H94: 0 | I94: =SUM(D94+E94+F94+G94) -> 105 | J94: 35
B95: 42136 | D95: 17 | E95: 3 | F95: 0 | G95: 0 | H95: 0 | I95: =SUM(D95+E95+F95+G95) -> 20 | J95: 7
B96: 42137 | D96: 22 | E96: 5 | F96: 0 | G96: 3 | H96: 1 | I96: =SUM(D96+E96+F96+G96) -> 30 | J96: 10
B97: 42138 | D97: 29 | E97: 3 | F97: 0 | G97: 1 | H97: 1 | I97: =SUM(D97+E97+F97+G97) -> 33 | J97: 11
B98: 42139 | D98: 16 | E98: 4 | F98: 0 | G98: 2 | H98: 3 | I98: =SUM(D98+E98+F98+G98) -> 22 | J98: 7
B99: 42142 | D99: 29 | E99: 10 | F99: 0 | G99: 4 | H99: 1 | I99: =SUM(D99+E99+F99+G99) -> 43 | J99: 14
B100: 42143 | D100: 22 | E100: 2 | F100: 0 | G100: 1 | H100: 1 | I100: =SUM(D100+E100+F100+G100) -> 25 | J100: 8
B101: 42144 | D101: 24 | E101: 2 | F101: 0 | G101: 5 | H101: 1 | I101: =SUM(D101+E101+F101+G101) -> 31 | J101: 10
B102: 42145 | D102: 29 | E102: 6 | F102: 0 | G102: 2 | H102: 0 | I102: =SUM(D102+E102+F102+G102) -> 37 | J102: 12
B103: 42146 | D103: 15 | E103: 5 | F103: 0 | G103: 1 | H103: 2 | I103: =SUM(D103+E103+F103+G103) -> 21 | J103: 7
B104: 42149 | D104: 22 | E104: 8 | F104: 0 | G104: 0 | H104: 0 | I104: =SUM(D104+E104+F104+G104) -> 30 | J104: 10
B105: 42150 | D105: 18 | E105: 3 | F105: 0 | G105: 2 | H105: 0 | I105: =SUM(D105+E105+F105+G105) -> 23 | J105: 8
... B133: 42188 | D133: 27 | E133: 5 | F133: 0 | G133: 6 | H133: 0 | I133: =SUM(D133+E133+F133+G133) -> 38 | J133: 8
B134: 42191 | D134: 36 | E134: 10 | F134: 0 | G134: 2 | H134: 0 | I134: =SUM(D134+E134+F134+G134+H134) -> 48 | J134: 12
B135: 42192 | D135: 38 | E135: 10 | F135: 0 | G135: 6 | H135: 3 | I135: =SUM(D135+E135+F135+G135+H135) -> 57 | J135: 14
B136: 42193 | D136: 32 | E136: 8 | F136: 0 | G136: 4 | H136: 11 | I136: =SUM(D136+E136+F136+G136+H136) -> 55 | J136: 11
B137: 42194 | D137: 41 | E137: 2 | F137: 0 | G137: 1 | H137: 4 | I137: =SUM(D137+E137+F137+G137+H137) -> 48 | J137: 11
B138: 42195 | D138: 35 | E138: 7 | F138: 0 | G138: 4 | H138: 1 | I138: =SUM(D138+E138+F138+G138+H138) -> 47 | J138: 12
B139: 42198 | D139: 37 | E139: 10 | F139: 0 | G139: 5 | H139: 2 | I139: =SUM(D139+E139+F139+G139+H139) -> 54 | J139: 13
B140: 42199 | D140: 42 | E140: 7 | F140: 0 | G140: 2 | H140: 0 | I140: =SUM(D140+E140+F140+G140+H140) -> 51 | J140: 10
B141: 42200 | D141: 55 | E141: 7 | F141: 0 | G141: 5 | H141: 2 | I141: =SUM(D141+E141+F141+G141+H141) -> 69 | J141: 13
B142: 42201 | D142: 47 | E142: 6 | F142: 0 | G142: 1 | H142: 0 | I142: =SUM(D142+E142+F142+G142+H142) -> 54 | J142: 11
B143: 42202 | D143: 45 | E143: 4 | F143: 0 | G143: 1 | H143: 1 | I143: =SUM(D143+E143+F143+G143+H143) -> 51 | J143: 13
B144: 42205 | D144: 36 | E144: 12 | F144: 0 | G144: 1 | H144: 0 | I144: =SUM(D144+E144+F144+G144+H144) -> 49 | J144: 10
B145: 42206 | D145: 103 | E145: 13 | F145: 0 | G145: 2 | H145: 0 | I145: =SUM(D145+E145+F145+G145+H145) -> 118 | J145: 24
... B153: 42216 | D153: 57 | E153: 20 | F153: 0 | G153: 2 | H153: 0 | I153: =SUM(D153+E153+F153+G153+H153) -> 79 | J153: 20
B154: 42219 | D154: 51 | E154: 7 | F154: 0 | G154: 2 | H154: 0 | I154: =SUM(D154+E154+F154+G154) -> 60 | J154: 12
B155: 42220 | D155: 44 | E155: 11 | F155: 0 | G155: 2 | H155: 0 | I155: =SUM(D155+E155+F155+G155) -> 57 | J155: 11
B156: 42221 | D156: 45 | E156: 14 | F156: 0 | G156: 5 | H156: 0 | I156: =SUM(D156+E156+F156+G156) -> 64 | J156: 13
B157: 42222 | D157: 45 | E157: 9 | F157: 0 | G157: 3 | H157: 1 | I157: =SUM(D157+E157+F157+G157+H157) -> 58 | J157: 12
B158: 42223 | D158: 31 | E158: 6 | F158: 0 | G158: 2 | H158: 0 | I158: =SUM(D158+E158+F158+G158+H158) -> 39 | J158: 10
B159: 42226 | D159: 39 | E159: 12 | F159: 0 | G159: 2 | H159: 0 | I159: =SUM(D159+E159+F159+G159+H159) -> 53 | J159: 11
B160: 42227 | D160: 39 | E160: 11 | F160: 0 | G160: 1 | H160: 0 | I160: =SUM(D160+E160+F160+G160+H160) -> 51 | J160: 10
B161: 42228 | D161: 43 | E161: 9 | F161: 0 | G161: 6 | H161: 0 | I161: =SUM(D161+E161+F161+G161+H161) -> 58 | J161: 15
B162: 42229 | D162: 34 | E162: 11 | F162: 0 | G162: 1 | H162: 0 | I162: =SUM(D162+E162+F162+G162+H162) -> 46 | J162: 15
B163: 42230 | D163: 27 | E163: 10 | F163: 0 | G163: 2 | H163: 0 | I163: =SUM(D163+E163+F163+G163+H163) -> 39 | J163: 13
B164: 42233 | D164: 58 | E164: 16 | F164: 0 | G164: 0 | H164: 0 | I164: =SUM(D164+E164+F164+G164+H164) -> 74 | J164: 19
B165: 42234 | D165: 47 | E165: 7 | F165: 0 | G165: 5 | H165: 1 | I165: =SUM(D165+E165+F165+G165+H165) -> 60 | J165: 15
B166: 42235 | D166: 53 | E166: 17 | F166: 0 | G166: 0 | H166: 0 | I166: =SUM(D166+E166+F166+G166+H166) -> 70 | J166: 18
B167: 42236 | D167: 59 | E167: 5 | F167: 0 | G167: 14 | H167: 0 | I167: =SUM(D167+E167+F167+G167+H167) -> 78 | J167: 20
B168: 42237 | D168: 33 | E168: 7 | F168: 0 | G168: 7 | H168: 0 | I168: =SUM(D168+E168+F168+G168+H168) -> 47 | J168: 12
... B174: 42247 | D174: 44 | E174: 15 | F174: 0 | G174: 2 | H174: 0 | I174: =SUM(D174+E174+F174+G174+H174) -> 61 | J174: 15
B175: 42248
B176: 42249 | D176: 69 | E176: 17 | F176: 0 | G176: 9 | H176: 0 | I176: =SUM(D176+E176+F176+G176) -> 95 | J176: 24
B177: 42250 | D177: 70 | E177: 18 | F177: 0 | G177: 3 | H177: 0 | I177: =SUM(D177+E177+F177+G177) -> 91 | J177: 23
B178: 42251 | D178: 63 | E178: 15 | F178: 0 | G178: 0 | H178: 0 | I178: =SUM(D178+E178+F178+G178+H178) -> 78 | J178: 20
B179: 42254 | D179: 54 | E179: 13 | F179: 0 | G179: 1 | H179: 0 | I179: =SUM(D179+E179+F179+G179+H179) -> 68 | J179: 14
B180: 42255 | D180: 75 | E180: 15 | F180: 0 | G180: 4 | H180: 0 | I180: =SUM(D180+E180+F180+G180+H180) -> 94 | J180: 19
B181: 42256 | D181: 80 | E181: 20 | F181: 0 | G181: 5 | H181: 0 | I181: =SUM(D181+E181+F181+G181+H181) -> 105 | J181: 21
B182: 42257 | D182: 85 | E182: 20 | F182: 0 | G182: 1 | H182: 0 | I182: =SUM(D182+E182+F182+G182+H182) -> 106 | J182: 21
B183: 42258 | D183: 54 | E183: 20 | F183: 0 | G183: 5 | H183: 0 | I183: =SUM(D183+E183+F183+G183+H183) -> 79 | J183: 16
B184: 42261 | D184: 73 | E184: 14 | F184: 0 | G184: 3 | H184: 0 | I184: =SUM(D184+E184+F184+G184+H184) -> 90 | J184: 18
B185: 42262
B186: 42263 | D186: 74 | E186: 18 | F186: 0 | G186: 8 | H186: 0 | I186: =SUM(D186+E186+F186+G186+H186) -> 100 | J186: 20
B187: 42264 | D187: 65 | E187: 14 | F187: 0 | G187: 1 | H187: 0 | I187: =SUM(D187+E187+F187+G187+H187) -> 80 | J187: 16
B188: 42265 | D188: 68 | E188: 5 | F188: 0 | G188: 1 | H188: 0 | I188: =SUM(D188+E188+F188+G188+H188) -> 74 | J188: 15
B189: 42268 | D189: 63 | E189: 13 | F189: 0 | G189: 0 | H189: 0 | I189: =SUM(D189+E189+F189+G189+H189) -> 76 | J189: 15
B190: 42269 | D190: 63 | E190: 5 | F190: 0 | G190: 3 | H190: 0 | I190: =SUM(D190+E190+F190+G190+H190) -> 71 | J190: 14
B191: 42270 | D191: 59 | E191: 15 | F191: 0 | G191: 11 | H191: 0 | I191: =SUM(D191+E191+F191+G191+H191) -> 85 | J191: 17
B192: 42271 | D192: 67 | E192: 15 | F192: 0 | G192: 14 | H192: 0 | I192: =SUM(D192+E192+F192+G192+H192) -> 96 | J192: 19
B193: 42272 | D193: 54 | E193: 15 | F193: 0 | G193: 10 | H193: 0 | I193: =SUM(D193+E193+F193+G193+H193) -> 79 | J193: 16
...

Sheet 2016
A1: Rok 2016 | B1: Dátum | C1: Požiadavky externé (Hovory + Kontaktný formulár) | D1: Vybavené hovory | E1: Vybavené kontaktný formulár | F1: Požiadavky interné (NASES) | G1: Testovacie požiadavky (Globaltel + NASES KC | H1: Vybavené hovory + kontaktný formulár celkom | I1: Vybavené hovory + kontaktný formulár celkom operátor/deň | J1: Vybavené elektronické schránky | K1: Spadnuté hovory | L1: Volané späť | N1: Vysvetlivky
A2: Január | B2: 42370 | O2: štátny sviatok
B3: 42373 | C3: =SUM(D3+E3) -> 59 | D3: 50 | E3: 9 | F3: 0 | G3: 0 | H3: =SUM(D3+E3) -> 59 | I3: 15 | K3: 0
B4: 42374 | C4: =SUM(D4+E4) -> 43 | D4: 33 | E4: 10 | F4: 0 | G4: 0 | H4: =SUM(D4+E4+K4+F4+G4) -> 43 | I4: 11 | K4: 0 | O4: pracovný týždeň
B5: 42375 | C5: =SUM(D5+E5) -> 0
B6: 42376 | C6: =SUM(D6+E6) -> 77 | D6: 62 | E6: 15 | F6: 0 | G6: 0 | H6: =SUM(D6+E6+K6+F6+G6) -> 77 | I6: 20 | K6: 0 | O6: začiatok nového mesiaca
B7: 42377 | C7: =SUM(D7+E7) -> 57 | D7: 49 | E7: 8 | F7: 0 | G7: 0 | H7: =SUM(D7+E7+K7+F7+G7) -> 57 | I7: 19 | K7: 0
B8: 42380 | C8: =SUM(D8+E8) -> 76 | D8: 56 | E8: 20 | F8: 0 | G8: 0 | H8: =SUM(D8+E8+K8+F8+G8) -> 76 | I8: 15 | K8: 0
B9: 42381 | C9: =SUM(D9+E9) -> 42 | D9: 39 | E9: 3 | F9: 0 | G9: 0 | H9: =SUM(D9+E9+K9+F9+G9) -> 42 | I9: 8 | K9: 0
B10: 42382 | C10: =SUM(D10+E10) -> 71 | D10: 60 | E10: 11 | F10: 0 | G10: 0 | H10: =SUM(D10+E10+K10+F10+G10) -> 71 | I10: 14 | K10: 0
B11: 42383 | C11: =SUM(D11+E11) -> 89 | D11: 72 | E11: 17 | F11: 1 | G11: 0 | H11: =SUM(D11+E11+K11+F11+G11) -> 90 | I11: 18 | K11: 0
B12: 42384 | C12: =SUM(D12+E12) -> 68 | D12: 42 | E12: 26 | F12: 0 | G12: 0 | H12: =SUM(D12+E12+K12+F12+G12) -> 68 | I12: 17 | K12: 0
B13: 42387 | C13: =SUM(D13+E13) -> 103 | D13: 80 | E13: 23 | F13: 0 | G13: 0 | H13: =SUM(D13+E13+K13+F13+G13) -> 103 | I13: 26 | K13: 0
B14: 42388 | C14: =SUM(D14+E14) -> 70 | D14: 61 | E14: 9 | F14: 0 | G14: 0 | H14: =SUM(D14+E14+K14+F14+G14) -> 70 | I14: 23 | K14: 0
B15: 42389 | C15: =SUM(D15+E15) -> 83 | D15: 70 | E15: 13 | F15: 0 | G15: 0 | H15: =SUM(D15+E15+K15+F15+G15) -> 83 | I15: 21 | K15: 0
B16: 42390 | C16: =SUM(D16+E16) -> 83 | D16: 67 | E16: 16 | F16: 1 | G16: 0 | H16: =SUM(D16+E16+K16+F16+G16) -> 84 | I16: 21 | K16: 0
B17: 42391 | C17: =SUM(D17+E17) -> 56 | D17: 47 | E17: 9 | F17: 0 | G17: 0 | H17: =SUM(D17+E17+K17+F17+G17) -> 56 | I17: 14 | K17: 0
B18: 42394 | C18: =SUM(D18+E18) -> 131 | D18: 107 | E18: 24 | F18: 2 | G18: 0 | H18: =SUM(D18+E18+K18+F18+G18) -> 133 | I18: 26 | K18: 0
... B22: 42398 | C22: =SUM(D22+E22) -> 51 | D22: 47 | E22: 4 | F22: 0 | G22: 0 | H22: =SUM(D22+E22+K22+F22+G22) -> 51 | I22: 14 | K22: 0
A23: Február
B24: 42401 | C24: =SUM(D24+E24) -> 51 | D24: 37 | E24: 14 | F24: 0 | G24: 0 | H24: =SUM(D24+E24+K24+F24+G24) -> 51 | I24: 16 | K24: 0
B25: 42402 | C25: =SUM(D25+E25) -> 22 | D25: 16 | E25: 6 | F25: 1 | G25: 0 | H25: =SUM(D25+E25+K25+F25+G25) -> 23 | I25: 16 | K25: 0
B26: 42403 | C26: =SUM(D26+E26) -> 29 | D26: 14 | E26: 15 | F26: 1 | G26: 0 | H26: =SUM(D26+E26+K26+F26+G26) -> 30 | I26: 16 | K26: 0
B27: 42404 | C27: =SUM(D27+E27) -> 27 | D27: 15 | E27: 12 | F27: 0 | G27: 0 | H27: =SUM(D27+E27+K27+F27+G27) -> 27 | I27: 23 | K27: 0
B28: 42405 | C28: =SUM(D28+E28) -> 28 | D28: 13 | E28: 15 | F28: 2 | G28: 0 | H28: =SUM(D28+E28+K28+F28+G28) -> 30 | I28: 14 | K28: 0
B29: 42408 | C29: =SUM(D29+E29) -> 62 | D29: 51 | E29: 11 | F29: 0 | G29: 0 | H29: =SUM(D29+E29+K29+F29+G29) -> 62 | I29: 15 | K29: 0
B30: 42409 | C30: =SUM(D30+E30) -> 36 | D30: 31 | E30: 5 | F30: 0 | G30: 0 | H30: =SUM(D30+E30+K30+F30+G30) -> 36 | I30: 9 | K30: 0
B31: 42410 | C31: =SUM(D31+E31) -> 54 | D31: 50 | E31: 4 | F31: 0 | G31: 0 | H31: =SUM(D31+E31+K31+F31+G31) -> 54 | I31: 14 | K31: 0
B32: 42411 | C32: =SUM(D32+E32) -> 57 | D32: 45 | E32: 12 | F32: 0 | G32: 0 | H32: =SUM(D32+E32+K32+F32+G32) -> 57 | I32: 12 | K32: 0
B33: 42412 | C33: =SUM(D33+E33) -> 58 | D33: 46 | E33: 12 | F33: 0 | G33: 0 | H33: =SUM(D33+E33+K33+F33+G33) -> 58 | I33: 15 | K33: 0
B34: 42415 | C34: =SUM(D34+E34) -> 56 | D34: 47 | E34: 9 | F34: 0 | G34: 0 | H34: =SUM(D34+E34+K34+F34+G34) -> 56 | I34: 14 | K34: 0
B35: 42416 | C35: =SUM(D35+E35) -> 158 | D35: 142 | E35: 16 | F35: 0 | G35: 0 | H35: =SUM(D35+E35+K35+F35+G35) -> 158 | I35: 32 | K35: 0
... B44: 42429 | C44: =SUM(D44+E44) -> 88 | D44: 73 | E44: 15 | F44: 2 | G44: 0 | H44: =SUM(D44+E44+K44+F44+G44) -> 90 | I44: 23 | K44: 0
A45: Marec
B46: 42430 | C46: =SUM(D46+E46) -> 57 | D46: 50 | E46: 7 | F46: 0 | G46: 0 | H46: =SUM(D46+E46+K46+F46+G46) -> 57 | I46: 14 | K46: 0
B47: 42431 | C47: =SUM(D47+E47) -> 58 | D47: 47 | E47: 11 | F47: 0 | G47: 0 | H47: =SUM(D47+E47+K47+F47+G47) -> 58 | I47: 15 | K47: 0
B48: 42432 | C48: =SUM(D48+E48) -> 76 | D48: 59 | E48: 17 | F48: 0 | G48: 0 | H48: =SUM(D48+E48+K48+F48+G48) -> 76 | I48: 19 | K48: 0
B49: 42433 | C49: =SUM(D49+E49) -> 64 | D49: 57 | E49: 7 | F49: 1 | G49: 0 | H49: =SUM(D49+E49+K49+F49+G49) -> 65 | I49: 16 | K49: 0
B50: 42436 | C50: =SUM(D50+E50) -> 96 | D50: 79 | E50: 17 | F50: 1 | G50: 0 | H50: =SUM(D50+E50+K50+F50+G50) -> 97 | I50: 24 | K50: 0
B51: 42437 | C51: =SUM(D51+E51) -> 73 | D51: 50 | E51: 23 | F51: 0 | G51: 0 | H51: =SUM(D51+E51+K51+F51+G51) -> 73 | I51: 18 | K51: 0
B52: 42438 | C52: =SUM(D52+E52) -> 67 | D52: 56 | E52: 11 | F52: 1 | G52: 0 | H52: =SUM(D52+E52+K52+F52+G52) -> 68 | I52: 17 | K52: 0
B53: 42439 | C53: =SUM(D53+E53) -> 67 | D53: 55 | E53: 12 | F53: 0 | G53: 0 | H53: =SUM(D53+E53+K53+F53+G53) -> 67 | I53: 17 | K53: 0
B54: 42440 | C54: =SUM(D54+E54) -> 49 | D54: 37 | E54: 12 | F54: 0 | G54: 0 | H54: =SUM(D54+E54+K54+F54+G54) -> 49 | I54: 16 | K54: 0
B55: 42443 | C55: =SUM(D55+E55) -> 66 | D55: 48 | E55: 18 | F55: 0 | G55: 0 | H55: =SUM(D55+E55+K55+F55+G55) -> 66 | I55: 13 | K55: 0
B56: 42444 | C56: =SUM(D56+E56) -> 57 | D56: 47 | E56: 10 | F56: 2 | G56: 0 | H56: =SUM(D56+E56+K56+F56+G56) -> 59 | I56: 15 | K56: 0
B57: 42445 | C57: =SUM(D57+E57) -> 58 | D57: 44 | E57: 14 | F57: 0 | G57: 0 | H57: =SUM(D57+E57+K57+F57+G57) -> 58 | I57: 12 | K57: 0
... B63: 42453 | C63: =SUM(D63+E63) -> 49 | D63: 46 | E63: 3 | F63: 1 | G63: 0 | H63: =SUM(D63+E63+K63+F63+G63) -> 50 | I63: 10 | K63: 0
B64: 42454
B65: 42457
B66: 42458 | C66: =SUM(D66+E66) -> 51 | D66: 41 | E66: 10 | F66: 3 | G66: 0 | H66: =SUM(D66+E66+K66+F66+G66) -> 54 | I66: 18 | K66: 0
B67: 42459 | C67: =SUM(D67+E67) -> 109 | D67: 97 | E67: 12 | F67: 0 | G67: 0 | H67: =SUM(D67+E67+K67+F67+G67) -> 109 | I67: 22 | K67: 0
B68: 42460 | C68: =SUM(D68+E68) -> 105 | D68: 92 | E68: 13 | F68: 0 | G68: 0 | H68: =SUM(D68+E68+K68+F68+G68) -> 105 | I68: 21 | K68: 0
A69: Apríl
B70: 42461 | C70: =SUM(D70+E70) -> 52 | D70: 37 | E70: 15 | F70: 0 | G70: 3 | H70: =SUM(D70+E70+K70+F70+G70) -> 55 | I70: 14 | K70: 0
B71: 42464 | C71: =SUM(D71+E71) -> 62 | D71: 51 | E71: 11 | F71: 0 | G71: 0 | H71: =SUM(D71+E71+K71+F71+G71) -> 62 | I71: 16 | K71: 0
B72: 42465 | C72: =SUM(D72+E72) -> 48 | D72: 39 | E72: 9 | F72: 0 | G72: 0 | H72: =SUM(D72+E72+K72+F72+G72) -> 48 | I72: 11 | K72: 0
B73: 42466 | C73: =SUM(D73+E73) -> 62 | D73: 48 | E73: 14 | F73: 3 | G73: 0 | H73: =SUM(D73+E73+K73+F73+G73) -> 65 | I73: 16 | K73: 0
B74: 42467 | C74: =SUM(D74+E74) -> 83 | D74: 76 | E74: 7 | F74: 1 | G74: 2 | H74: =SUM(D74+E74+K74+F74+G74) -> 86 | I74: 22 | K74: 0
B75: 42468 | C75: =SUM(D75+E75) -> 45 | D75: 36 | E75: 9 | F75: 5 | G75: 0 | H75: =SUM(D75+E75+K75+F75+G75) -> 50 | I75: 10 | K75: 0
B76: 42471 | C76: =SUM(D76+E76) -> 57 | D76: 46 | E76: 11 | F76: 0 | G76: 0 | H76: =SUM(D76+E76+K76+F76+G76) -> 57 | I76: 14 | K76: 0
B77: 42472 | C77: =SUM(D77+E77) -> 65 | D77: 56 | E77: 9 | F77: 2 | G77: 0 | H77: =SUM(D77+E77+K77+F77+G77) -> 67 | I77: 13 | K77: 0
B78: 42473 | C78: =SUM(D78+E78) -> 43 | D78: 35 | E78: 8 | F78: 0 | G78: 2 | H78: =SUM(D78+E78+K78+F78+G78) -> 45 | I78: 9 | K78: 0
B79: 42474 | C79: =SUM(D79+E79) -> 64 | D79: 52 | E79: 12 | F79: 0 | G79: 0 | H79: =SUM(D79+E79+K79+F79+G79) -> 64 | I79: 16 | K79: 0
B80: 42475 | C80: =SUM(D80+E80) -> 49 | D80: 43 | E80: 6 | F80: 0 | G80: 0 | H80: =SUM(D80+E80+K80+F80+G80) -> 49 | I80: 12 | K80: 0
B81: 42478 | C81: =SUM(D81+E81) -> 46 | D81: 35 | E81: 11 | F81: 0 | G81: 0 | H81: =SUM(D81+E81+K81+F81+G81) -> 46 | I81: 15 | K81: 0
... B90: 42489 | C90: =SUM(D90+E90) -> 49 | D90: 44 | E90: 5 | F90: 1 | G90: 0 | H90: =SUM(D90+E90+K90+F90+G90) -> 50 | I90: 13 | K90: 0
A91: Máj
B92: 42492 | C92: =SUM(D92+E92) -> 60 | D92: 52 | E92: 8 | F92: 0 | G92: 0 | H92: =SUM(D92+E92+K92+F92+G92) -> 60 | I92: 15 | K92: 0
B93: 42127 | C93: =SUM(D93+E93) -> 55 | D93: 52 | E93: 3 | F93: 0 | G93: 0 | H93: =SUM(D93+E93+K93+F93+G93) -> 55 | I93: 11 | K93: 0
B94: 42494 | C94: =SUM(D94+E94) -> 59 | D94: 53 | E94: 6 | F94: 0 | G94: 0 | H94: =SUM(D94+E94+K94+F94+G94) -> 59 | I94: 12 | K94: 0
B95: 42495 | C95: =SUM(D95+E95) -> 57 | D95: 42 | E95: 15 | F95: 1 | G95: 0 | H95: =SUM(D95+E95+K95+F95+G95) -> 58 | I95: 15 | K95: 0
B96: 42496 | C96: =SUM(D96+E96) -> 43 | D96: 38 | E96: 5 | F96: 2 | G96: 0 | H96: =SUM(D96+E96+K96+F96+G96) -> 45 | I96: 11 | K96: 0
B97: 42499 | C97: =SUM(D97+E97) -> 56 | D97: 44 | E97: 12 | F97: 0 | G97: 0 | H97: =SUM(D97+E97+K97+F97+G97) -> 56 | I97: 14 | K97: 0
B98: 42500 | C98: =SUM(D98+E98) -> 53 | D98: 44 | E98: 9 | F98: 1 | G98: 0 | H98: =SUM(D98+E98+K98+F98+G98) -> 54 | I98: 18 | K98: 0
B99: 42501 | C99: =SUM(D99+E99) -> 45 | D99: 44 | E99: 1 | F99: 1 | G99: 0 | H99: =SUM(D99+E99+K99+F99+G99) -> 46 | I99: 12 | K99: 0
B100: 42502 | C100: =SUM(D100+E100) -> 34 | D100: 30 | E100: 4 | F100: 1 | G100: 0 | H100: =SUM(D100+E100+K100+F100+G100) -> 35 | I100: 12 | K100: 0
B101: 42503 | C101: =SUM(D101+E101) -> 34 | D101: 33 | E101: 1 | F101: 0 | G101: 0 | H101: =SUM(D101+E101+K101+F101+G101) -> 34 | I101: 9 | K101: 0
B102: 42506 | C102: =SUM(D102+E102) -> 48 | D102: 37 | E102: 11 | F102: 1 | G102: 0 | H102: =SUM(D102+E102+K102+F102+G102) -> 49 | I102: 16 | K102: 0
B103: 42507 | C103: =SUM(D103+E103) -> 45 | D103: 41 | E103: 4 | F103: 0 | G103: 0 | H103: =SUM(D103+E103+K103+F103+G103) -> 45 | I103: 11 | K103: 0
... B113: 42521 | C113: =SUM(D113+E113) -> 49 | D113: 45 | E113: 4 | F113: 0 | G113: 14 | H113: =SUM(D113+E113+K113+F113+G113) -> 63 | I113: 16 | K113: 0
A114: Jún
B115: 42522 | C115: =SUM(D115+E115) -> 56 | D115: 39 | E115: 17 | F115: 0 | G115: 4 | H115: =SUM(D115+E115+K115+F115+G115) -> 60 | I115: 15 | K115: 0
B116: 42523 | C116: =SUM(D116+E116) -> 62 | D116: 57 | E116: 5 | F116: 0 | G116: 0 | H116: =SUM(D116+E116+K116+F116+G116) -> 62 | I116: 16 | K116: 0
B117: 42524 | C117: =SUM(D117+E117) -> 27 | D117: 25 | E117: 2 | F117: 0 | G117: 0 | H117: =SUM(D117+E117+K117+F117+G117) -> 27 | I117: 7 | K117: 0
B118: 42527 | C118: =SUM(D118+E118) -> 49 | D118: 37 | E118: 12 | F118: 1 | G118: 0 | H118: =SUM(D118+E118+K118+F118+G118) -> 50 | I118: 13 | K118: 0
B119: 42528 | C119: =SUM(D119+E119) -> 47 | D119: 42 | E119: 5 | F119: 0 | G119: 0 | H119: =SUM(D119+E119+K119+F119+G119) -> 47 | I119: 12 | K119: 0
B120: 42529 | C120: =SUM(D120+E120) -> 60 | D120: 52 | E120: 8 | F120: 0 | G120: 0 | H120: =SUM(D120+E120+K120+F120+G120) -> 60 | I120: 15 | K120: 0
B121: 42530 | C121: =SUM(D121+E121) -> 58 | D121: 46 | E121: 12 | F121: 0 | G121: 0 | H121: =SUM(D121+E121+K121+F121+G121) -> 58 | I121: 15 | K121: 0
B122: 42531 | C122: =SUM(D122+E122) -> 48 | D122: 43 | E122: 5 | F122: 0 | G122: 0 | H122: =SUM(D122+E122+K122+F122+G122) -> 48 | I122: 16 | K122: 0
B123: 42534 | C123: =SUM(D123+E123) -> 66 | D123: 59 | E123: 7 | F123: 0 | G123: 0 | H123: =SUM(D123+E123+K123+F123+G123) -> 66 | I123: 17 | K123: 0
B124: 42535 | C124: =SUM(D124+E124) -> 61 | D124: 50 | E124: 11 | F124: 0 | G124: 0 | H124: =SUM(D124+E124+K124+F124+G124) -> 61 | I124: 12 | K124: 0
B125: 42536 | C125: =SUM(D125+E125) -> 62 | D125: 55 | E125: 7 | F125: 0 | G125: 0 | H125: =SUM(D125+E125+K125+F125+G125) -> 62 | I125: 12 | K125: 0
B126: 42537 | C126: =SUM(D126+E126) -> 52 | D126: 47 | E126: 5 | F126: 1 | G126: 0 | H126: =SUM(D126+E126+K126+F126+G126) -> 53 | I126: 11 | K126: 0
... B136: 42551 | C136: =SUM(D136+E136) -> 89 | D136: 77 | E136: 12 | F136: 0 | G136: 0 | H136: =SUM(D136+E136+K136+F136+G136) -> 89 | I136: 22 | K136: 0
A137: Júl
B138: 42552 | C138: =SUM(D138+E138) -> 25 | D138: 14 | E138: 11 | F138: 1 | G138: 0 | H138: =SUM(D138+E138+K138+F138+G138) -> 26 | I138: 9 | K138: 0
B139: 42555 | C139: =SUM(D139+E139) -> 103 | D139: 86 | E139: 17 | F139: 1 | G139: 0 | H139: =SUM(D139+E139+K139+F139+G139) -> 104 | I139: 35 | K139: 0
B140: 42556
B141: 42557 | C141: =SUM(D141+E141) -> 94 | D141: 78 | E141: 16 | F141: 1 | G141: 0 | H141: =SUM(D141+E141+K141+F141+G141) -> 95 | I141: 24 | K141: 0
B142: 42558 | C142: =SUM(D142+E142) -> 122 | D142: 90 | E142: 32 | F142: 0 | G142: 0 | H142: =SUM(D142+E142+K142+F142+G142) -> 122 | I142: 31 | K142: 0
...

Sheet 2017
A1: Rok 2017 | B1: Dátum | C1: Požiadavky externé (Hovory + Kontaktný formulár) | D1: Vybavené hovory | E1: Vybavené kontaktný formulár | F1: Požiadavky interné (NASES) | G1: Testovacie požiadavky (Globaltel + NASES KC | H1: Vybavené hovory + kontaktný formulár celkom | I1: Vybavené hovory + kontaktný formulár celkom operátor/deň | J1: Vybavené elektronické schránky | K1: Spadnuté hovory | L1: Volané späť | N1: Vysvetlivky
A2: Január | B2: 42737 | D2: 114 | E2: 35 | H2: =SUM(D2+E2) -> 149 | I2: 11 | J2: 55 | K2: 3 | L2: 3 | O2: štátny sviatok
B3: 42738 | D3: 127 | E3: 30 | H3: =SUM(D3+E3) -> 157 | I3: 10 | J3: 53 | K3: 2 | L3: 2
B4: 42739 | D4: 131 | E4: 41 | H4: =SUM(D4+E4) -> 172 | I4: 11 | J4: 39 | K4: 5 | L4: 5 | O4: pracovný týždeň
B5: 42740 | D5: 88 | E5: 24 | H5: =SUM(D5+E5) -> 112 | I5: 8 | J5: 35 | K5: 0 | L5: 0
B6: 42741 | O6: začiatok nového mesiaca
B7: 42744 | D7: 154 | E7: 57 | H7: =SUM(D7+E7) -> 211 | I7: 16 | J7: 68 | K7: 4 | L7: 4
B8: 42745 | D8: 170 | E8: 36 | H8: =SUM(D8+E8) -> 206 | I8: 14 | J8: 52 | K8: 1 | L8: 1 | O8: víkend - jednorázová prevádzka KC
B9: 42746 | D9: 158 | E9: 26 | H9: =SUM(D9+E9) -> 184 | I9: 12 | J9: 46 | K9: 0 | L9: 0
B10: 42747 | D10: 156 | E10: 54 | H10: =SUM(D10+E10) -> 210 | I10: 16 | J10: 45 | K10: 2 | L10: 2
B11: 42748 | D11: 162 | E11: 23 | H11: =SUM(D11+E11) -> 185 | I11: 14 | J11: 39 | K11: 16 | L11: 16
B12: 42751 | D12: 168 | E12: 96 | H12: =SUM(D12+E12) -> 264 | I12: 20 | J12: 54 | K12: 1 | L12: 1
B13: 42752 | D13: 162 | E13: 37 | H13: =SUM(D13+E13) -> 199 | I13: 15 | J13: 44 | K13: 0 | L13: 0
B14: 42753 | D14: 288 | E14: 60 | H14: =SUM(D14+E14) -> 348 | I14: 25 | J14: 56 | K14: 4 | L14: 4
B15: 42754 | D15: 206 | E15: 50 | H15: =SUM(D15+E15) -> 256 | I15: 17 | J15: 62 | K15: 0 | L15: 0
B16: 42755 | D16: 193 | E16: 46 | H16: =SUM(D16+E16) -> 239 | I16: 18 | J16: 44 | K16: 0 | L16: 0
B17: 42758 | D17: 247 | E17: 75 | H17: =SUM(D17+E17) -> 322 | I17: 25 | J17: 73 | K17: 1 | L17: 1
B18: 42759 | D18: 282 | E18: 77 | H18: =SUM(D18+E18) -> 359 | I18: 26 | J18: 85 | K18: 29 | L18: 29
B19: 42760 | D19: 280 | E19: 67 | H19: =SUM(D19+E19) -> 347 | I19: 27 | J19: 64 | K19: 7 | L19: 7
B20: 42761 | D20: 311 | E20: 59 | H20: =SUM(D20+E20) -> 370 | I20: 31 | J20: 113 | K20: 4 | L20: 4
... B23: 42766 | D23: 218 | E23: 41 | H23: =SUM(D23+E23) -> 259 | I23: 20 | J23: 62 | K23: 3 | L23: 3
A24: Február
B25: 42767 | D25: 173 | E25: 40 | H25: =SUM(D25+E25) -> 213 | I25: 19 | J25: 58 | K25: 7 | L25: 7
B26: 42768 | D26: 208 | E26: 47 | H26: =SUM(D26+E26) -> 255 | I26: 21 | J26: 47 | K26: 4 | L26: 4
B27: 42769 | D27: 158 | E27: 59 | H27: =SUM(D27+E27) -> 217 | I27: 18 | J27: 67 | K27: 2 | L27: 2
B28: 42772 | D28: 220 | E28: 64 | H28: =SUM(D28+E28) -> 284 | I28: 32 | J28: 82 | K28: 6 | L28: 6
B29: 42773 | D29: 181 | E29: 54 | H29: =SUM(D29+E29) -> 235 | I29: 26 | J29: 59 | K29: 1 | L29: 1
B30: 42774 | D30: 232 | E30: 54 | H30: =SUM(D30+E30) -> 286 | I30: 36 | J30: 68 | K30: 15 | L30: 15
B31: 42775 | D31: 220 | E31: 51 | H31: =SUM(D31+E31) -> 271 | I31: 27 | J31: 86 | K31: 3 | L31: 3
B32: 42776 | D32: 199 | E32: 46 | H32: =SUM(D32+E32) -> 245 | I32: 27 | J32: 64 | K32: 9 | L32: 9
B33: 42779 | D33: 224 | E33: 56 | H33: =SUM(D33+E33) -> 280 | I33: 10 | J33: 79 | K33: 13 | L33: 13
B34: 42780 | D34: 144 | E34: 39 | H34: =SUM(D34+E34) -> 183 | I34: 10 | J34: 50 | K34: 0 | L34: 0
B35: 42781 | D35: 180 | E35: 38 | H35: =SUM(D35+E35) -> 218 | I35: 11 | J35: 54 | K35: 5 | L35: 5
B36: 42782 | D36: 156 | E36: 46 | H36: =SUM(D36+E36) -> 202 | I36: 10 | J36: 70 | K36: 2 | L36: 2
... B44: 42794 | D44: 168 | E44: 41 | H44: =SUM(D44+E44) -> 209 | I44: 19 | J44: 64 | K44: 2 | L44: 2
A45: Marec
B46: 42795 | D46: 208 | E46: 37 | H46: =SUM(D46+E46) -> 245 | I46: 20 | J46: 61 | K46: 8 | L46: 8
B47: 42796 | D47: 168 | E47: 24 | H47: =SUM(D47+E47) -> 192 | I47: 16 | J47: 52 | K47: 4 | L47: 4
B48: 42797 | D48: 173 | E48: 29 | H48: =SUM(D48+E48) -> 202 | I48: 17 | J48: 56 | K48: 2 | L48: 2
B49: 42800 | D49: 166 | E49: 47 | H49: =SUM(D49+E49) -> 213 | I49: 19 | J49: 51 | K49: 0 | L49: 0
B50: 42801 | D50: 136 | E50: 40 | H50: =SUM(D50+E50) -> 176 | I50: 15 | J50: 49 | K50: 5 | L50: 5
B51: 42802 | D51: 163 | E51: 30 | H51: =SUM(D51+E51) -> 193 | I51: 18 | J51: 51 | K51: 1 | L51: 1 | M51: 6 hovorov
B52: 42803 | D52: 168 | E52: 25 | H52: =SUM(D52+E52) -> 193 | I52: 18 | J52: 44 | K52: 2 | L52: 2
B53: 42804 | D53: 167 | E53: 37 | H53: =SUM(D53+E53) -> 204 | I53: 20 | J53: 47 | K53: 1 | L53: 1
B54: 42807 | D54: 180 | E54: 54 | H54: =SUM(D54+E54) -> 234 | I54: 23 | J54: 58 | K54: 3 | L54: 3
B55: 42808 | D55: 198 | E55: 52 | H55: =SUM(D55+E55) -> 250 | I55: 23 | J55: 84 | K55: 0 | L55: 0
B56: 42809 | D56: 196 | E56: 39 | H56: =SUM(D56+E56) -> 235 | I56: 24 | J56: 57 | K56: 6 | L56: 6 | M56: 10 hovorov
B57: 42810 | D57: 171 | E57: 35 | H57: =SUM(D57+E57) -> 206 | I57: 19 | J57: 55 | K57: 5 | L57: 5
B58: 42811 | D58: 148 | E58: 27 | H58: =SUM(D58+E58) -> 175 | I58: 15 | J58: 50 | K58: 0 | L58: 0
B59: 42814 | D59: 196 | E59: 60 | H59: =SUM(D59+E59) -> 256 | I59: 26 | J59: 73 | K59: 4 | L59: 4
B60: 42815 | D60: 206 | E60: 35 | H60: =SUM(D60+E60) -> 241 | I60: 24 | J60: 69 | K60: 5 | L60: 5
B61: 42816 | D61: 201 | E61: 40 | H61: =SUM(D61+E61) -> 241 | I61: 24 | J61: 62 | K61: 2 | L61: 2 | M61: 9 hovorov
B62: 42817 | D62: 179 | E62: 37 | H62: =SUM(D62+E62) -> 216 | I62: 20 | J62: 74 | K62: 0 | L62: 0
B63: 42818 | D63: 153 | E63: 25 | H63: =SUM(D63+E63) -> 178 | I63: 20 | J63: 61 | K63: 3 | L63: 3
B64: 42821 | D64: 233 | E64: 53 | H64: =SUM(D64+E64) -> 286 | I64: 29 | J64: 66 | K64: 3 | L64: 3
B65: 42822 | D65: 156 | E65: 29 | H65: =SUM(D65+E65) -> 185 | I65: 17 | J65: 42 | K65: 0 | L65: 0
B66: 42823 | D66: 178 | E66: 24 | H66: =SUM(D66+E66) -> 202 | I66: 17 | J66: 50 | K66: 0 | L66: 0 | M66: 11 hovorov
B67: 42824 | D67: 158 | E67: 25 | H67: =SUM(D67+E67) -> 183 | I67: 15 | J67: 52 | K67: 1 | L67: 1
B68: 42825 | D68: 179 | E68: 39 | H68: =SUM(D68+E68) -> 218 | I68: 22 | J68: 46 | K68: 5 | L68: 5
A69: Apríl
B70: 42828 | D70: 163 | E70: 41 | H70: =SUM(D70+E70) -> 204 | I70: 20 | J70: 61 | K70: 4 | L70: 4
B71: 42829 | D71: 151 | E71: 21 | H71: =SUM(D71+E71) -> 172 | I71: 17 | J71: 46 | K71: 0 | L71: 0
B72: 42830 | D72: 202 | E72: 47 | H72: =SUM(D72+E72) -> 249 | I72: 23 | J72: 59 | K72: 9 | L72: 9 | M72: 2 hovory
B73: 42831 | D73: 350 | E73: 95 | H73: =SUM(D73+E73) -> 445 | I73: 45 | J73: 92 | K73: 10 | L73: 10
B74: 42832 | D74: 162 | E74: 16 | H74: =SUM(D74+E74) -> 178 | I74: 16 | J74: 47 | K74: 1 | L74: 1
B75: 42835 | D75: 181 | E75: 16 | H75: =SUM(D75+E75) -> 197 | I75: 22 | J75: 66 | K75: 1 | L75: 1
B76: 42836 | D76: 192 | E76: 24 | H76: =SUM(D76+E76) -> 216 | I76: 22 | J76: 63 | K76: 2 | L76: 2
B77: 42837 | D77: 184 | E77: 33 | H77: =SUM(D77+E77) -> 217 | I77: 22 | J77: 51 | K77: 2 | L77: 2 | M77: 6 hovorov
B78: 42838 | D78: 113 | E78: 34 | H78: =SUM(D78+E78) -> 147 | I78: 15 | J78: 40 | K78: 1 | L78: 1
B79: 42839
B80: 42842
B81: 42843 | D81: 157 | E81: 41 | H81: =SUM(D81+E81) -> 198 | I81: 20 | J81: 52 | K81: 0 | L81: 0
B82: 42844 | D82: 201 | E82: 45 | H82: =SUM(D82+E82) -> 246 | I82: 25 | J82: 61 | K82: 15 | L82: 15 | M82: 8 hovorov
B83: 42845 | D83: 219 | E83: 42 | H83: =SUM(D83+E83) -> 261 | I83: 29 | J83: 78 | K83: 11 | L83: 11
B84: 42846 | D84: 180 | E84: 27 | H84: =SUM(D84+E84) -> 207 | I84: 23 | J84: 53 | K84: 3 | L84: 3
B85: 42849 | D85: 169 | E85: 65 | H85: =SUM(D85+E85) -> 234 | I85: 23 | J85: 57 | K85: 3 | L85: 3
B86: 42850 | D86: 152 | E86: 32 | H86: =SUM(D86+E86) -> 184 | I86: 18 | J86: 42 | K86: 0 | L86: 0
B87: 42851 | D87: 203 | E87: 28 | H87: =SUM(D87+E87) -> 231 | I87: 23 | J87: 52 | K87: 5 | L87: 5 | M87: 9 hovorov
B88: 42852 | D88: 210 | E88: 50 | H88: =SUM(D88+E88) -> 260 | I88: 26 | J88: 82 | K88: 2 | L88: 2
B89: 42853 | D89: 202 | E89: 32 | H89: =SUM(D89+E89) -> 234 | I89: 26 | J89: 65 | K89: 4 | L89: 4
A90: Máj
B91: 42856
B92: 42857 | D92: 203 | E92: 80 | H92: =SUM(D92+E92) -> 283 | I92: 28 | J92: 67 | K92: 7 | L92: 7
B93: 42858 | D93: 217 | E93: 38 | H93: =SUM(D93+E93) -> 255 | I93: 23 | J93: 58 | K93: 5 | L93: 5 | M93: 9 hovorov
B94: 42859 | D94: 207 | E94: 30 | H94: =SUM(D94+E94) -> 237 | I94: 22 | J94: 78 | K94: 1 | L94: 1
B95: 42860 | D95: 204 | E95: 31 | H95: =SUM(D95+E95) -> 235 | I95: 21 | J95: 54 | K95: 1 | L95: 1
B96: 42863
B97: 42864 | D97: 213 | E97: 54 | H97: =SUM(D97+E97) -> 267 | I97: 24 | J97: 64 | K97: 8 | L97: 8
B98: 42865 | D98: 267 | E98: 48 | H98: =SUM(D98+E98) -> 315 | I98: 29 | J98: 65 | K98: 18 | L98: 18 | M98: 7 hovorov
B99: 42866 | D99: 236 | E99: 35 | H99: =SUM(D99+E99) -> 271 | I99: 25 | J99: 59 | K99: 11 | L99: 11
B100: 42867 | D100: 184 | E100: 29 | H100: =SUM(D100+E100) -> 213 | I100: 18 | J100: 74 | K100: 2 | L100: 2
B101: 42870 | D101: 265 | E101: 65 | H101: =SUM(D101+E101) -> 330 | I101: 33 | J101: 83 | K101: 3 | L101: 3
B102: 42871 | D102: 245 | E102: 40 | H102: =SUM(D102+E102) -> 285 | I102: 29 | J102: 97 | K102: 9 | L102: 9
B103: 42872 | D103: 242 | E103: 42 | H103: =SUM(D103+E103) -> 284 | I103: 28 | J103: 65 | K103: 5 | L103: 5 | M103: 12 hovorov
B104: 42873 | D104: 204 | E104: 28 | H104: =SUM(D104+E104) -> 232 | I104: 23 | J104: 63 | K104: 4 | L104: 4
B105: 42874 | D105: 228 | E105: 25 | H105: =SUM(D105+E105) -> 253 | I105: 25 | J105: 71 | K105: 12 | L105: 12
B106: 42877 | D106: 279 | E106: 60 | H106: =SUM(D106+E106) -> 339 | I106: 34 | J106: 104 | K106: 12 | L106: 12
B107: 42878 | D107: 313 | E107: 58 | H107: =SUM(D107+E107) -> 371 | I107: 37 | J107: 107 | K107: 8 | L107: 8
B108: 42879 | D108: 348 | E108: 48 | H108: =SUM(D108+E108) -> 396 | I108: 27 | J108: 88 | K108: 2 | L108: 2 | M108: 8 hovorov
B109: 42880 | D109: 239 | E109: 51 | H109: =SUM(D109+E109) -> 290 | I109: 26 | J109: 90 | K109: 1 | L109: 1
...

Sheet 2018
A1: Rok 2018 | B1: Dátum | C1: Požiadavky externé (Hovory + Kontaktný formulár) | D1: Vybavené hovory | E1: Vybavené kontaktný formulár | F1: Požiadavky interné (NASES) | G1: Testovacie požiadavky (Globaltel + NASES KC | H1: Vybavené hovory + kontaktný formulár celkom | I1: Vybavené hovory + kontaktný formulár celkom operátor/deň | J1: Vybavené elektronické schránky | K1: Spadnuté hovory | L1: Volané späť | N1: Vysvetlivky
A2: Január | B2: 43101 | O2: štátny sviatok
B3: 43102 | D3: 172 | E3: 76 | H3: =SUM(D3+E3) -> 248 | I3: 11 | K3: 10 | L3: 10
B4: 43103 | D4: 247 | E4: 50 | H4: =SUM(D4+E4) -> 297 | I4: 12 | K4: 24 | L4: 24 | M4: 8 hovorov | O4: pracovný týždeň
B5: 43104 | D5: 228 | E5: 43 | H5: =SUM(D5+E5) -> 271 | I5: 12 | K5: 12 | L5: 12
B6: 43105 | D6: 217 | E6: 50 | H6: =SUM(D6+E6) -> 267 | I6: 11 | K6: 3 | L6: 3 | O6: začiatok nového mesiaca
B7: 43108 | D7: 262 | E7: 117 | H7: =SUM(D7+E7) -> 379 | I7: 34 | K7: 20 | L7: 20
B8: 43109 | D8: 257 | E8: 85 | H8: =SUM(D8+E8) -> 342 | I8: 31 | K8: 6 | L8: 6
B9: 43110 | D9: 279 | E9: 74 | H9: =SUM(D9+E9) -> 353 | I9: 32 | K9: 30 | L9: 30 | M9: 12 hovorov
B10: 43111 | D10: 285 | E10: 68 | H10: =SUM(D10+E10) -> 353 | I10: 32 | K10: 4 | L10: 4
B11: 43112 | D11: 256 | E11: 79 | H11: =SUM(D11+E11) -> 335 | I11: 30 | K11: 1 | L11: 1
B12: 43115 | D12: 289 | E12: 65 | H12: =SUM(D12+E12) -> 354 | I12: 30 | K12: 14 | L12: 14
B13: 43116 | D13: 278 | E13: 62 | H13: =SUM(D13+E13) -> 340 | I13: 28 | K13: 15 | L13: 15
B14: 43117 | D14: 336 | E14: 87 | H14: =SUM(D14+E14) -> 423 | I14: 30 | K14: 26 | L14: 26 | M14: 15 hovorov
B15: 43118 | D15: 265 | E15: 63 | H15: =SUM(D15+E15) -> 328 | I15: 23 | K15: 12 | L15: 12
B16: 43119 | D16: 263 | E16: 69 | H16: =SUM(D16+E16) -> 332 | I16: 28 | K16: 42 | L16: 42
B17: 43122 | D17: 301 | E17: 115 | H17: =SUM(D17+E17) -> 416 | I17: 35 | K17: 40 | L17: 40
B18: 43123 | D18: 313 | E18: 87 | H18: =SUM(D18+E18) -> 400 | I18: 33 | K18: 21 | L18: 21
B19: 43124 | D19: 328 | E19: 75 | H19: =SUM(D19+E19) -> 403 | I19: 31 | K19: 42 | L19: 42 | M19: 20 hovorov
B20: 43125 | D20: 299 | E20: 62 | H20: =SUM(D20+E20) -> 361 | I20: 33 | K20: 46 | L20: 46
B21: 43126 | D21: 291 | E21: 66 | H21: =SUM(D21+E21) -> 357 | I21: 32 | K21: 40 | L21: 40
B22: 43129 | D22: 423 | E22: 107 | H22: =SUM(D22+E22) -> 530 | I22: 44 | K22: 23 | L22: 23
B23: 43130 | D23: 396 | E23: 100 | H23: =SUM(D23+E23) -> 496 | I23: 38 | K23: 83 | L23: 0
B24: 43131 | D24: 353 | E24: 80 | H24: =SUM(D24+E24) -> 433 | I24: 39 | K24: 254 | L24: 0 | M24: 25 hovorov | O24: Január 8018
A25: Február
B26: 43132 | D26: 307 | E26: 75 | H26: =SUM(D26+E26) -> 382 | I26: 35 | K26: 61 | L26: 0
B27: 43133 | D27: 273 | E27: 63 | H27: =SUM(D27+E27) -> 336 | I27: 31 | K27: 41 | L27: 41
B28: 43136 | D28: 276 | E28: 114 | H28: =SUM(D28+E28) -> 390 | I28: 39 | K28: 52 | L28: 52
B29: 43137 | D29: 265 | E29: 84 | H29: =SUM(D29+E29) -> 349 | I29: 29 | K29: 26 | L29: 26
B30: 43138 | D30: 258 | E30: 61 | H30: =SUM(D30+E30) -> 319 | I30: 29 | K30: 22 | L30: 22 | M30: 10 hovorov
B31: 43139 | D31: 248 | E31: 65 | H31: =SUM(D31+E31) -> 313 | I31: 28 | K31: 11 | L31: 11
B32: 43140 | D32: 237 | E32: 59 | H32: =SUM(D32+E32) -> 296 | I32: 30 | K32: 10 | L32: 10
B33: 43143 | D33: 235 | E33: 95 | H33: =SUM(D33+E33) -> 330 | I33: 33 | K33: 18 | L33: 18
B34: 43144 | D34: 268 | E34: 66 | H34: =SUM(D34+E34) -> 334 | I34: 26 | K34: 24 | L34: 24
B35: 43145 | D35: 213 | E35: 68 | H35: =SUM(D35+E35) -> 281 | I35: 26 | K35: 51 | L35: 0 | M35: 7 hovorov
B36: 43146 | D36: 179 | E36: 71 | H36: =SUM(D36+E36) -> 250 | I36: 23 | K36: 3 | L36: 3
B37: 43147 | D37: 203 | E37: 55 | H37: =SUM(D37+E37) -> 258 | I37: 24 | K37: 15 | L37: 15
B38: 43150 | D38: 247 | E38: 98 | H38: =SUM(D38+E38) -> 345 | I38: 27 | K38: 24 | L38: 24
B39: 43151 | D39: 289 | E39: 59 | H39: =SUM(D39+E39) -> 348 | I39: 29 | K39: 43 | L39: 43
B40: 43152 | D40: 246 | E40: 58 | H40: =SUM(D40+E40) -> 304 | I40: 25 | K40: 11 | L40: 11 | M40: 10 hovorov
B41: 43153 | D41: 207 | E41: 57 | H41: =SUM(D41+E41) -> 264 | I41: 22 | K41: 10 | L41: 10
B42: 43154 | D42: 208 | E42: 64 | H42: =SUM(D42+E42) -> 272 | I42: 25 | K42: 23 | L42: 23
B43: 43157 | D43: 279 | E43: 108 | H43: =SUM(D43+E43) -> 387 | I43: 39 | K43: 21 | L43: 21
B44: 43158 | D44: 263 | E44: 59 | H44: =SUM(D44+E44) -> 322 | I44: 29 | K44: 19 | L44: 19
B45: 43159 | D45: 387 | E45: 72 | H45: =SUM(D45+E45) -> 459 | I45: 38 | K45: 64 | L45: 64 | M45: 19 hovorov | O45: Február 6539
A46: Marec
B47: 43160 | D47: 245 | E47: 76 | H47: =SUM(D47+E47) -> 321 | I47: 29 | K47: 35 | L47: 35
B48: 43161 | D48: 229 | E48: 63 | H48: =SUM(D48+E48) -> 292 | I48: 27 | K48: 24 | L48: 24
B49: 43164 | D49: 219 | E49: 82 | H49: =SUM(D49+E49) -> 301 | I49: 30 | K49: 23 | L49: 23
B50: 43165 | D50: 273 | E50: 69 | H50: =SUM(D50+E50) -> 342 | I50: 31 | K50: 8 | L50: 8
B51: 43166 | D51: 320 | E51: 54 | H51: =SUM(D51+E51) -> 374 | I51: 29 | K51: 43 | L51: 43 | M51: 11 hovorov
B52: 43167 | D52: 252 | E52: 57 | H52: =SUM(D52+E52) -> 309 | I52: 26 | K52: 21 | L52: 21
B53: 43168 | D53: 163 | E53: 53 | H53: =SUM(D53+E53) -> 216 | I53: 20 | K53: 6 | L53: 6
B54: 43171 | D54: 250 | E54: 75 | H54: =SUM(D54+E54) -> 325 | I54: 33 | K54: 19 | L54: 19
B55: 43172 | D55: 306 | E55: 91 | H55: =SUM(D55+E55) -> 397 | I55: 31 | K55: 32 | L55: 32
B56: 43173 | D56: 317 | E56: 205 | H56: =SUM(D56+E56) -> 522 | I56: 47 | K56: 40 | L56: 40 | M56: 11 hovorov
B57: 43174 | D57: 242 | E57: 70 | H57: =SUM(D57+E57) -> 312 | I57: 28 | K57: 21 | L57: 21
B58: 43175 | D58: 220 | E58: 54 | H58: =SUM(D58+E58) -> 274 | I58: 25 | K58: 11 | L58: 11
B59: 43178 | D59: 262 | E59: 118 | H59: =SUM(D59+E59) -> 380 | I59: 35 | K59: 34 | L59: 34
B60: 43179 | D60: 255 | E60: 59 | H60: =SUM(D60+E60) -> 314 | I60: 22 | K60: 14 | L60: 14
B61: 43180 | D61: 307 | E61: 60 | H61: =SUM(D61+E61) -> 367 | I61: 31 | K61: 36 | L61: 36 | M61: 15 hovorov
B62: 43181 | D62: 242 | E62: 51 | H62: =SUM(D62+E62) -> 293 | I62: 24 | K62: 23 | L62: 23
B63: 43182 | D63: 274 | E63: 64 | H63: =SUM(D63+E63) -> 338 | I63: 28 | K63: 14 | L63: 14
B64: 43185 | D64: 307 | E64: 84 | H64: =SUM(D64+E64) -> 391 | I64: 30 | K64: 64 | L64: 64
B65: 43186 | D65: 394 | E65: 94 | H65: =SUM(D65+E65) -> 488 | I65: 38 | K65: 61 | L65: 61
B66: 43187 | D66: 389 | E66: 97 | H66: =SUM(D66+E66) -> 486 | I66: 41 | K66: 145 | L66: 145 | M66: 25 hovorov
B67: 43188 | D67: 337 | E67: 70 | H67: =SUM(D67+E67) -> 407 | I67: 34 | K67: 58 | L67: 58 | O67: Marec 7449
B68: 43189
A69: Apríl
B70: 43192
B71: 43193 | D71: 332 | E71: 115 | H71: =SUM(D71+E71) -> 447 | I71: 37 | K71: 46 | L71: 46
B72: 43194 | D72: 285 | E72: 136 | H72: =SUM(D72+E72) -> 421 | I72: 35 | K72: 25 | L72: 25 | M72: 16 hovorov
B73: 43195 | D73: 209 | E73: 65 | H73: =SUM(D73+E73) -> 274 | I73: 23 | K73: 10 | L73: 10
B74: 43196 | D74: 375 | E74: 37 | H74: =SUM(D74+E74) -> 412 | I74: 34 | K74: 5 | L74: 5
B75: 43199 | D75: 212 | E75: 79 | H75: =SUM(D75+E75) -> 291 | I75: 24 | K75: 11 | L75: 11
B76: 43200 | D76: 243 | E76: 73 | H76: =SUM(D76+E76) -> 316 | I76: 29 | K76: 21 | L76: 21
B77: 43201 | D77: 301 | E77: 58 | H77: =SUM(D77+E77) -> 359 | I77: 30 | K77: 22 | L77: 22 | M77: 20 hovorov
B78: 43202 | D78: 208 | E78: 62 | H78: =SUM(D78+E78) -> 270 | I78: 25 | K78: 22 | L78: 22
B79: 43203 | D79: 181 | E79: 94 | H79: =SUM(D79+E79) -> 275 | I79: 25 | K79: 23 | L79: 23
B80: 43206 | D80: 226 | E80: 79 | H80: =SUM(D80+E80) -> 305 | I80: 25 | K80: 7 | L80: 7
B81: 43207 | D81: 192 | E81: 49 | H81: =SUM(D81+E81) -> 241 | I81: 17 | K81: 10 | L81: 10
B82: 43208 | D82: 241 | E82: 61 | H82: =SUM(D82+E82) -> 302 | I82: 22 | K82: 14 | L82: 14 | M82: 6 hovorov
B83: 43209 | D83: 262 | E83: 71 | H83: =SUM(D83+E83) -> 333 | I83: 28 | K83: 16 | L83: 16
B84: 43210 | D84: 211 | E84: 58 | H84: =SUM(D84+E84) -> 269 | I84: 24 | K84: 18 | L84: 18
B85: 43213 | D85: 254 | E85: 73 | H85: =SUM(D85+E85) -> 327 | I85: 30 | K85: 1 | L85: 1
B86: 43214 | D86: 255 | E86: 65 | H86: =SUM(D86+E86) -> 320 | I86: 27 | K86: 18 | L86: 18
B87: 43215 | D87: 244 | E87: 54 | H87: =SUM(D87+E87) -> 298 | I87: 25 | K87: 23 | L87: 23 | M87: 12 hovorov
B88: 43216 | D88: 204 | E88: 57 | H88: =SUM(D88+E88) -> 261 | I88: 24 | K88: 13 | L88: 13
B89: 43217 | D89: 182 | E89: 47 | H89: =SUM(D89+E89) -> 229 | I89: 23 | K89: 5 | L89: 5
B90: 43220 | D90: 204 | E90: 50 | H90: =SUM(D90+E90) -> 254 | I90: 28 | K90: 12 | L90: 12 | O90: Apríl 6204
A91: Máj
B92: 43221
B93: 43222 | D93: 217 | E93: 78 | H93: =SUM(D93+E93) -> 295 | I93: 33 | K93: 13 | L93: 13 | M93: 4 hovory
B94: 43223 | D94: 205 | E94: 71 | H94: =SUM(D94+E94) -> 276 | I94: 23 | K94: 5 | L94: 5
B95: 43224 | D95: 178 | E95: 50 | H95: =SUM(D95+E95) -> 228 | I95: 23 | K95: 6 | L95: 6
B96: 43227 | D96: 127 | E96: 66 | H96: =SUM(D96+E96) -> 193 | I96: 18 | K96: 2 | L96: 2
B97: 43228
B98: 43229 | D98: 224 | E98: 61 | H98: =SUM(D98+E98) -> 285 | I98: 24 | K98: 17 | L98: 17 | M98: 8 hovorov
B99: 43230 | D99: 219 | E99: 59 | H99: =SUM(D99+E99) -> 278 | I99: 23 | K99: 8 | L99: 8
B100: 43231 | D100: 178 | E100: 46 | H100: =SUM(D100+E100) -> 224 | I100: 17 | K100: 11 | L100: 11
...

Sheet 2019
A1: Rok 2019 | B1: Dátum | C1: Požiadavky externé (Hovory + Kontaktný formulár) | D1: Vybavené hovory | E1: Vybavené kontaktný formulár + edesk | F1: Požiadavky interné (NASES) | G1: Testovacie požiadavky (Globaltel + NASES KC | H1: Vybavené hovory + kontaktný formulár celkom | I1: Vybavené hovory + kontaktný formulár celkom operátor/deň | J1: Vybavené elektronické schránky | K1: Spadnuté hovory | L1: Volané späť | N1: Vysvetlivky
A2: Január | B2: 43466 | O2: štátny sviatok
B3: 43467 | D3: 195 | E3: 65 | H3: =SUM(D3+E3) -> 260 | I3: 22 | K3: 0 | L3: 0 | M3: 8 hovorov
B4: 43468 | D4: 178 | E4: 48 | H4: =SUM(D4+E4) -> 226 | I4: 17 | K4: 2 | L4: 2 | O4: pracovný týždeň
B5: 43469 | D5: 176 | E5: 31 | H5: =SUM(D5+E5) -> 207 | I5: 15 | K5: 1 | L5: 1
B6: 43472 | D6: 238 | E6: 112 | H6: =SUM(D6+E6) -> 350 | I6: 25 | K6: 6 | L6: 6
B7: 43473 | D7: 252 | E7: 72 | H7: =SUM(D7+E7) -> 324 | I7: 25 | K7: 4 | L7: 4
B8: 43474 | D8: 268 | E8: 71 | H8: =SUM(D8+E8) -> 339 | I8: 26 | K8: 0 | L8: 0 | M8: 9 hovorov
B9: 43475 | D9: 243 | E9: 65 | H9: =SUM(D9+E9) -> 308 | I9: 22 | K9: 15 | L9: 15
B10: 43476 | D10: 263 | E10: 67 | H10: =SUM(D10+E10) -> 330 | I10: 24 | K10: 5 | L10: 5
B11: 43479 | D11: 273 | E11: 126 | H11: =SUM(D11+E11) -> 399 | I11: 27 | K11: 14 | L11: 14
B12: 43480 | D12: 287 | E12: 103 | H12: =SUM(D12+E12) -> 390 | I12: 26 | K12: 5 | L12: 5
B13: 43481 | D13: 266 | E13: 84 | H13: =SUM(D13+E13) -> 350 | I13: 27 | K13: 3 | L13: 3 | M13: 15 hovorov
B14: 43482 | D14: 248 | E14: 112 | H14: =SUM(D14+E14) -> 360 | I14: 24 | K14: 3 | L14: 3
B15: 43483 | D15: 243 | E15: 96 | H15: =SUM(D15+E15) -> 339 | I15: 24 | K15: 12 | L15: 12
B16: 43486 | D16: 751 | E16: 193 | H16: =SUM(D16+E16) -> 944 | I16: 73 | K16: 49 | L16: 49
B17: 43487 | D17: 317 | E17: 91 | H17: =SUM(D17+E17) -> 408 | I17: 31 | K17: 5 | L17: 5
B18: 43488 | D18: 296 | E18: 81 | H18: =SUM(D18+E18) -> 377 | I18: 25 | K18: 3 | L18: 3 | M18: 15 hovorov
B19: 43489 | D19: 260 | E19: 74 | H19: =SUM(D19+E19) -> 334 | I19: 24 | K19: 8 | L19: 8
B20: 43490 | D20: 266 | E20: 63 | H20: =SUM(D20+E20) -> 329 | I20: 27 | K20: 3 | L20: 3
B21: 43493 | D21: 319 | E21: 128 | H21: =SUM(D21+E21) -> 447 | I21: 32 | K21: 27 | L21: 27
B22: 43494 | D22: 390 | E22: 132 | H22: =SUM(D22+E22) -> 522 | I22: 35 | K22: 38 | L22: 38
B23: 43495 | D23: 400 | E23: 131 | H23: =SUM(D23+E23) -> 531 | I23: 38 | K23: 8 | L23: 8 | M23: 20 hovorov
B24: 43496 | D24: 283 | E24: 92 | H24: =SUM(D24+E24) -> 375 | I24: 29 | K24: 5 | L24: 5 | O24: Január: 8449
A25: Február
B26: 43497 | D26: 188 | E26: 62 | H26: =SUM(D26+E26) -> 250 | I26: 19 | K26: 2 | L26: 2
B27: 43500 | D27: 218 | E27: 102 | H27: =SUM(D27+E27) -> 320 | I27: 25 | K27: 3 | L27: 3
B28: 43501 | D28: 233 | E28: 89 | H28: =SUM(D28+E28) -> 322 | I28: 25 | K28: 2 | L28: 2
B29: 43502 | D29: 210 | E29: 85 | H29: =SUM(D29+E29) -> 295 | I29: 23 | K29: 6 | L29: 6 | M29: 14 hovorov
B30: 43503 | D30: 217 | E30: 83 | H30: =SUM(D30+E30) -> 300 | I30: 25 | K30: 3 | L30: 3
B31: 43504 | D31: 205 | E31: 56 | H31: =SUM(D31+E31) -> 261 | I31: 20 | K31: 2 | L31: 2
B32: 43507 | D32: 204 | E32: 87 | H32: =SUM(D32+E32) -> 291 | I32: 24 | K32: 8 | L32: 8
B33: 43508 | D33: 223 | E33: 86 | H33: =SUM(D33+E33) -> 309 | I33: 26 | K33: 9 | L33: 9
B34: 43509 | D34: 223 | E34: 58 | H34: =SUM(D34+E34) -> 281 | I34: 20 | K34: 1 | L34: 1 | M34: 13 hovorov
B35: 43510 | D35: 176 | E35: 58 | H35: =SUM(D35+E35) -> 234 | I35: 17 | K35: 1 | L35: 1
B36: 43511 | D36: 163 | E36: 48 | H36: =SUM(D36+E36) -> 211 | I36: 16 | K36: 3 | L36: 3
B37: 43514 | D37: 314 | E37: 110 | H37: =SUM(D37+E37) -> 424 | I37: 30 | K37: 14 | L37: 14
B38: 43515 | D38: 261 | E38: 78 | H38: =SUM(D38+E38) -> 339 | I38: 26 | K38: 3 | L38: 2
B39: 43516 | D39: 279 | E39: 79 | H39: =SUM(D39+E39) -> 358 | I39: 21 | K39: 5 | L39: 5 | M39: 18 hovorov
B40: 43517 | D40: 251 | E40: 88 | H40: =SUM(D40+E40) -> 339 | I40: 26 | K40: 4 | L40: 4
B41: 43518 | D41: 250 | E41: 73 | H41: =SUM(D41+E41) -> 323 | I41: 23 | K41: 2 | L41: 2
B42: 43521 | D42: 240 | E42: 114 | H42: =SUM(D42+E42) -> 354 | I42: 30 | K42: 4 | L42: 4
B43: 43522 | D43: 422 | E43: 120 | H43: =SUM(D43+E43) -> 542 | I43: 45 | K43: 4 | L43: 4
B44: 43523 | D44: 248 | E44: 72 | H44: =SUM(D44+E44) -> 320 | I44: 27 | K44: 1 | L44: 1 | M44: 13 hovorov
B45: 43524 | D45: 217 | E45: 64 | H45: =SUM(D45+E45) -> 281 | I45: 23 | K45: 7 | L45: 7 | O45: Február: 6354
A46: Marec
B47: 43525 | D47: 227 | E47: 23 | H47: =SUM(D47+E47) -> 250 | I47: 32 | K47: 1 | L47: 1
B48: 43528 | D48: 790 | E48: 364 | H48: =SUM(D48+E48) -> 1154 | I48: 105 | K48: 249 | L48: 0
B49: 43529 | D49: 465 | E49: 257 | H49: =SUM(D49+E49) -> 722 | I49: 66 | K49: 135 | L49: 0
B50: 43530 | D50: 366 | E50: 158 | H50: =SUM(D50+E50) -> 524 | I50: 48 | K50: 36 | L50: 36 | M50: 24 hovorov
B51: 43531 | D51: 281 | E51: 119 | H51: =SUM(D51+E51) -> 400 | I51: 36 | K51: 7 | L51: 7
B52: 43532 | D52: 239 | E52: 99 | H52: =SUM(D52+E52) -> 338 | I52: 31 | K52: 6 | L52: 6
B53: 43535 | D53: 328 | E53: 199 | H53: =SUM(D53+E53) -> 527 | I53: 48 | K53: 11 | L53: 11
B54: 43536 | D54: 335 | E54: 114 | H54: =SUM(D54+E54) -> 449 | I54: 37 | K54: 10 | L54: 10
B55: 43537 | D55: 366 | E55: 119 | H55: =SUM(D55+E55) -> 485 | I55: 44 | K55: 12 | L55: 12 | M55: 18 hovorov
B56: 43538 | D56: 354 | E56: 149 | H56: =SUM(D56+E56) -> 503 | I56: 42 | K56: 113 | L56: 113
B57: 43539 | D57: 392 | E57: 179 | H57: =SUM(D57+E57) -> 571 | I57: 48 | K57: 9 | L57: 9
B58: 43542 | D58: 358 | E58: 151 | H58: =SUM(D58+E58) -> 509 | I58: 46 | K58: 7 | L58: 7
B59: 43543 | D59: 329 | E59: 119 | H59: =SUM(D59+E59) -> 448 | I59: 45 | K59: 45 | L59: 45
B60: 43544 | D60: 399 | E60: 116 | H60: =SUM(D60+E60) -> 515 | I60: 43 | K60: 10 | L60: 10 | M60: 20 hovorov
B61: 43545 | D61: 326 | E61: 99 | H61: =SUM(D61+E61) -> 425 | I61: 39 | K61: 9 | L61: 9
B62: 43546 | D62: 319 | E62: 118 | H62: =SUM(D62+E62) -> 437 | I62: 44 | K62: 23 | L62: 23
B63: 43549 | D63: 381 | E63: 215 | H63: =SUM(D63+E63) -> 596 | I63: 60 | K63: 27 | L63: 27
B64: 43550 | D64: 397 | E64: 131 | H64: =SUM(D64+E64) -> 528 | I64: 44 | K64: 38 | L64: 38
B65: 43551 | D65: 474 | E65: 131 | H65: =SUM(D65+E65) -> 605 | I65: 50 | K65: 62 | L65: 62 | M65: 29 hovorov
B66: 43552 | D66: 414 | E66: 117 | H66: =SUM(D66+E66) -> 531 | I66: 48 | K66: 44 | L66: 44
B67: 43553 | D67: 378 | E67: 99 | H67: =SUM(D67+E67) -> 477 | I67: 48 | K67: 37 | L67: 37 | O67: Marec: 10994
A68: Apríl
B69: 43556 | D69: 396 | E69: 177 | H69: =SUM(D69+E69) -> 573 | I69: 52 | K69: 59 | L69: 59
B70: 43557 | D70: 283 | E70: 137 | H70: =SUM(D70+E70) -> 420 | I70: 42 | K70: 4 | L70: 4
B71: 43558 | D71: 272 | E71: 106 | H71: =SUM(D71+E71) -> 378 | I71: 34 | K71: 3 | L71: 3 | M71: 14 hovorov
B72: 43559 | D72: 221 | E72: 78 | H72: =SUM(D72+E72) -> 299 | I72: 30 | K72: 4 | L72: 4
B73: 43560 | D73: 169 | E73: 90 | H73: =SUM(D73+E73) -> 259 | I73: 24 | K73: 3 | L73: 3
B74: 43563 | D74: 262 | E74: 148 | H74: =SUM(D74+E74) -> 410 | I74: 41 | K74: 8 | L74: 8
B75: 43564 | D75: 210 | E75: 87 | H75: =SUM(D75+E75) -> 297 | I75: 25 | K75: 1 | L75: 1
B76: 43565 | D76: 201 | E76: 74 | H76: =SUM(D76+E76) -> 275 | I76: 23 | K76: 4 | L76: 4 | M76: 13 hovorov
B77: 43566 | D77: 192 | E77: 65 | H77: =SUM(D77+E77) -> 257 | I77: 21 | K77: 12 | L77: 12
B78: 43567 | D78: 186 | E78: 92 | H78: =SUM(D78+E78) -> 278 | I78: 28 | K78: 6 | L78: 6
B79: 43570 | D79: 251 | E79: 105 | H79: =SUM(D79+E79) -> 356 | I79: 32 | K79: 2 | L79: 2
B80: 43571 | D80: 165 | E80: 81 | H80: =SUM(D80+E80) -> 246 | I80: 25 | K80: 4 | L80: 4
B81: 43572 | D81: 187 | E81: 68 | H81: =SUM(D81+E81) -> 255 | I81: 26 | K81: 5 | L81: 5 | M81: 14 hovorov
B82: 43573 | D82: 174 | E82: 66 | H82: =SUM(D82+E82) -> 240 | I82: 27 | K82: 3 | L82: 3
B83: 43574
B84: 43577
B85: 43578 | D85: 151 | E85: 88 | H85: =SUM(D85+E85) -> 239 | I85: 22 | K85: 0 | L85: 0
B86: 43579 | D86: 197 | E86: 60 | H86: =SUM(D86+E86) -> 257 | I86: 23 | K86: 9 | L86: 9 | M86: 17 hovorov
B87: 43580 | D87: 215 | E87: 69 | H87: =SUM(D87+E87) -> 284 | I87: 26 | K87: 10 | L87: 10
B88: 43581 | D88: 153 | E88: 63 | H88: =SUM(D88+E88) -> 216 | I88: 22 | K88: 0 | L88: 0
B89: 43584 | D89: 221 | E89: 75 | H89: =SUM(D89+E89) -> 296 | I89: 27 | K89: 12 | L89: 12
B90: 43585 | D90: 225 | E90: 64 | H90: =SUM(D90+E90) -> 289 | I90: 29 | K90: 3 | L90: 3 | O90: Apríl: 6124
A91: Máj
B92: 43586
B93: 43587 | D93: 153 | E93: 71 | H93: =SUM(D93+E93) -> 224 | I93: 22 | K93: 6 | L93: 6
B94: 43588 | D94: 162 | E94: 59 | H94: =SUM(D94+E94) -> 221 | I94: 22 | K94: 2 | L94: 2
B95: 43591 | D95: 209 | E95: 105 | H95: =SUM(D95+E95) -> 314 | I95: 31 | K95: 7 | L95: 7
B96: 43592 | D96: 167 | E96: 63 | H96: =SUM(D96+E96) -> 230 | I96: 23 | K96: 7 | L96: 7
B97: 43593
B98: 43594 | D98: 230 | E98: 77 | H98: =SUM(D98+E98) -> 307 | I98: 31 | K98: 6 | L98: 6
B99: 43595 | D99: 194 | E99: 54 | H99: =SUM(D99+E99) -> 248 | I99: 25 | K99: 3 | L99: 3
B100: 43598 | D100: 315 | E100: 87 | H100: =SUM(D100+E100) -> 402 | I100: 30 | K100: 9 | L100: 9
...

Sheet 2020
A1: Rok 2020 | B1: Dátum | C1: Požiadavky externé (Hovory + Kontaktný formulár) | D1: Vybavené hovory | E1: Vybavené kontaktný formulár, email, eDesk | F1: Požiadavky interné (NASES) | G1: Testovacie požiadavky (Globaltel + NASES KC | H1: Vybavené hovory + kontaktný formulár, email, eDesk celkom | I1: Vybavené hovory + kontaktný formulár, email, eDesk celkom operátor/deň | J1: Vybavené elektronické schránky | K1: Spadnuté hovory | L1: Volané späť | N1: Vysvetlivky
A2: Január | B2: 43831 | O2: štátny sviatok
B3: 43832 | D3: 244 | E3: 74 | H3: =SUM(D3+E3) -> 318 | I3: 32 | K3: 5 | L3: 5
B4: 43833 | D4: 133 | E4: 55 | H4: =SUM(D4+E4) -> 188 | I4: 19 | K4: 2 | L4: 2 | O4: pracovný týždeň
B5: 43836
B6: 43837 | D6: 192 | E6: 115 | H6: =SUM(D6+E6) -> 307 | I6: 26 | K6: 0 | L6: 0
B7: 43838 | D7: 202 | E7: 113 | H7: =SUM(D7+E7) -> 315 | I7: 22 | K7: 8 | L7: 8 | M7: 12 hovorov | P7: január | Q7: 4470
B8: 43839 | D8: 208 | E8: 97 | H8: =SUM(D8+E8) -> 305 | I8: 23 | K8: 1 | L8: 1 | P8: február | Q8: 3657
B9: 43840 | D9: 188 | E9: 85 | H9: =SUM(D9+E9) -> 273 | I9: 21 | K9: 1 | L9: 1 | P9: marec | Q9: 6109
B10: 43843 | D10: 236 | E10: 152 | H10: =SUM(D10+E10) -> 388 | I10: 30 | K10: 5 | L10: 5 | P10: apríl | Q10: 4961
B11: 43844 | D11: 219 | E11: 111 | H11: =SUM(D11+E11) -> 330 | I11: 22 | K11: 1 | L11: 1 | P11: máj | Q11: 4998
B12: 43845 | D12: 235 | E12: 97 | H12: =SUM(D12+E12) -> 332 | I12: 26 | K12: 0 | L12: 0 | M12: 11 hovorov | P12: jún | Q12: 5677
B13: 43846 | D13: 170 | E13: 78 | H13: =SUM(D13+E13) -> 248 | I13: 21 | K13: 1 | L13: 1 | P13: júl | Q13: 8108
B14: 43847 | D14: 199 | E14: 62 | H14: =SUM(D14+E14) -> 261 | I14: 24 | K14: 1 | L14: 1 | P14: august | Q14: 7358
B15: 43850 | D15: 203 | E15: 113 | H15: =SUM(D15+E15) -> 316 | I15: 24 | K15: 5 | L15: 5 | P15: september | Q15: 5429
B16: 43851 | D16: 216 | E16: 120 | H16: =SUM(D16+E16) -> 336 | I16: 26 | K16: 2 | L16: 2 | P16: október | Q16: 6806
B17: 43852 | D17: 186 | E17: 61 | H17: =SUM(D17+E17) -> 247 | I17: 21 | K17: 1 | L17: 1 | M17: 11 hovorov | P17: november | Q17: 8534
B18: 43853 | D18: 227 | E18: 71 | H18: =SUM(D18+E18) -> 298 | I18: 21 | K18: 1 | L18: 1 | P18: december | Q18: 6850
B19: 43854 | D19: 177 | E19: 78 | H19: =SUM(D19+E19) -> 255 | I19: 23 | K19: 2 | L19: 2
B20: 43857 | D20: 261 | E20: 118 | H20: =SUM(D20+E20) -> 379 | I20: 32 | K20: 1 | L20: 1
B21: 43858 | D21: 249 | E21: 101 | H21: =SUM(D21+E21) -> 350 | I21: 27 | K21: 6 | L21: 6
B22: 43859 | D22: 314 | E22: 157 | H22: =SUM(D22+E22) -> 471 | I22: 36 | K22: 7 | L22: 7 | M22: 14 hovorov
B23: 43860 | D23: 216 | E23: 136 | H23: =SUM(D23+E23) -> 352 | I23: 32 | K23: 7 | L23: 7
B24: 43861 | D24: 195 | E24: 76 | H24: =SUM(D24+E24) -> 271 | I24: 23 | K24: 0 | L24: 0 | O24: Január: 6540
A25: Február
B26: 43864 | D26: 179 | E26: 98 | H26: =SUM(D26+E26) -> 277 | I26: 25 | K26: 6 | L26: 6
B27: 43865 | D27: 177 | E27: 74 | H27: =SUM(D27+E27) -> 251 | I27: 19 | K27: 3 | L27: 3
B28: 43866 | D28: 221 | E28: 63 | H28: =SUM(D28+E28) -> 284 | I28: 22 | K28: 2 | L28: 2 | M28: 10 hovorov
B29: 43867 | D29: 178 | E29: 88 | H29: =SUM(D29+E29) -> 266 | I29: 19 | K29: 2 | L29: 2
B30: 43868 | D30: 148 | E30: 61 | H30: =SUM(D30+E30) -> 209 | I30: 16 | K30: 2 | L30: 2
B31: 43871 | D31: 213 | E31: 90 | H31: =SUM(D31+E31) -> 303 | I31: 28 | K31: 2 | L31: 2
B32: 43872 | D32: 182 | E32: 72 | H32: =SUM(D32+E32) -> 254 | I32: 18 | K32: 2 | L32: 2
B33: 43873 | D33: 202 | E33: 80 | H33: =SUM(D33+E33) -> 282 | I33: 22 | K33: 9 | L33: 9 | M33: 9 hovorov
B34: 43874 | D34: 225 | E34: 81 | H34: =SUM(D34+E34) -> 306 | I34: 26 | K34: 6 | L34: 6
B35: 43875 | D35: 168 | E35: 53 | H35: =SUM(D35+E35) -> 221 | I35: 18 | K35: 1 | L35: 1
B36: 43878 | D36: 182 | E36: 79 | H36: =SUM(D36+E36) -> 261 | I36: 20 | K36: 2 | L36: 2
B37: 43879 | D37: 183 | E37: 71 | H37: =SUM(D37+E37) -> 254 | I37: 18 | K37: 1 | L37: 1
B38: 43880 | D38: 182 | E38: 76 | H38: =SUM(D38+E38) -> 258 | I38: 22 | K38: 4 | L38: 4 | M38: 13 hovorov
B39: 43881 | D39: 181 | E39: 43 | H39: =SUM(D39+E39) -> 224 | I39: 16 | K39: 6 | L39: 6
B40: 43882 | D40: 151 | E40: 11 | H40: =SUM(D40+E40) -> 162 | I40: 12 | K40: 1 | L40: 1
B41: 43885 | D41: 189 | E41: 158 | H41: =SUM(D41+E41) -> 347 | I41: 29 | K41: 4 | L41: 4
B42: 43886 | D42: 177 | E42: 62 | H42: =SUM(D42+E42) -> 239 | I42: 18 | K42: 6 | L42: 6
B43: 43887 | D43: 217 | E43: 67 | H43: =SUM(D43+E43) -> 284 | I43: 20 | K43: 2 | L43: 2 | M43: 9 hovorov
B44: 43888 | D44: 140 | E44: 50 | H44: =SUM(D44+E44) -> 190 | I44: 15 | K44: 1 | L44: 1
B45: 43889 | D45: 162 | E45: 67 | H45: =SUM(D45+E45) -> 229 | I45: 21 | K45: 1 | L45: 1 | O45: Február: 5101
A46: Marec
B47: 43892 | D47: 233 | E47: 112 | H47: =SUM(D47+E47) -> 345 | I47: 29 | K47: 2 | L47: 2
B48: 43893 | D48: 205 | E48: 108 | H48: =SUM(D48+E48) -> 313 | I48: 22 | K48: 2 | L48: 2
B49: 43894 | D49: 228 | E49: 82 | H49: =SUM(D49+E49) -> 310 | I49: 22 | K49: 9 | L49: 9 | M49: 8 hovorov
B50: 43895 | D50: 191 | E50: 63 | H50: =SUM(D50+E50) -> 254 | I50: 20 | K50: 1 | L50: 1
B51: 43896 | D51: 158 | E51: 75 | H51: =SUM(D51+E51) -> 233 | I51: 18 | K51: 4 | L51: 4
B52: 43899 | D52: 211 | E52: 139 | H52: =SUM(D52+E52) -> 350 | I52: 27 | K52: 16 | L52: 16
B53: 43900 | D53: 282 | E53: 130 | H53: =SUM(D53+E53) -> 412 | I53: 29 | K53: 4 | L53: 4
B54: 43901 | D54: 351 | E54: 253 | H54: =SUM(D54+E54) -> 604 | I54: 46 | K54: 6 | L54: 6 | M54: 26 hovorov
B55: 43902 | D55: 452 | E55: 221 | H55: =SUM(D55+E55) -> 673 | I55: 48 | K55: 16 | L55: 16
B56: 43903 | D56: 257 | E56: 118 | H56: =SUM(D56+E56) -> 375 | I56: 31 | K56: 11 | L56: 11
B57: 43906 | D57: 275 | E57: 210 | H57: =SUM(D57+E57) -> 485 | I57: 40 | K57: 3 | L57: 3
B58: 43907 | D58: 257 | E58: 135 | H58: =SUM(D58+E58) -> 392 | I58: 33 | K58: 13 | L58: 13
B59: 43908 | D59: 279 | E59: 144 | H59: =SUM(D59+E59) -> 423 | I59: 33 | K59: 5 | L59: 5 | M59: 12 hovorov
B60: 43909 | D60: 255 | E60: 154 | H60: =SUM(D60+E60) -> 409 | I60: 31 | K60: 4 | L60: 4
B61: 43910 | D61: 256 | E61: 114 | H61: =SUM(D61+E61) -> 370 | I61: 28 | K61: 0 | L61: 0
B62: 43913 | D62: 357 | E62: 293 | H62: =SUM(D62+E62) -> 650 | I62: 50 | K62: 8 | L62: 8
B63: 43914 | D63: 261 | E63: 140 | H63: =SUM(D63+E63) -> 401 | I63: 31 | K63: 8 | L63: 8
B64: 43915 | D64: 300 | E64: 124 | H64: =SUM(D64+E64) -> 424 | I64: 35 | K64: 6 | L64: 6 | M64: 15 hovorov
B65: 43916 | D65: 265 | E65: 151 | H65: =SUM(D65+E65) -> 416 | I65: 30 | K65: 10 | L65: 10
B66: 43917 | D66: 229 | E66: 131 | H66: =SUM(D66+E66) -> 360 | I66: 33 | K66: 1 | L66: 1
B67: 43920 | D67: 428 | E67: 245 | H67: =SUM(D67+E67) -> 673 | I67: 48 | K67: 25 | L67: 25
B68: 43921 | D68: 379 | E68: 160 | H68: =SUM(D68+E68) -> 539 | I68: 39 | K68: 33 | L68: 33 | O68: Marec: 9411
A69: Apríl
B70: 43922 | D70: 373 | E70: 189 | H70: =SUM(D70+E70) -> 562 | I70: 40 | K70: 1 | L70: 1 | M70: 20 hovorov
B71: 43923 | D71: 253 | E71: 156 | H71: =SUM(D71+E71) -> 409 | I71: 31 | K71: 0 | L71: 0
B72: 43924 | D72: 204 | E72: 112 | H72: =SUM(D72+E72) -> 316 | I72: 26 | K72: 1 | L72: 1
B73: 43927 | D73: 283 | E73: 152 | H73: =SUM(D73+E73) -> 435 | I73: 36 | K73: 7 | L73: 7
B74: 43928 | D74: 255 | E74: 107 | H74: =SUM(D74+E74) -> 362 | I74: 33 | K74: 7 | L74: 7
B75: 43929 | D75: 252 | E75: 93 | H75: =SUM(D75+E75) -> 345 | I75: 27 | K75: 4 | L75: 4 | M75: 21 hovorov
B76: 43930 | D76: 168 | E76: 82 | H76: =SUM(D76+E76) -> 250 | I76: 23 | K76: 4 | L76: 4
B77: 43931
B78: 43934
B79: 43935 | D79: 252 | E79: 162 | H79: =SUM(D79+E79) -> 414 | I79: 35 | K79: 4 | L79: 4
B80: 43936 | D80: 276 | E80: 131 | H80: =SUM(D80+E80) -> 407 | I80: 29 | K80: 8 | L80: 8 | M80: 18 hovorov
B81: 43937 | D81: 236 | E81: 108 | H81: =SUM(D81+E81) -> 344 | I81: 26 | K81: 1 | L81: 1
B82: 43938 | D82: 180 | E82: 52 | H82: =SUM(D82+E82) -> 232 | I82: 18 | K82: 9 | L82: 9
B83: 43941 | D83: 273 | E83: 124 | H83: =SUM(D83+E83) -> 397 | I83: 28 | K83: 7 | L83: 7
B84: 43942 | D84: 249 | E84: 102 | H84: =SUM(D84+E84) -> 351 | I84: 23 | K84: 4 | L84: 4
B85: 43943 | D85: 239 | E85: 78 | H85: =SUM(D85+E85) -> 317 | I85: 21 | K85: 1 | L85: 1 | M85: 14 hovorov
B86: 43944 | D86: 220 | E86: 127 | H86: =SUM(D86+E86) -> 347 | I86: 23 | K86: 5 | L86: 5
B87: 43945 | D87: 206 | E87: 71 | H87: =SUM(D87+E87) -> 277 | I87: 21 | K87: 1 | L87: 1
B88: 43948 | D88: 252 | E88: 145 | H88: =SUM(D88+E88) -> 397 | I88: 28 | K88: 7 | L88: 7
B89: 43949 | D89: 262 | E89: 90 | H89: =SUM(D89+E89) -> 352 | I89: 29 | K89: 6 | L89: 6
B90: 43950 | D90: 317 | E90: 129 | H90: =SUM(D90+E90) -> 446 | I90: 32 | K90: 5 | L90: 5 | M90: 21 hovorov
B91: 43951 | D91: 211 | E91: 82 | H91: =SUM(D91+E91) -> 293 | I91: 24 | K91: 6 | L91: 6 | O91: Apríl: 7523
A92: Máj
B93: 43952
B94: 43955 | D94: 276 | E94: 130 | H94: =SUM(D94+E94) -> 406 | I94: 31 | K94: 1 | L94: 1
B95: 43956 | D95: 289 | E95: 109 | H95: =SUM(D95+E95) -> 398 | I95: 28 | K95: 14 | L95: 14
B96: 43957 | D96: 306 | E96: 93 | H96: =SUM(D96+E96) -> 399 | I96: 29 | K96: 4 | L96: 4 | M96: 17 hovorov
B97: 43958 | D97: 230 | E97: 91 | H97: =SUM(D97+E97) -> 321 | I97: 23 | K97: 0 | L97: 0
B98: 43959
B99: 43962 | D99: 254 | E99: 102 | H99: =SUM(D99+E99) -> 356 | I99: 27 | K99: 2 | L99: 2
B100: 43963 | D100: 234 | E100: 107 | H100: =SUM(D100+E100) -> 341 | I100: 26 | K100: 3 | L100: 3
...

Sheet 2021
A1: Rok 2021 | B1: Dátum | C1: Požiadavky externé (Hovory + Kontaktný formulár) | D1: Vybavené hovory | E1: Vybavené kontaktný formulár, email, eDesk | F1: Požiadavky interné (NASES) | G1: Testovacie požiadavky (Globaltel + NASES KC | H1: Vybavené hovory + kontaktný formulár, email, eDesk celkom | I1: Vybavené hovory + kontaktný formulár, email, eDesk celkom operátor/deň | J1: Vybavené elektronické schránky | K1: Spadnuté hovory | L1: Volané späť | N1: Vysvetlivky
A2: Január | B2: 44197 | O2: štátny sviatok
B3: 44200 | D3: 463 | E3: 177 | H3: =SUM(D3+E3) -> 640 | I3: 58 | K3: 22 | L3: 22
B4: 44201 | D4: 270 | E4: 99 | H4: =SUM(D4+E4) -> 369 | I4: 34 | K4: 2 | L4: 2
B5: 44202
B6: 44203 | D6: 331 | E6: 119 | H6: =SUM(D6+E6) -> 450 | I6: 38 | K6: 7 | L6: 7 | P6: január | Q6: 7884
B7: 44204 | D7: 292 | E7: 71 | H7: =SUM(D7+E7) -> 363 | I7: 30 | K7: 16 | L7: 16 | P7: február | Q7: 7706
B8: 44207 | D8: 410 | E8: 120 | H8: =SUM(D8+E8) -> 530 | I8: 38 | K8: 9 | L8: 9 | P8: marec | Q8: 9539
B9: 44208 | D9: 387 | E9: 85 | H9: =SUM(D9+E9) -> 472 | I9: 36 | K9: 8 | L9: 8 | P9: apríl | Q9: 5753
B10: 44209 | D10: 382 | E10: 87 | H10: =SUM(D10+E10) -> 469 | I10: 36 | K10: 7 | L10: 7 | M10: 12 hovorov | P10: máj | Q10: 5064
B11: 44210 | D11: 346 | E11: 104 | H11: =SUM(D11+E11) -> 450 | I11: 35 | K11: 11 | L11: 11 | P11: jún | Q11: 5750
B12: 44211 | D12: 348 | E12: 77 | H12: =SUM(D12+E12) -> 425 | I12: 33 | K12: 5 | L12: 5 | P12: júl | Q12: 5626
B13: 44214 | D13: 422 | E13: 123 | H13: =SUM(D13+E13) -> 545 | I13: 45 | K13: 4 | L13: 4 | P13: august | Q13: 3735
B14: 44215 | D14: 348 | E14: 92 | H14: =SUM(D14+E14) -> 440 | I14: 34 | K14: 10 | L14: 10 | P14: september | Q14: 3457
B15: 44216 | D15: 392 | E15: 93 | H15: =SUM(D15+E15) -> 485 | I15: 37 | K15: 12 | L15: 12 | M15: 23 hovorov | P15: október | Q15: 4758
B16: 44217 | D16: 527 | E16: 143 | H16: =SUM(D16+E16) -> 670 | I16: 52 | K16: 10 | L16: 10 | P16: november | Q16: 5160
B17: 44218 | D17: 329 | E17: 98 | H17: =SUM(D17+E17) -> 427 | I17: 33 | K17: 4 | L17: 4 | P17: december | Q17: 4122
B18: 44221 | D18: 545 | E18: 165 | H18: =SUM(D18+E18) -> 710 | I18: 59 | K18: 23 | L18: 23
B19: 44222 | D19: 496 | E19: 124 | H19: =SUM(D19+E19) -> 620 | I19: 48 | K19: 30 | L19: 30
B20: 44223 | D20: 543 | E20: 123 | H20: =SUM(D20+E20) -> 666 | I20: 51 | K20: 83 | L20: 83 | M20: 31 hovorov
B21: 44224 | D21: 549 | E21: 111 | H21: =SUM(D21+E21) -> 660 | I21: 47 | K21: 8 | L21: 8
B22: 44225 | D22: 504 | E22: 72 | H22: =SUM(D22+E22) -> 576 | I22: 48 | K22: 10 | L22: 10
A23: Február | B23: 44228 | D23: 414 | E23: 183 | H23: =SUM(D23+E23) -> 597 | I23: 54 | K23: 19 | L23: 19
B24: 44229 | D24: 341 | E24: 148 | H24: =SUM(D24+E24) -> 489 | I24: 41 | K24: 4 | L24: 4
B25: 44230 | D25: 406 | E25: 76 | H25: =SUM(D25+E25) -> 482 | I25: 40 | K25: 28 | L25: 28 | M25: 16 hovorov
B26: 44231 | D26: 313 | E26: 77 | H26: =SUM(D26+E26) -> 390 | I26: 30 | K26: 4 | L26: 4
B27: 44232 | D27: 283 | E27: 93 | H27: =SUM(D27+E27) -> 376 | I27: 31 | K27: 6 | L27: 6
B28: 44235 | D28: 388 | E28: 145 | H28: =SUM(D28+E28) -> 533 | I28: 48 | K28: 18 | L28: 18
B29: 44236 | D29: 418 | E29: 94 | H29: =SUM(D29+E29) -> 512 | I29: 37 | K29: 25 | L29: 25
B30: 44237 | D30: 482 | E30: 149 | H30: =SUM(D30+E30) -> 631 | I30: 49 | K30: 21 | L30: 21 | M30: 29 hovorov
B31: 44238 | D31: 353 | E31: 99 | H31: =SUM(D31+E31) -> 452 | I31: 38 | K31: 18 | L31: 18
B32: 44239 | D32: 360 | E32: 60 | H32: =SUM(D32+E32) -> 420 | I32: 35 | K32: 7 | L32: 7
B33: 44242 | D33: 427 | E33: 116 | H33: =SUM(D33+E33) -> 543 | I33: 45 | K33: 53 | L33: 53
B34: 44243 | D34: 465 | E34: 105 | H34: =SUM(D34+E34) -> 570 | I34: 48 | K34: 61 | L34: 61
B35: 44244 | D35: 409 | E35: 85 | H35: =SUM(D35+E35) -> 494 | I35: 41 | K35: 58 | L35: 58 | M35: 16 hovorov
B36: 44245 | D36: 366 | E36: 72 | H36: =SUM(D36+E36) -> 438 | I36: 37 | K36: 28 | L36: 28
B37: 44246 | D37: 299 | E37: 91 | H37: =SUM(D37+E37) -> 390 | I37: 33 | K37: 13 | L37: 13
B38: 44249 | D38: 460 | E38: 111 | H38: =SUM(D38+E38) -> 571 | I38: 48 | K38: 36 | L38: 36
B39: 44250 | D39: 406 | E39: 79 | H39: =SUM(D39+E39) -> 485 | I39: 40 | K39: 36 | L39: 36
B40: 44251 | D40: 399 | E40: 90 | H40: =SUM(D40+E40) -> 489 | I40: 41 | K40: 29 | L40: 29 | M40: 18 hovorov
B41: 44252 | D41: 368 | E41: 99 | H41: =SUM(D41+E41) -> 467 | I41: 36 | K41: 15 | L41: 15
B42: 44253 | D42: 349 | E42: 65 | H42: =SUM(D42+E42) -> 414 | I42: 35 | K42: 4 | L42: 4
A43: Marec | B43: 44256 | D43: 458 | E43: 163 | H43: =SUM(D43+E43) -> 621 | I43: 56 | K43: 39 | L43: 39
B44: 44257 | D44: 368 | E44: 83 | H44: =SUM(D44+E44) -> 451 | I44: 38 | K44: 6 | L44: 6
B45: 44258 | D45: 352 | E45: 76 | H45: =SUM(D45+E45) -> 428 | I45: 36 | K45: 23 | L45: 23 | M45: 20 hovorov
B46: 44259 | D46: 366 | E46: 100 | H46: =SUM(D46+E46) -> 466 | I46: 36 | K46: 19 | L46: 19
B47: 44260 | D47: 372 | E47: 74 | H47: =SUM(D47+E47) -> 446 | I47: 37 | K47: 17 | L47: 17
B48: 44263 | D48: 420 | E48: 117 | H48: =SUM(D48+E48) -> 537 | I48: 49 | K48: 42 | L48: 42
B49: 44264 | D49: 393 | E49: 78 | H49: =SUM(D49+E49) -> 471 | I49: 34 | K49: 64 | L49: 64
B50: 44265 | D50: 416 | E50: 103 | H50: =SUM(D50+E50) -> 519 | I50: 40 | K50: 33 | L50: 33 | M50: 19 hovorov
B51: 44266 | D51: 425 | E51: 86 | H51: =SUM(D51+E51) -> 511 | I51: 43 | K51: 23 | L51: 23
B52: 44267 | D52: 387 | E52: 88 | H52: =SUM(D52+E52) -> 475 | I52: 40 | K52: 21 | L52: 22
B53: 44270 | D53: 428 | E53: 147 | H53: =SUM(D53+E53) -> 575 | I53: 58 | K53: 46 | L53: 46
B54: 44271 | D54: 448 | E54: 94 | H54: =SUM(D54+E54) -> 542 | I54: 49 | K54: 17 | L54: 17
B55: 44272 | D55: 444 | E55: 105 | H55: =SUM(D55+E55) -> 549 | I55: 50 | K55: 13 | L55: 13 | M55: 22 hovorov
B56: 44273 | D56: 408 | E56: 107 | H56: =SUM(D56+E56) -> 515 | I56: 43 | K56: 12 | L56: 12
B57: 44274 | D57: 356 | E57: 83 | H57: =SUM(D57+E57) -> 439 | I57: 44 | K57: 27 | L57: 27
B58: 44277 | D58: 446 | E58: 168 | H58: =SUM(D58+E58) -> 614 | I58: 61 | K58: 16 | L58: 16
B59: 44278 | D59: 433 | E59: 111 | H59: =SUM(D59+E59) -> 544 | I59: 60 | K59: 34 | L59: 34
B60: 44279 | D60: 479 | E60: 142 | H60: =SUM(D60+E60) -> 621 | I60: 56 | K60: 47 | L60: 47 | M60: 32 hovorov
B61: 44280 | D61: 391 | E61: 93 | H61: =SUM(D61+E61) -> 484 | I61: 44 | K61: 12 | L61: 12
B62: 44281 | D62: 387 | E62: 85 | H62: =SUM(D62+E62) -> 472 | I62: 47 | K62: 9 | L62: 9
B63: 44284 | D63: 415 | E63: 140 | H63: =SUM(D63+E63) -> 555 | I63: 62 | K63: 108 | L63: 108
B64: 44285 | D64: 498 | E64: 125 | H64: =SUM(D64+E64) -> 623 | I64: 62 | K64: 54 | L64: 54
B65: 44286 | D65: 449 | E65: 112 | H65: =SUM(D65+E65) -> 561 | I65: 62 | K65: 71 | L65: 71 | M65: 28 hovorov
A66: Apríl | B66: 44287 | D66: 206 | E66: 69 | H66: =SUM(D66+E66) -> 275 | I66: 31 | K66: 13 | L66: 13
B67: 44288
B68: 44291
B69: 44292 | D69: 328 | E69: 121 | H69: =SUM(D69+E69) -> 449 | I69: 56 | K69: 17 | L69: 17
B70: 44293 | D70: 327 | E70: 87 | H70: =SUM(D70+E70) -> 414 | I70: 52 | K70: 31 | L70: 31 | M70: 10 hovorov
B71: 44294 | D71: 308 | E71: 97 | H71: =SUM(D71+E71) -> 405 | I71: 45 | K71: 12 | L71: 12
B72: 44295 | D72: 263 | E72: 79 | H72: =SUM(D72+E72) -> 342 | I72: 34 | K72: 9 | L72: 9
B73: 44298 | D73: 342 | E73: 101 | H73: =SUM(D73+E73) -> 443 | I73: 44 | K73: 6 | L73: 6
B74: 44299 | D74: 299 | E74: 88 | H74: =SUM(D74+E74) -> 387 | I74: 35 | K74: 2 | L74: 2
B75: 44300 | D75: 335 | E75: 80 | H75: =SUM(D75+E75) -> 415 | I75: 38 | K75: 2 | L75: 2 | M75: 13 hovorov
B76: 44301 | D76: 286 | E76: 69 | H76: =SUM(D76+E76) -> 355 | I76: 36 | K76: 3 | L76: 3
B77: 44302 | D77: 261 | E77: 58 | H77: =SUM(D77+E77) -> 319 | I77: 27 | K77: 1 | L77: 1
B78: 44305 | D78: 237 | E78: 96 | H78: =SUM(D78+E78) -> 333 | I78: 28 | K78: 2 | L78: 2
B79: 44306 | D79: 284 | E79: 57 | H79: =SUM(D79+E79) -> 341 | I79: 26 | K79: 2 | L79: 2
B80: 44307 | D80: 295 | E80: 73 | H80: =SUM(D80+E80) -> 368 | I80: 28 | K80: 3 | L80: 3 | M80: 13 hovorov
B81: 44308 | D81: 257 | E81: 64 | H81: =SUM(D81+E81) -> 321 | I81: 25 | K81: 2 | L81: 2
B82: 44309 | D82: 230 | E82: 59 | H82: =SUM(D82+E82) -> 289 | I82: 22 | K82: 2 | L82: 2
B83: 44312 | D83: 293 | E83: 88 | H83: =SUM(D83+E83) -> 381 | I83: 35 | K83: 4 | L83: 4
B84: 44313 | D84: 267 | E84: 65 | H84: =SUM(D84+E84) -> 332 | I84: 26 | K84: 4 | L84: 4
B85: 44314 | D85: 346 | E85: 80 | H85: =SUM(D85+E85) -> 426 | I85: 36 | K85: 3 | L85: 3 | M85: 17 hovorov
B86: 44315 | D86: 279 | E86: 66 | H86: =SUM(D86+E86) -> 345 | I86: 29 | K86: 2 | L86: 2
B87: 44316 | D87: 310 | E87: 77 | H87: =SUM(D87+E87) -> 387 | I87: 43 | K87: 5 | L87: 5
A88: Máj | B88: 44319 | D88: 266 | E88: 93 | H88: =SUM(D88+E88) -> 359 | I88: 30 | K88: 2 | L88: 2
B89: 44320 | D89: 226 | E89: 71 | H89: =SUM(D89+E89) -> 297 | I89: 33 | K89: 3 | L89: 3
B90: 44321 | D90: 277 | E90: 67 | H90: =SUM(D90+E90) -> 344 | I90: 34 | K90: 6 | L90: 6 | M90: 12 hovorov
B91: 44322 | D91: 237 | E91: 62 | H91: =SUM(D91+E91) -> 299 | I91: 27 | K91: 2 | L91: 2
B92: 44323 | D92: 224 | E92: 66 | H92: =SUM(D92+E92) -> 290 | I92: 26 | K92: 1 | L92: 1
B93: 44326 | D93: 256 | E93: 90 | H93: =SUM(D93+E93) -> 346 | I93: 35 | K93: 7 | L93: 7
B94: 44327 | D94: 236 | E94: 62 | H94: =SUM(D94+E94) -> 298 | I94: 30 | K94: 3 | L94: 3
B95: 44328 | D95: 263 | E95: 67 | H95: =SUM(D95+E95) -> 330 | I95: 33 | K95: 4 | L95: 4 | M95: 17 hovorov
B96: 44329 | D96: 254 | E96: 61 | H96: =SUM(D96+E96) -> 315 | I96: 32 | K96: 6 | L96: 6
B97: 44330 | D97: 194 | E97: 62 | H97: =SUM(D97+E97) -> 256 | I97: 23 | K97: 3 | L97: 3
B98: 44333 | D98: 295 | E98: 98 | H98: =SUM(D98+E98) -> 393 | I98: 49 | K98: 18 | L98: 18
B99: 44334 | D99: 265 | E99: 57 | H99: =SUM(D99+E99) -> 322 | I99: 36 | K99: 4 | L99: 4
B100: 44335 | D100: 217 | E100: 53 | H100: =SUM(D100+E100) -> 270 | I100: 25 | K100: 4 | L100: 4 | M100: 11 hovorov
...

Sheet 2022
A1: Rok 2022 | B1: Dátum | C1: Požiadavky externé (Hovory + Kontaktný formulár) | D1: Vybavené hovory | E1: Vybavené kontaktný formulár, email, eDesk | F1: Požiadavky interné (NASES) | G1: Testovacie požiadavky (Globaltel + NASES KC | H1: Vybavené hovory + kontaktný formulár, email, eDesk celkom | I1: Vybavené hovory + kontaktný formulár, email, eDesk celkom operátor/deň | J1: Spadnuté hovory | K1: Volané späť | M1: Vysvetlivky
A2: Január | B2: 44564 | D2: 237 | E2: 116 | H2: =SUM(D2+E2) -> 353 | I2: 32 | J2: 1 | K2: 1 | N2: štátny sviatok
B3: 44565 | D3: 248 | E3: 89 | H3: =SUM(D3+E3) -> 337 | I3: 28 | J3: 4 | K3: 4
B4: 44566 | D4: 241 | E4: 56 | H4: =SUM(D4+E4) -> 297 | I4: 30 | J4: 12 | K4: 12
B5: 44567
B6: 44568 | D6: 213 | E6: 110 | H6: =SUM(D6+E6) -> 323 | I6: 29 | J6: 5 | K6: 5 | O6: január | P6: 5352
B7: 44571 | D7: 259 | E7: 127 | H7: =SUM(D7+E7) -> 386 | I7: 35 | J7: 1 | K7: 1 | O7: február | P7: 5305
B8: 44572 | D8: 238 | E8: 76 | H8: =SUM(D8+E8) -> 314 | I8: 29 | J8: 3 | K8: 3 | O8: marec | P8: 6070
B9: 44573 | D9: 305 | E9: 85 | H9: =SUM(D9+E9) -> 390 | I9: 33 | J9: 6 | K9: 6 | O9: apríl | P9: 4499
B10: 44574 | D10: 259 | E10: 78 | H10: =SUM(D10+E10) -> 337 | I10: 28 | J10: 3 | K10: 3 | O10: máj | P10: 4598
B11: 44575 | D11: 199 | E11: 70 | H11: =SUM(D11+E11) -> 269 | I11: 22 | J11: 1 | K11: 1 | O11: jún | P11: 4595
B12: 44578 | D12: 304 | E12: 211 | H12: =SUM(D12+E12) -> 515 | I12: 52 | J12: 3 | K12: 3 | O12: júl | P12: 4590
B13: 44579 | D13: 293 | E13: 122 | H13: =SUM(D13+E13) -> 415 | I13: 35 | J13: 3 | K13: 3 | O13: august | P13: 4112
B14: 44580 | D14: 345 | E14: 91 | H14: =SUM(D14+E14) -> 436 | I14: 40 | J14: 9 | K14: 9 | O14: september | P14: 5765
B15: 44581 | D15: 298 | E15: 88 | H15: =SUM(D15+E15) -> 386 | I15: 32 | J15: 3 | K15: 3 | O15: október | P15: 4347
B16: 44582 | D16: 216 | E16: 67 | H16: =SUM(D16+E16) -> 283 | I16: 28 | J16: 4 | K16: 4 | O16: november | P16: 4188
B17: 44585 | D17: 226 | E17: 149 | H17: =SUM(D17+E17) -> 375 | I17: 34 | J17: 1 | K17: 1 | O17: december | P17: 5183
B18: 44586 | D18: 260 | E18: 77 | H18: =SUM(D18+E18) -> 337 | I18: 31 | J18: 2 | K18: 2
B19: 44587 | D19: 309 | E19: 77 | H19: =SUM(D19+E19) -> 386 | I19: 32 | J19: 17 | K19: 17
B20: 44588 | D20: 279 | E20: 81 | H20: =SUM(D20+E20) -> 360 | I20: 35 | J20: 2 | K20: 2
B21: 44589 | D21: 283 | E21: 63 | H21: =SUM(D21+E21) -> 346 | I21: 35 | J21: 3 | K21: 3
B22: 44592 | D22: 340 | E22: 127 | H22: =SUM(D22+E22) -> 467 | I22: 39 | J22: 13 | K22: 13
A23: Február | B23: 44593 | D23: 237 | E23: 83 | H23: =SUM(D23+E23) -> 320 | I23: 27 | J23: 2 | K23: 2
B24: 44594 | D24: 276 | E24: 98 | H24: =SUM(D24+E24) -> 374 | I24: 34 | J24: 25 | K24: 25
B25: 44595 | D25: 269 | E25: 75 | H25: =SUM(D25+E25) -> 344 | I25: 31 | J25: 8 | K25: 8
B26: 44596 | D26: 276 | E26: 84 | H26: =SUM(D26+E26) -> 360 | I26: 40 | J26: 6 | K26: 6
B27: 44599 | D27: 322 | E27: 173 | H27: =SUM(D27+E27) -> 495 | I27: 45 | J27: 8 | K27: 8
B28: 44600 | D28: 301 | E28: 78 | H28: =SUM(D28+E28) -> 379 | I28: 42 | J28: 8 | K28: 8
B29: 44601 | D29: 281 | E29: 80 | H29: =SUM(D29+E29) -> 361 | I29: 32 | J29: 2 | K29: 2
B30: 44602 | D30: 266 | E30: 85 | H30: =SUM(D30+E30) -> 351 | I30: 35 | J30: 4 | K30: 4
B31: 44603 | D31: 228 | E31: 69 | H31: =SUM(D31+E31) -> 297 | I31: 37 | J31: 2 | K31: 2
B32: 44606 | D32: 247 | E32: 69 | H32: =SUM(D32+E32) -> 316 | I32: 40 | J32: 5 | K32: 5
B33: 44607 | D33: 258 | E33: 66 | H33: =SUM(D33+E33) -> 324 | I33: 41 | J33: 9 | K33: 9
B34: 44608 | D34: 299 | E34: 68 | H34: =SUM(D34+E34) -> 367 | I34: 46 | J34: 27 | K34: 27
B35: 44609 | D35: 239 | E35: 56 | H35: =SUM(D35+E35) -> 295 | I35: 27 | J35: 2 | K35: 2
... B42: 44620 | D42: 291 | E42: 93 | H42: =SUM(D42+E42) -> 384 | I42: 43 | J42: 8 | K42: 8
A43: Marec | B43: 44621 | D43: 234 | E43: 51 | H43: =SUM(D43+E43) -> 285 | I43: 29 | J43: 2 | K43: 2
B44: 44622 | D44: 239 | E44: 59 | H44: =SUM(D44+E44) -> 298 | I44: 27 | J44: 8 | K44: 8
B45: 44623 | D45: 249 | E45: 66 | H45: =SUM(D45+E45) -> 315 | I45: 39 | J45: 2 | K45: 2
B46: 44624 | D46: 177 | E46: 55 | H46: =SUM(D46+E46) -> 232 | I46: 23 | J46: 0 | K46: 0
B47: 44627 | D47: 251 | E47: 89 | H47: =SUM(D47+E47) -> 340 | I47: 38 | J47: 2 | K47: 2
B48: 44628 | D48: 213 | E48: 38 | H48: =SUM(D48+E48) -> 251 | I48: 28 | J48: 4 | K48: 4
B49: 44629 | D49: 250 | E49: 42 | H49: =SUM(D49+E49) -> 292 | I49: 29 | J49: 15 | K49: 15
B50: 44630 | D50: 195 | E50: 48 | H50: =SUM(D50+E50) -> 243 | I50: 27 | J50: 3 | K50: 3
B51: 44631 | D51: 204 | E51: 54 | H51: =SUM(D51+E51) -> 258 | I51: 29 | J51: 13 | K51: 13
B52: 44634 | D52: 232 | E52: 46 | H52: =SUM(D52+E52) -> 278 | I52: 35 | J52: 3 | K52: 3
B53: 44635 | D53: 220 | E53: 59 | H53: =SUM(D53+E53) -> 279 | I53: 35 | J53: 4 | K53: 4
B54: 44636 | D54: 263 | E54: 61 | H54: =SUM(D54+E54) -> 324 | I54: 29 | J54: 9 | K54: 9
B55: 44637 | D55: 233 | E55: 66 | H55: =SUM(D55+E55) -> 299 | I55: 37 | J55: 6 | K55: 6
... B65: 44651 | D65: 475 | E65: 92 | H65: =SUM(D65+E65) -> 567 | I65: 52 | J65: 32 | K65: 32
A66: Apríl | B66: 44652 | D66: 233 | E66: 54 | H66: =SUM(D66+E66) -> 287 | I66: 24 | J66: 4 | K66: 4
B67: 44655 | D67: 252 | E67: 62 | H67: =SUM(D67+E67) -> 314 | I67: 24 | J67: 10 | K67: 10
B68: 44656 | D68: 233 | E68: 56 | H68: =SUM(D68+E68) -> 289 | I68: 22 | J68: 3 | K68: 3
B69: 44657 | D69: 245 | E69: 34 | H69: =SUM(D69+E69) -> 279 | I69: 25 | J69: 1 | K69: 1
B70: 44658 | D70: 242 | E70: 60 | H70: =SUM(D70+E70) -> 302 | I70: 25 | J70: 0 | K70: 0
B71: 44659 | D71: 210 | E71: 37 | H71: =SUM(D71+E71) -> 247 | I71: 22 | J71: 2 | K71: 2
B72: 44662 | D72: 255 | E72: 86 | H72: =SUM(D72+E72) -> 341 | I72: 26 | J72: 0 | K72: 0
B73: 44663 | D73: 214 | E73: 53 | H73: =SUM(D73+E73) -> 267 | I73: 27 | J73: 0 | K73: 0
B74: 44664 | D74: 220 | E74: 48 | H74: =SUM(D74+E74) -> 268 | I74: 24 | J74: 1 | K74: 1
B75: 44665 | D75: 164 | E75: 42 | H75: =SUM(D75+E75) -> 206 | I75: 21 | J75: 1 | K75: 1
B76: 44666
B77: 44669
B78: 44670 | D78: 229 | E78: 69 | H78: =SUM(D78+E78) -> 298 | I78: 27 | J78: 2 | K78: 2
B79: 44671 | D79: 252 | E79: 53 | H79: =SUM(D79+E79) -> 305 | I79: 25 | J79: 8 | K79: 8
B80: 44672 | D80: 245 | E80: 72 | H80: =SUM(D80+E80) -> 317 | I80: 29 | J80: 2 | K80: 2
B81: 44673 | D81: 237 | E81: 60 | H81: =SUM(D81+E81) -> 297 | I81: 26 | J81: 1 | K81: 1
B82: 44676 | D82: 331 | E82: 80 | H82: =SUM(D82+E82) -> 411 | I82: 34 | J82: 9 | K82: 9
B83: 44677 | D83: 241 | E83: 57 | H83: =SUM(D83+E83) -> 298 | I83: 33 | J83: 2 | K83: 2
B84: 44678 | D84: 255 | E84: 62 | H84: =SUM(D84+E84) -> 317 | I84: 26 | J84: 3 | K84: 3
B85: 44679 | D85: 222 | E85: 44 | H85: =SUM(D85+E85) -> 266 | I85: 27 | J85: 3 | K85: 3
B86: 44680 | D86: 219 | E86: 48 | H86: =SUM(D86+E86) -> 267 | I86: 24 | J86: 2 | K86: 2
A87: Máj | B87: 44683 | D87: 215 | E87: 54 | H87: =SUM(D87+E87) -> 269 | I87: 19 | J87: 2 | K87: 2
B88: 44684 | D88: 217 | E88: 52 | H88: =SUM(D88+E88) -> 269 | I88: 27 | J88: 1 | K88: 1
B89: 44685 | D89: 214 | E89: 42 | H89: =SUM(D89+E89) -> 256 | I89: 21 | J89: 2 | K89: 2
B90: 44686 | D90: 265 | E90: 77 | H90: =SUM(D90+E90) -> 342 | I90: 31 | J90: 2 | K90: 2
B91: 44687 | D91: 237 | E91: 62 | H91: =SUM(D91+E91) -> 299 | I91: 27 | J91: 1 | K91: 1
B92: 44690 | D92: 179 | E92: 74 | H92: =SUM(D92+E92) -> 253 | I92: 25 | J92: 1 | K92: 1
B93: 44691 | D93: 194 | E93: 56 | H93: =SUM(D93+E93) -> 250 | I93: 23 | J93: 1 | K93: 1
B94: 44692 | D94: 215 | E94: 51 | H94: =SUM(D94+E94) -> 266 | I94: 27 | J94: 5 | K94: 5
B95: 44693 | D95: 198 | E95: 45 | H95: =SUM(D95+E95) -> 243 | I95: 20 | J95: 3 | K95: 3
B96: 44694 | D96: 180 | E96: 49 | H96: =SUM(D96+E96) -> 229 | I96: 19 | J96: 0 | K96: 0
B97: 44697 | D97: 218 | E97: 74 | H97: =SUM(D97+E97) -> 292 | I97: 24 | J97: 1 | K97: 1
B98: 44698 | D98: 212 | E98: 79 | H98: =SUM(D98+E98) -> 291 | I98: 32 | J98: 7 | K98: 7
B99: 44699 | D99: 234 | E99: 72 | H99: =SUM(D99+E99) -> 306 | I99: 28 | J99: 5 | K99: 5
... B108: 44712 | D108: 217 | E108: 46 | H108: =SUM(D108+E108) -> 263 | I108: 22 | J108: 2 | K108: 2
A109: Jún | B109: 44713 | D109: 234 | E109: 46 | H109: =SUM(D109+E109) -> 280 | I109: 23 | J109: 5 | K109: 5
B110: 44714 | D110: 189 | E110: 33 | H110: =SUM(D110+E110) -> 222 | I110: 19 | J110: 44 | K110: 44
B111: 44715 | D111: 151 | E111: 34 | H111: =SUM(D111+E111) -> 185 | I111: 15 | J111: 0 | K111: 0
B112: 44718 | D112: 190 | E112: 68 | H112: =SUM(D112+E112) -> 258 | I112: 20 | J112: 0 | K112: 0
B113: 44719 | D113: 158 | E113: 65 | H113: =SUM(D113+E113) -> 223 | I113: 16 | J113: 1 | K113: 1
B114: 44720 | D114: 173 | E114: 29 | H114: =SUM(D114+E114) -> 202 | I114: 14 | J114: 2 | K114: 2
B115: 44721 | D115: 184 | E115: 34 | H115: =SUM(D115+E115) -> 218 | I115: 16 | J115: 1 | K115: 1
B116: 44722 | D116: 130 | E116: 33 | H116: =SUM(D116+E116) -> 163 | I116: 12 | J116: 4 | K116: 4
B117: 44725 | D117: 159 | E117: 62 | H117: =SUM(D117+E117) -> 221 | I117: 28 | J117: 0 | K117: 0
B118: 44726 | D118: 165 | E118: 58 | H118: =SUM(D118+E118) -> 223 | I118: 28 | J118: 0 | K118: 0
B119: 44727 | D119: 206 | E119: 58 | H119: =SUM(D119+E119) -> 264 | I119: 24 | J119: 4 | K119: 4
B120: 44728 | D120: 307 | E120: 55 | H120: =SUM(D120+E120) -> 362 | I120: 45 | J120: 6 | K120: 6
B121: 44729 | D121: 144 | E121: 37 | H121: =SUM(D121+E121) -> 181 | I121: 20 | J121: 0 | K121: 0
... B130: 44742 | D130: 326 | E130: 67 | H130: =SUM(D130+E130) -> 393 | I130: 36 | J130: 19 | K130: 19
A131: Júl | B131: 44743 | D131: 378 | E131: 108 | H131: =SUM(D131+E131) -> 486 | I131: 44 | J131: 15 | K131: 15
...

Sheet 2023
A1: Rok 2023 | B1: Dátum | C1: Požiadavky externé (Hovory + Kontaktný formulár) | D1: Vybavené hovory | E1: Vybavené kontaktný formulár, email, eDesk | F1: Požiadavky interné (NASES) | G1: Testovacie požiadavky (Globaltel + NASES KC | H1: Vybavené hovory + kontaktný formulár, email, eDesk celkom | I1: Vybavené hovory + kontaktný formulár, email, eDesk celkom operátor/deň | J1: Spadnuté hovory | K1: Volané späť | M1: Vysvetlivky
A2: Január | B2: 44928 | D2: 300 | E2: 73 | H2: =SUM(D2+E2) -> 373 | I2: 29 | J2: 6 | K2: 6 | N2: štátny sviatok
B3: 44929 | D3: 254 | E3: 51 | H3: =SUM(D3+E3) -> 305 | I3: 23 | J3: 1 | K3: 1
B4: 44930 | D4: 259 | E4: 51 | H4: =SUM(D4+E4) -> 310 | I4: 24 | J4: 2 | K4: 2
B5: 44931 | D5: 259 | E5: 66 | H5: =SUM(D5+E5) -> 325 | I5: 27 | J5: 14 | K5: 14
B6: 44932
B7: 44935 | D7: 330 | E7: 84 | H7: =SUM(D7+E7) -> 414 | I7: 32 | J7: 6 | K7: 6
B8: 44936 | D8: 328 | E8: 71 | H8: =SUM(D8+E8) -> 399 | I8: 29 | J8: 5 | K8: 5
B9: 44937 | D9: 328 | E9: 63 | H9: =SUM(D9+E9) -> 391 | I9: 24 | J9: 5 | K9: 5
B10: 44938 | D10: 324 | E10: 65 | H10: =SUM(D10+E10) -> 389 | I10: 26 | J10: 4 | K10: 4
B11: 44939 | D11: 217 | E11: 36 | H11: =SUM(D11+E11) -> 253 | I11: 18 | J11: 1 | K11: 1
B12: 44942 | D12: 306 | E12: 77 | H12: =SUM(D12+E12) -> 383 | I12: 29 | J12: 10 | K12: 10
B13: 44943 | D13: 288 | E13: 63 | H13: =SUM(D13+E13) -> 351 | I13: 25 | J13: 1 | K13: 1
B14: 44944 | D14: 345 | E14: 67 | H14: =SUM(D14+E14) -> 412 | I14: 27 | J14: 17 | K14: 17
B15: 44945 | D15: 317 | E15: 64 | H15: =SUM(D15+E15) -> 381 | I15: 25 | J15: 6 | K15: 6
B16: 44946 | D16: 229 | E16: 57 | H16: =SUM(D16+E16) -> 286 | I16: 20 | J16: 0 | K16: 0
B17: 44949 | D17: 380 | E17: 104 | H17: =SUM(D17+E17) -> 484 | I17: 35 | J17: 10 | K17: 10
B18: 44950 | D18: 366 | E18: 66 | H18: =SUM(D18+E18) -> 432 | I18: 29 | J18: 1 | K18: 1
... B23: 44957 | D23: 394 | E23: 85 | H23: =SUM(D23+E23) -> 479 | I23: 34 | J23: 3 | K23: 3
A24: Február | B24: 44958 | D24: 321 | E24: 76 | H24: =SUM(D24+E24) -> 397 | I24: 31 | J24: 2 | K24: 2
B25: 44959 | D25: 289 | E25: 67 | H25: =SUM(D25+E25) -> 356 | I25: 24 | J25: 5 | K25: 5
B26: 44960 | D26: 242 | E26: 61 | H26: =SUM(D26+E26) -> 303 | I26: 23 | J26: 2 | K26: 2
B27: 44963 | D27: 261 | E27: 87 | H27: =SUM(D27+E27) -> 348 | I27: 25 | J27: 2 | K27: 2
B28: 44964 | D28: 256 | E28: 66 | H28: =SUM(D28+E28) -> 322 | I28: 27 | J28: 2 | K28: 2
B29: 44965 | D29: 265 | E29: 46 | H29: =SUM(D29+E29) -> 311 | I29: 22 | J29: 4 | K29: 4
B30: 44966 | D30: 217 | E30: 60 | H30: =SUM(D30+E30) -> 277 | I30: 20 | J30: 3 | K30: 3
B31: 44967 | D31: 209 | E31: 52 | H31: =SUM(D31+E31) -> 261 | I31: 20 | J31: 3 | K31: 3
B32: 44970 | D32: 230 | E32: 94 | H32: =SUM(D32+E32) -> 324 | I32: 27 | J32: 7 | K32: 7
B33: 44971 | D33: 190 | E33: 73 | H33: =SUM(D33+E33) -> 263 | I33: 20 | J33: 2 | K33: 2
B34: 44972 | D34: 233 | E34: 70 | H34: =SUM(D34+E34) -> 303 | I34: 25 | J34: 4 | K34: 4
B35: 44973 | D35: 208 | E35: 57 | H35: =SUM(D35+E35) -> 265 | I35: 19 | J35: 2 | K35: 2
B36: 44974 | D36: 210 | E36: 63 | H36: =SUM(D36+E36) -> 273 | I36: 20 | J36: 2 | K36: 2
... B43: 44985 | D43: 300 | E43: 91 | H43: =SUM(D43+E43) -> 391 | I43: 28 | J43: 0 | K43: 0
A44: Marec | B44: 44986 | D44: 271 | E44: 53 | H44: =SUM(D44+E44) -> 324 | I44: 23 | J44: 5 | K44: 5
B45: 44987 | D45: 261 | E45: 70 | H45: =SUM(D45+E45) -> 331 | I45: 24 | J45: 3 | K45: 3
B46: 44988 | D46: 192 | E46: 48 | H46: =SUM(D46+E46) -> 240 | I46: 18 | J46: 0 | K46: 0
B47: 44991 | D47: 292 | E47: 97 | H47: =SUM(D47+E47) -> 389 | I47: 28 | J47: 4 | K47: 4
B48: 44992 | D48: 238 | E48: 84 | H48: =SUM(D48+E48) -> 322 | I48: 23 | J48: 1 | K48: 1
B49: 44993 | D49: 255 | E49: 58 | H49: =SUM(D49+E49) -> 313 | I49: 22 | J49: 3 | K49: 3
B50: 44994 | D50: 229 | E50: 61 | H50: =SUM(D50+E50) -> 290 | I50: 19 | J50: 4 | K50: 4
B51: 44995 | D51: 225 | E51: 58 | H51: =SUM(D51+E51) -> 283 | I51: 22 | J51: 0 | K51: 0
B52: 44998 | D52: 316 | E52: 110 | H52: =SUM(D52+E52) -> 426 | I52: 36 | J52: 4 | K52: 4
B53: 44999 | D53: 601 | E53: 89 | H53: =SUM(D53+E53) -> 690 | I53: 53 | J53: 25 | K53: 25
B54: 45000 | D54: 286 | E54: 72 | H54: =SUM(D54+E54) -> 358 | I54: 26 | J54: 10 | K54: 10
B55: 45001 | D55: 255 | E55: 48 | H55: =SUM(D55+E55) -> 303 | I55: 20 | J55: 6 | K55: 6
B56: 45002 | D56: 207 | E56: 48 | H56: =SUM(D56+E56) -> 255 | I56: 18 | J56: 5 | K56: 5
... B66: 45016 | D66: 340 | E66: 65 | H66: =SUM(D66+E66) -> 405 | I66: 29 | J66: 5 | K66: 5
A67: Apríl | B67: 45019 | D67: 236 | E67: 86 | H67: =SUM(D67+E67) -> 322 | I67: 23 | J67: 3 | K67: 3
B68: 45020 | D68: 225 | E68: 52 | H68: =SUM(D68+E68) -> 277 | I68: 20 | J68: 5 | K68: 5
B69: 45021 | D69: 220 | E69: 70 | H69: =SUM(D69+E69) -> 290 | I69: 21 | J69: 5 | K69: 5
B70: 45022 | D70: 147 | E70: 60 | H70: =SUM(D70+E70) -> 207 | I70: 15 | J70: 0 | K70: 0
B71: 45023
B72: 45026
B73: 45027 | D73: 199 | E73: 93 | H73: =SUM(D73+E73) -> 292 | I73: 21 | J73: 5 | K73: 5
B74: 45028 | D74: 306 | E74: 96 | H74: =SUM(D74+E74) -> 402 | I74: 29 | J74: 2 | K74: 2
B75: 45029 | D75: 212 | E75: 73 | H75: =SUM(D75+E75) -> 285 | I75: 19 | J75: 1 | K75: 1
B76: 45030 | D76: 241 | E76: 58 | H76: =SUM(D76+E76) -> 299 | I76: 23 | J76: 3 | K76: 3
B77: 45033 | D77: 267 | E77: 73 | H77: =SUM(D77+E77) -> 340 | I77: 26 | J77: 3 | K77: 3
B78: 45034 | D78: 207 | E78: 53 | H78: =SUM(D78+E78) -> 260 | I78: 20 | J78: 4 | K78: 4
B79: 45035 | D79: 211 | E79: 52 | H79: =SUM(D79+E79) -> 263 | I79: 22 | J79: 2 | K79: 2
B80: 45036 | D80: 181 | E80: 66 | H80: =SUM(D80+E80) -> 247 | I80: 21 | J80: 2 | K80: 2
B81: 45037 | D81: 197 | E81: 181 | H81: =SUM(D81+E81) -> 378 | I81: 32 | J81: 2 | K81: 2
B82: 45040 | D82: 284 | E82: 70 | H82: =SUM(D82+E82) -> 354 | I82: 27 | J82: 4 | K82: 4
B83: 45041 | D83: 246 | E83: 64 | H83: =SUM(D83+E83) -> 310 | I83: 26 | J83: 2 | K83: 2
B84: 45042 | D84: 224 | E84: 51 | H84: =SUM(D84+E84) -> 275 | I84: 21 | J84: 2 | K84: 2
... B86: 45044 | D86: 160 | E86: 47 | H86: =SUM(D86+E86) -> 207 | I86: 16 | J86: 1 | K86: 1
A87: Máj | B87: 45047
B88: 45048 | D88: 220 | E88: 63 | H88: =SUM(D88+E88) -> 283 | I88: 26 | J88: 0 | K88: 0
B89: 45049 | D89: 322 | E89: 94 | H89: =SUM(D89+E89) -> 416 | I89: 32 | J89: 7 | K89: 7
B90: 45050 | D90: 197 | E90: 63 | H90: =SUM(D90+E90) -> 260 | I90: 19 | J90: 4 | K90: 4
B91: 45051 | D91: 150 | E91: 40 | H91: =SUM(D91+E91) -> 190 | I91: 16 | J91: 1 | K91: 1
B92: 45054
B93: 45055 | D93: 205 | E93: 64 | H93: =SUM(D93+E93) -> 269 | I93: 24 | J93: 5 | K93: 5
B94: 45056 | D94: 201 | E94: 45 | H94: =SUM(D94+E94) -> 246 | I94: 18 | J94: 1 | K94: 1
B95: 45057 | D95: 199 | E95: 70 | H95: =SUM(D95+E95) -> 269 | I95: 18 | J95: 1 | K95: 1
B96: 45058 | D96: 116 | E96: 39 | H96: =SUM(D96+E96) -> 155 | I96: 12 | J96: 1 | K96: 1
B97: 45061 | D97: 194 | E97: 67 | H97: =SUM(D97+E97) -> 261 | I97: 24 | J97: 2 | K97: 2
B98: 45062 | D98: 238 | E98: 62 | H98: =SUM(D98+E98) -> 300 | I98: 25 | J98: 2 | K98: 2
B99: 45063 | D99: 234 | E99: 61 | H99: =SUM(D99+E99) -> 295 | I99: 25 | J99: 3 | K99: 3
B100: 45064 | D100: 194 | E100: 63 | H100: =SUM(D100+E100) -> 257 | I100: 23 | J100: 2 | K100: 2
B101: 45065 | D101: 156 | E101: 41 | H101: =SUM(D101+E101) -> 197 | I101: 16 | J101: 2 | K101: 2
B102: 45068 | D102: 219 | E102: 61 | H102: =SUM(D102+E102) -> 280 | I102: 25 | J102: 3 | K102: 3
B103: 45069 | D103: 179 | E103: 132 | H103: =SUM(D103+E103) -> 311 | I103: 28 | J103: 1 | K103: 1
B104: 45070 | D104: 229 | E104: 69 | H104: =SUM(D104+E104) -> 298 | I104: 23 | J104: 6 | K104: 6
... B109: 45077 | D109: 259 | E109: 72 | H109: =SUM(D109+E109) -> 331 | I109: 28 | J109: 3 | K109: 3
A110: Jún | B110: 45078 | D110: 181 | E110: 81 | H110: =SUM(D110+E110) -> 262 | I110: 20 | J110: 0 | K110: 0
B111: 45079 | D111: 146 | E111: 47 | H111: =SUM(D111+E111) -> 193 | I111: 15 | J111: 0 | K111: 0
B112: 45082 | D112: 201 | E112: 76 | H112: =SUM(D112+E112) -> 277 | I112: 23 | J112: 2 | K112: 2
B113: 45083 | D113: 203 | E113: 57 | H113: =SUM(D113+E113) -> 260 | I113: 22 | J113: 2 | K113: 2
B114: 45084 | D114: 209 | E114: 62 | H114: =SUM(D114+E114) -> 271 | I114: 23 | J114: 2 | K114: 2
B115: 45085 | D115: 186 | E115: 63 | H115: =SUM(D115+E115) -> 249 | I115: 21 | J115: 2 | K115: 2
B116: 45086 | D116: 156 | E116: 57 | H116: =SUM(D116+E116) -> 213 | I116: 19 | J116: 1 | K116: 1
B117: 45089 | D117: 178 | E117: 82 | H117: =SUM(D117+E117) -> 260 | I117: 26 | J117: 0 | K117: 0
B118: 45090 | D118: 201 | E118: 78 | H118: =SUM(D118+E118) -> 279 | I118: 23 | J118: 0 | K118: 0
B119: 45091 | D119: 182 | E119: 58 | H119: =SUM(D119+E119) -> 240 | I119: 20 | J119: 1 | K119: 1
B120: 45092 | D120: 164 | E120: 52 | H120: =SUM(D120+E120) -> 216 | I120: 20 | J120: 6 | K120: 6
B121: 45093 | D121: 154 | E121: 52 | H121: =SUM(D121+E121) -> 206 | I121: 17 | J121: 2 | K121: 2
B122: 45096 | D122: 160 | E122: 73 | H122: =SUM(D122+E122) -> 233 | I122: 21 | J122: 3 | K122: 3
... B131: 45107 | D131: 236 | E131: 53 | H131: =SUM(D131+E131) -> 289 | I131: 32 | J131: 2 | K131: 2
A132: Júl | B132: 45110 | D132: 180 | E132: 94 | H132: =SUM(D132+E132) -> 274 | I132: 30 | J132: 1 | K132: 1
...

Sheet 2024
A1: Rok 2024 | B1: Dátum | C1: Vybavené hovory | D1: Vybavené kontaktný formulár, email, eDesk | E1: Testovacie požiadavky (Globaltel + NASES KC | F1: Vybavené hovory + kontaktný formulár, email, eDesk celkom | G1: Vybavené hovory + kontaktný formulár, email, eDesk celkom operátor/deň | H1: Spadnuté hovory | I1: Volané späť | J1: Vysvetlivky | K1: Vysvetlivky
A2: Január | B2: 45292 | L2: štátny sviatok
B3: 45293 | C3: 150 | D3: 36 | F3: =SUM(C3+D3) -> 186 | G3: 17 | H3: 1 | I3: 1
B4: 45294 | C4: 180 | D4: 51 | F4: =SUM(C4+D4) -> 231 | G4: 19 | H4: 0 | I4: 0
B5: 45295 | C5: 156 | D5: 48 | F5: =SUM(C5+D5) -> 204 | G5: 17 | H5: 2 | I5: 2
B6: 45296 | C6: 155 | D6: 42 | F6: =SUM(C6+D6) -> 197 | G6: 16 | H6: 0 | I6: 0
B7: 45299 | C7: 206 | D7: 102 | F7: =SUM(C7+D7) -> 308 | G7: 28 | H7: 19 | I7: 19
B8: 45300 | C8: 238 | D8: 62 | F8: =SUM(C8+D8) -> 300 | G8: 25 | H8: 0 | I8: 0
B9: 45301 | C9: 214 | D9: 58 | F9: =SUM(C9+D9) -> 272 | G9: 23 | H9: 2 | I9: 2
B10: 45302 | C10: 182 | D10: 53 | F10: =SUM(C10+D10) -> 235 | G10: 18 | H10: 1 | I10: 1
B11: 45303 | C11: 195 | D11: 54 | F11: =SUM(C11+D11) -> 249 | G11: 25 | H11: 0 | I11: 0
B12: 45306 | C12: 262 | D12: 84 | F12: =SUM(C12+D12) -> 346 | G12: 31 | H12: 2 | I12: 2
B13: 45307 | C13: 196 | D13: 55 | F13: =SUM(C13+D13) -> 251 | G13: 21 | H13: 4 | I13: 4
B14: 45308 | C14: 213 | D14: 61 | F14: =SUM(C14+D14) -> 274 | G14: 20 | H14: 5 | I14: 5
... B24: 45322 | C24: 267 | D24: 48 | F24: =SUM(C24+D24) -> 315 | G24: 26 | H24: 5 | I24: 5
A25: Február | B25: 45323 | C25: 216 | D25: 45 | F25: =SUM(C25+D25) -> 261 | G25: 19 | H25: 2 | I25: 2
B26: 45324 | C26: 166 | D26: 44 | F26: =SUM(C26+D26) -> 210 | G26: 18 | H26: 0 | I26: 0
B27: 45327 | C27: 219 | D27: 84 | F27: =SUM(C27+D27) -> 303 | G27: 25 | H27: 7 | I27: 7
B28: 45328 | C28: 204 | D28: 49 | F28: =SUM(C28+D28) -> 253 | G28: 23 | H28: 2 | I28: 2
B29: 45329 | C29: 212 | D29: 47 | F29: =SUM(C29+D29) -> 259 | G29: 20 | H29: 6 | I29: 6
B30: 45330 | C30: 221 | D30: 58 | F30: =SUM(C30+D30) -> 279 | G30: 20 | H30: 0 | I30: 0
B31: 45331 | C31: 178 | D31: 47 | F31: =SUM(C31+D31) -> 225 | G31: 20 | H31: 1 | I31: 1
B32: 45334 | C32: 226 | D32: 74 | F32: =SUM(C32+D32) -> 300 | G32: 27 | H32: 4 | I32: 4
B33: 45335 | C33: 190 | D33: 61 | F33: =SUM(C33+D33) -> 251 | G33: 23 | H33: 3 | I33: 3
B34: 45336 | C34: 199 | D34: 62 | F34: =SUM(C34+D34) -> 261 | G34: 26 | H34: 1 | I34: 1
B35: 45337 | C35: 200 | D35: 56 | F35: =SUM(C35+D35) -> 256 | G35: 26 | H35: 2 | I35: 2
B36: 45338 | C36: 149 | D36: 69 | F36: =SUM(C36+D36) -> 218 | G36: 31 | H36: 1 | I36: 1
B37: 45341 | C37: 224 | D37: 64 | F37: =SUM(C37+D37) -> 288 | G37: 32 | H37: 2 | I37: 2
... B45: 45351 | C45: 269 | D45: 51 | F45: =SUM(C45+D45) -> 320 | G45: 25 | H45: 1 | I45: 1
A46: Marec | B46: 45352 | C46: 214 | D46: 59 | F46: =SUM(C46+D46) -> 273 | G46: 27 | H46: 1 | I46: 1
B47: 45355 | C47: 276 | D47: 108 | F47: =SUM(C47+D47) -> 384 | G47: 35 | H47: 0 | I47: 0
B48: 45356 | C48: 243 | D48: 62 | F48: =SUM(C48+D48) -> 305 | G48: 28 | H48: 6 | I48: 6
B49: 45357 | C49: 197 | D49: 53 | F49: =SUM(C49+D49) -> 250 | G49: 25 | H49: 2 | I49: 2
B50: 45358 | C50: 220 | D50: 57 | F50: =SUM(C50+D50) -> 277 | G50: 25 | H50: 6 | I50: 6
B51: 45359 | C51: 152 | D51: 40 | F51: =SUM(C51+D51) -> 192 | G51: 21 | H51: 0 | I51: 0
B52: 45362 | C52: 347 | D52: 183 | F52: =SUM(C52+D52) -> 530 | G52: 44 | H52: 3 | I52: 3
B53: 45363 | C53: 261 | D53: 79 | F53: =SUM(C53+D53) -> 340 | G53: 34 | H53: 7 | I53: 7
B54: 45364 | C54: 238 | D54: 46 | F54: =SUM(C54+D54) -> 284 | G54: 22 | H54: 2 | I54: 2
B55: 45365 | C55: 240 | D55: 75 | F55: =SUM(C55+D55) -> 315 | G55: 26 | H55: 1 | I55: 1
B56: 45366 | C56: 242 | D56: 50 | F56: =SUM(C56+D56) -> 292 | G56: 27 | H56: 0 | I56: 0
B57: 45369 | C57: 283 | D57: 88 | F57: =SUM(C57+D57) -> 371 | G57: 37 | H57: 3 | I57: 3
B58: 45370 | C58: 226 | D58: 87 | F58: =SUM(C58+D58) -> 313 | G58: 26 | H58: 1 | I58: 1
... B65: 45379 | C65: 277 | D65: 60 | F65: =SUM(C65+D65) -> 337 | G65: 28 | H65: 1 | I65: 1
B66: 45380
A67: Apríl | B67: 45383
B68: 45384 | C68: 278 | D68: 93 | F68: =SUM(C68+D68) -> 371 | G68: 31 | H68: 11 | I68: 11
B69: 45385 | C69: 316 | D69: 80 | F69: =SUM(C69+D69) -> 396 | G69: 33 | H69: 4 | I69: 4
B70: 45386 | C70: 279 | D70: 64 | F70: =SUM(C70+D70) -> 343 | G70: 25 | H70: 3 | I70: 3
B71: 45387 | C71: 204 | D71: 78 | F71: =SUM(C71+D71) -> 282 | G71: 22 | H71: 0 | I71: 0
B72: 45390 | C72: 212 | D72: 48 | F72: =SUM(C72+D72) -> 260 | G72: 22 | H72: 4 | I72: 4
B73: 45391 | C73: 225 | D73: 69 | F73: =SUM(C73+D73) -> 294 | G73: 27 | H73: 1 | I73: 1
B74: 45392 | C74: 197 | D74: 42 | F74: =SUM(C74+D74) -> 239 | G74: 27 | H74: 3 | I74: 3
B75: 45393 | C75: 177 | D75: 37 | F75: =SUM(C75+D75) -> 214 | G75: 27 | H75: 1 | I75: 1
B76: 45394 | C76: 172 | D76: 54 | F76: =SUM(C76+D76) -> 226 | G76: 28 | H76: 1 | I76: 1
B77: 45397 | C77: 251 | D77: 61 | F77: =SUM(C77+D77) -> 312 | G77: 35 | H77: 30 | I77: 30
B78: 45398 | C78: 216 | D78: 75 | F78: =SUM(C78+D78) -> 291 | G78: 22 | H78: 0 | I78: 0
B79: 45399 | C79: 241 | D79: 75 | F79: =SUM(C79+D79) -> 316 | G79: 24 | H79: 5 | I79: 5
... B88: 45412 | C88: 213 | D88: 54 | F88: =SUM(C88+D88) -> 267 | G88: 24 | H88: 1 | I88: 1
A89: Máj | B89: 45413
B90: 45414 | C90: 251 | D90: 66 | F90: =SUM(C90+D90) -> 317 | G90: 29 | H90: 0 | I90: 0
B91: 45415 | C91: 174 | D91: 41 | F91: =SUM(C91+D91) -> 215 | G91: 20 | H91: 1 | I91: 1
B92: 45418 | C92: 251 | D92: 87 | F92: =SUM(C92+D92) -> 338 | G92: 31 | H92: 5 | I92: 5
B93: 45419 | C93: 245 | D93: 53 | F93: =SUM(C93+D93) -> 298 | G93: 30 | H93: 7 | I93: 7
B94: 45420 | F94: =SUM(C94+D94) -> 0
B95: 45421 | C95: 237 | D95: 93 | F95: =SUM(C95+D95) -> 330 | G95: 30 | H95: 6 | I95: 6
B96: 45422 | C96: 213 | D96: 47 | F96: =SUM(C96+D96) -> 260 | G96: 26 | H96: 3 | I96: 3
B97: 45425 | C97: 333 | D97: 87 | F97: =SUM(C97+D97) -> 420 | G97: 38 | H97: 7 | I97: 7
B98: 45426 | C98: 311 | D98: 56 | F98: =SUM(C98+D98) -> 367 | G98: 33 | H98: 7 | I98: 7
B99: 45427 | C99: 288 | D99: 62 | F99: =SUM(C99+D99) -> 350 | G99: 29 | H99: 14 | I99: 14
B100: 45428 | C100: 148 | D100: 46 | F100: =SUM(C100+D100) -> 194 | G100: 22 | H100: 2 | I100: 2
B101: 45429 | C101: 176 | D101: 55 | F101: =SUM(C101+D101) -> 231 | G101: 26 | H101: 2 | I101: 2
B102: 45432 | C102: 220 | D102: 65 | F102: =SUM(C102+D102) -> 285 | G102: 36 | H102: 0 | I102: 0
B103: 45433 | C103: 194 | D103: 46 | F103: =SUM(C103+D103) -> 240 | G103: 22 | H103: 13 | I103: 13
B104: 45434 | C104: 242 | D104: 46 | F104: =SUM(C104+D104) -> 288 | G104: 29 | H104: 0 | I104: 0
B105: 45435 | C105: 167 | D105: 54 | F105: =SUM(C105+D105) -> 221 | G105: 25 | H105: 0 | I105: 0
B106: 45436 | C106: 134 | D106: 56 | F106: =SUM(C106+D106) -> 190 | G106: 21 | H106: 5 | I106: 5
... B111: 45443 | C111: 193 | D111: 47 | F111: =SUM(C111+D111) -> 240 | G111: 24 | H111: 1 | I111: 1
A112: Jún | B112: 45446 | C112: 220 | D112: 73 | F112: =SUM(C112+D112) -> 293 | G112: 33 | H112: 6 | I112: 6
B113: 45447 | C113: 206 | D113: 74 | F113: =SUM(C113+D113) -> 280 | G113: 31 | H113: 2 | I113: 2
B114: 45448 | C114: 182 | D114: 60 | F114: =SUM(C114+D114) -> 242 | G114: 27 | H114: 7 | I114: 7
B115: 45449 | C115: 186 | D115: 50 | F115: =SUM(C115+D115) -> 236 | G115: 26 | H115: 0 | I115: 0
B116: 45450 | C116: 168 | D116: 46 | F116: =SUM(C116+D116) -> 214 | G116: 24 | H116: 2 | I116: 2
B117: 45453 | C117: 191 | D117: 64 | F117: =SUM(C117+D117) -> 255 | G117: 28 | H117: 1 | I117: 1
B118: 45454 | C118: 188 | D118: 57 | F118: =SUM(C118+D118) -> 245 | G118: 31 | H118: 3 | I118: 3
B119: 45455 | C119: 210 | D119: 47 | F119: =SUM(C119+D119) -> 257 | G119: 26 | H119: 0 | I119: 0
B120: 45456 | C120: 167 | D120: 64 | F120: =SUM(C120+D120) -> 231 | G120: 23 | H120: 0 | I120: 0
B121: 45457 | C121: 150 | D121: 36 | F121: =SUM(C121+D121) -> 186 | G121: 19 | H121: 2 | I121: 2
B122: 45460 | C122: 171 | D122: 40 | F122: =SUM(C122+D122) -> 211 | G122: 21 | H122: 3 | I122: 3
B123: 45461 | C123: 202 | D123: 75 | F123: =SUM(C123+D123) -> 277 | G123: 28 | H123: 2 | I123: 2
B124: 45462 | C124: 170 | D124: 41 | F124: =SUM(C124+D124) -> 211 | G124: 26 | H124: 5 | I124: 5
... B131: 45471 | C131: 284 | D131: 52 | F131: =SUM(C131+D131) -> 336 | G131: 34 | H131: 6 | I131: 6
A132: Júl | B132: 45474 | C132: 286 | D132: 60 | F132: =SUM(C132+D132) -> 346 | G132: 35 | H132: 4 | I132: 4
B133: 45475 | C133: 250 | D133: 84 | F133: =SUM(C133+D133) -> 334 | G133: 37 | H133: 7 | I133: 7
B134: 45476 | C134: 325 | D134: 44 | F134: =SUM(C134+D134) -> 369 | G134: 37 | H134: 10 | I134: 10
B135: 45477 | C135: 249 | D135: 58 | F135: =SUM(C135+D135) -> 307 | G135: 31 | H135: 1 | I135: 1
B136: 45478
B137: 45481 | C137: 333 | D137: 73 | F137: =SUM(C137+D137) -> 406 | G137: 34 | H137: 6 | I137: 6
B138: 45482 | C138: 225 | D138: 49 | F138: =SUM(C138+D138) -> 274 | G138: 23 | H138: 1 | I138: 1
B139: 45483 | C139: 206 | D139: 37 | F139: =SUM(C139+D139) -> 243 | G139: 20 | H139: 1 | I139: 1
B140: 45484 | C140: 177 | D140: 99 | F140: =SUM(C140+D140) -> 276 | G140: 23 | H140: 2 | I140: 2
...

Sheet 2025
A1: Rok 2025 | B1: Dátum | C1: Vybavené hovory | D1: Vybavené kontaktný formulár, email, eDesk | E1: Vybavené hovory + kontaktný formulár, email, eDesk celkom | F1: Vybavené hovory + kontaktný formulár, email, eDesk celkom operátor/deň | G1: Spadnuté hovory | H1: Volané späť | I1: Vysvetlivky | J1: Vysvetlivky
A2: Január | B2: 45658 | K2: štátny sviatok
B3: 45659 | C3: 110 | D3: 29 | E3: =SUM(C3+D3) -> 139 | F3: 15 | G3: 2 | H3: 2
B4: 45660 | C4: 108 | D4: 40 | E4: =SUM(C4+D4) -> 148 | F4: 16 | G4: 1 | H4: 1
B5: 45663
B6: 45664 | C6: 199 | D6: 96 | E6: =SUM(C6+D6) -> 295 | F6: 49 | G6: 1 | H6: 1
B7: 45665 | C7: 186 | D7: 60 | E7: =SUM(C7+D7) -> 246 | F7: 31 | G7: 9 | H7: 9
B8: 45666 | C8: 162 | D8: 58 | E8: =SUM(C8+D8) -> 220 | F8: 28 | G8: 3 | H8: 3
B9: 45667 | C9: 196 | D9: 52 | E9: =SUM(C9+D9) -> 248 | F9: 31 | G9: 0 | H9: 0
B10: 45670 | C10: 195 | D10: 84 | E10: =SUM(C10+D10) -> 279 | F10: 31 | G10: 3 | H10: 3
B11: 45671 | C11: 184 | D11: 57 | E11: =SUM(C11+D11) -> 241 | F11: 27 | G11: 2 | H11: 2
B12: 45672 | C12: 185 | D12: 52 | E12: =SUM(C12+D12) -> 237 | F12: 26 | G12: 6 | H12: 6
B13: 45673 | C13: 189 | D13: 56 | E13: =SUM(C13+D13) -> 245 | F13: 27 | G13: 3 | H13: 3
B14: 45674 | C14: 165 | D14: 116 | E14: =SUM(C14+D14) -> 281 | F14: 31 | G14: 0 | H14: 0
B15: 45677 | C15: 162 | D15: 128 | E15: =SUM(C15+D15) -> 290 | F15: 29 | G15: 1 | H15: 1
B16: 45678 | C16: 209 | D16: 79 | E16: =SUM(C16+D16) -> 288 | F16: 26 | G16: 2 | H16: 2
B17: 45679 | C17: 169 | D17: 74 | E17: =SUM(C17+D17) -> 243 | F17: 22 | G17: 1 | H17: 1
... B24: 45688 | C24: 192 | D24: 85 | E24: =SUM(C24+D24) -> 277 | F24: 28 | G24: 7 | H24: 7
A25: Február | B25: 45691 | C25: 218 | D25: 72 | E25: =SUM(C25+D25) -> 290 | F25: 32 | G25: 0 | H25: 0
B26: 45692 | C26: 191 | D26: 54 | E26: =SUM(C26+D26) -> 245 | F26: 25 | G26: 3 | H26: 3
B27: 45693 | C27: 193 | D27: 66 | E27: =SUM(C27+D27) -> 259 | F27: 29 | G27: 2 | H27: 2
B28: 45694 | C28: 185 | D28: 80 | E28: =SUM(C28+D28) -> 265 | F28: 27 | G28: 2 | H28: 2
B29: 45695 | C29: 172 | D29: 40 | E29: =SUM(C29+D29) -> 212 | F29: 21 | G29: 3 | H29: 3
B30: 45698 | C30: 215 | D30: 65 | E30: =SUM(C30+D30) -> 280 | F30: 31 | G30: 1 | H30: 1
B31: 45699 | C31: 156 | D31: 59 | E31: =SUM(C31+D31) -> 215 | F31: 27 | G31: 3 | H31: 3
B32: 45700 | C32: 185 | D32: 40 | E32: =SUM(C32+D32) -> 225 | F32: 28 | G32: 0 | H32: 0
B33: 45701 | C33: 229 | D33: 45 | E33: =SUM(C33+D33) -> 274 | F33: 30 | G33: 2 | H33: 2
B34: 45702 | C34: 155 | D34: 38 | E34: =SUM(C34+D34) -> 193 | F34: 21 | G34: 2 | H34: 2
B35: 45705 | C35: 212 | D35: 90 | E35: =SUM(C35+D35) -> 302 | F35: 38 | G35: 5 | H35: 5
B36: 45706 | C36: 216 | D36: 57 | E36: =SUM(C36+D36) -> 273 | F36: 27 | G36: 6 | H36: 6
B37: 45707 | C37: 210 | D37: 114 | E37: =SUM(C37+D37) -> 324 | F37: 36 | G37: 1 | H37: 1
... B44: 45716 | C44: 205 | D44: 175 | E44: =SUM(C44+D44) -> 380 | F44: 38 | G44: 4 | H44: 4
A45: Marec | B45: 45719 | C45: 230 | D45: 133 | E45: =SUM(C45+D45) -> 363 | F45: 36 | G45: 1 | H45: 1
B46: 45720 | C46: 187 | D46: 63 | E46: =SUM(C46+D46) -> 250 | F46: 25 | G46: 4 | H46: 4
B47: 45721 | C47: 207 | D47: 56 | E47: =SUM(C47+D47) -> 263 | F47: 26 | G47: 2 | H47: 2
B48: 45722 | C48: 189 | D48: 57 | E48: =SUM(C48+D48) -> 246 | F48: 22 | G48: 1 | H48: 1
B49: 45723 | C49: 172 | D49: 57 | E49: =SUM(C49+D49) -> 229 | F49: 23 | G49: 1 | H49: 1
B50: 45726 | C50: 262 | D50: 80 | E50: =SUM(C50+D50) -> 342 | F50: 31 | G50: 2 | H50: 2
B51: 45727 | C51: 214 | D51: 70 | E51: =SUM(C51+D51) -> 284 | F51: 26 | G51: 1 | H51: 1
B52: 45728 | C52: 272 | D52: 63 | E52: =SUM(C52+D52) -> 335 | F52: 30 | G52: 6 | H52: 6
B53: 45729 | C53: 248 | D53: 72 | E53: =SUM(C53+D53) -> 320 | F53: 32 | G53: 3 | H53: 3
B54: 45730 | C54: 242 | D54: 60 | E54: =SUM(C54+D54) -> 302 | F54: 30 | G54: 6 | H54: 6
B55: 45733 | C55: 282 | D55: 115 | E55: =SUM(C55+D55) -> 397 | F55: 44 | G55: 7 | H55: 7
B56: 45734 | C56: 251 | D56: 64 | E56: =SUM(C56+D56) -> 315 | F56: 29 | G56: 10 | H56: 10
B57: 45735 | C57: 265 | D57: 98 | E57: =SUM(C57+D57) -> 363 | F57: 33 | G57: 8 | H57: 8
... B65: 45747 | C65: 361 | D65: 107 | E65: =SUM(C65+D65) -> 468 | F65: 47 | G65: 16 | H65: 16
A66: Apríl | B66: 45748 | C66: 174 | D66: 61 | E66: =SUM(C66+D66) -> 235 | F66: 21 | G66: 2 | H66: 2
B67: 45749 | C67: 205 | D67: 70 | E67: =SUM(C67+D67) -> 275 | F67: 28 | G67: 1 | H67: 1
B68: 45750 | C68: 175 | D68: 62 | E68: =SUM(C68+D68) -> 237 | F68: 24 | G68: 2 | H68: 2
B69: 45751 | C69: 184 | D69: 53 | E69: =SUM(C69+D69) -> 237 | F69: 24 | G69: 0 | H69: 0
B70: 45754 | C70: 221 | D70: 69 | E70: =SUM(C70+D70) -> 290 | F70: 26 | G70: 3 | H70: 3
B71: 45755 | C71: 167 | D71: 55 | E71: =SUM(C71+D71) -> 222 | F71: 20 | G71: 0 | H71: 0
B72: 45756 | C72: 167 | D72: 33 | E72: =SUM(C72+D72) -> 200 | F72: 20 | G72: 3 | H72: 3
B73: 45757 | C73: 178 | D73: 64 | E73: =SUM(C73+D73) -> 242 | F73: 24 | G73: 0 | H73: 0
B74: 45758 | C74: 189 | D74: 46 | E74: =SUM(C74+D74) -> 235 | F74: 24 | G74: 1 | H74: 1
B75: 45761 | C75: 179 | D75: 74 | E75: =SUM(C75+D75) -> 253 | F75: 25 | G75: 3 | H75: 3
B76: 45762 | C76: 357 | D76: 94 | E76: =SUM(C76+D76) -> 451 | F76: 50 | G76: 5 | H76: 5
B77: 45763 | C77: 212 | D77: 81 | E77: =SUM(C77+D77) -> 293 | F77: 33 | G77: 7 | H77: 7
B78: 45764 | C78: 157 | D78: 150 | E78: =SUM(C78+D78) -> 307 | F78: 31 | G78: 1 | H78: 1
B79: 45765
B80: 45768
B81: 45769 | C81: 189 | D81: 144 | E81: =SUM(C81+D81) -> 333 | F81: 37 | G81: 1 | H81: 1
B82: 45770 | C82: 240 | D82: 56 | E82: =SUM(C82+D82) -> 296 | F82: 33 | G82: 16 | H82: 16
B83: 45771 | C83: 164 | D83: 49 | E83: =SUM(C83+D83) -> 213 | F83: 24 | G83: 2 | H83: 2
B84: 45772 | C84: 195 | D84: 148 | E84: =SUM(C84+D84) -> 343 | F84: 38 | G84: 5 | H84: 5
B85: 45775 | C85: 194 | D85: 114 | E85: =SUM(C85+D85) -> 308 | F85: 34 | G85: 8 | H85: 8
B86: 45776 | C86: 165 | D86: 60 | E86: =SUM(C86+D86) -> 225 | F86: 23 | G86: 4 | H86: 4
B87: 45777 | C87: 157 | D87: 74 | E87: =SUM(C87+D87) -> 231 | F87: 23 | G87: 101 | H87: 0 | I87: výpadok ÚKC
A88: Máj | B88: 45778
B89: 45779 | C89: 148 | D89: 75 | E89: =SUM(C89+D89) -> 223 | F89: 25 | G89: 0 | H89: 0
B90: 45782 | C90: 208 | D90: 89 | E90: =SUM(C90+D90) -> 297 | F90: 30 | G90: 7 | H90: 7
B91: 45783 | C91: 200 | D91: 69 | E91: =SUM(C91+D91) -> 269 | F91: 27 | G91: 3 | H91: 3
B92: 45784 | C92: 224 | D92: 68 | E92: =SUM(C92+D92) -> 292 | F92: 37 | G92: 27 | H92: 27
B93: 45785
B94: 45786 | C94: 251 | D94: 61 | E94: =SUM(C94+D94) -> 312 | F94: 39 | G94: 25 | H94: 25
B95: 45789 | C95: 327 | D95: 91 | E95: =SUM(C95+D95) -> 418 | F95: 42 | G95: 16 | H95: 16
B96: 45790 | C96: 280 | D96: 55 | E96: =SUM(C96+D96) -> 335 | F96: 37 | G96: 28 | H96: 28
B97: 45791 | C97: 314 | D97: 86 | E97: =SUM(C97+D97) -> 400 | F97: 44 | G97: 48 | H97: 48
B98: 45792 | C98: 316 | D98: 68 | E98: =SUM(C98+D98) -> 384 | F98: 38 | G98: 7 | H98: 7
B99: 45793 | C99: 232 | D99: 62 | E99: =SUM(C99+D99) -> 294 | F99: 29 | G99: 7 | H99: 7
B100: 45796 | C100: 241 | D100: 87 | E100: =SUM(C100+D100) -> 328 | F100: 33 | G100: 16 | H100: 16
B101: 45797 | C101: 198 | D101: 48 | E101: =SUM(C101+D101) -> 246 | F101: 22 | G101: 6 | H101: 6
B102: 45798 | C102: 217 | D102: 50 | E102: =SUM(C102+D102) -> 267 | F102: 30 | G102: 7 | H102: 7
B103: 45799 | C103: 197 | D103: 81 | E103: =SUM(C103+D103) -> 278 | F103: 25 | G103: 2 | H103: 2
B104: 45800 | C104: 204 | D104: 67 | E104: =SUM(C104+D104) -> 271 | F104: 27 | G104: 3 | H104: 3
B105: 45803 | C105: 235 | D105: 74 | E105: =SUM(C105+D105) -> 309 | F105: 26 | G105: 2 | H105: 2
... B109: 45807 | C109: 155 | D109: 52 | E109: =SUM(C109+D109) -> 207 | F109: 19 | G109: 3 | H109: 3
A110: Jún | B110: 45810 | C110: 185 | D110: 54 | E110: =SUM(C110+D110) -> 239 | F110: 27 | G110: 4 | H110: 4
B111: 45811 | C111: 203 | D111: 45 | E111: =SUM(C111+D111) -> 248 | F111: 25 | G111: 4 | H111: 4
B112: 45812 | C112: 224 | D112: 60 | E112: =SUM(C112+D112) -> 284 | F112: 28 | G112: 6 | H112: 6
B113: 45813 | C113: 170 | D113: 59 | E113: =SUM(C113+D113) -> 229 | F113: 29 | G113: 2 | H113: 2
B114: 45814 | C114: 183 | D114: 46 | E114: =SUM(C114+D114) -> 229 | F114: 23 | G114: 1 | H114: 1
B115: 45817 | C115: 200 | D115: 69 | E115: =SUM(C115+D115) -> 269 | F115: 27 | G115: 3 | H115: 3
B116: 45818 | C116: 169 | D116: 40 | E116: =SUM(C116+D116) -> 209 | F116: 23 | G116: 1 | H116: 1
B117: 45819 | C117: 192 | D117: 50 | E117: =SUM(C117+D117) -> 242 | F117: 27 | G117: 1 | H117: 1
B118: 45820 | C118: 178 | D118: 54 | E118: =SUM(C118+D118) -> 232 | F118: 26 | G118: 2 | H118: 2
B119: 45821 | C119: 160 | D119: 55 | E119: =SUM(C119+D119) -> 215 | F119: 24 | G119: 4 | H119: 4
B120: 45824 | C120: 184 | D120: 57 | E120: =SUM(C120+D120) -> 241 | F120: 24 | G120: 2 | H120: 2
B121: 45825 | C121: 175 | D121: 55 | E121: =SUM(C121+D121) -> 230 | F121: 21 | G121: 16 | H121: 16
B122: 45826 | C122: 175 | D122: 49 | E122: =SUM(C122+D122) -> 224 | F122: 22 | G122: 4 | H122: 4
...
