Workbook

Sheet report-neaktualne
B2: Od | C2: Do | D2: Hovory (prichádzajúce a odchádzajúce) | E2: Kontaktný formulár | F2: Spadnuté hovory | G2: Požiadavky nahodené za eGOV | H2: Test | I2: Spolu dopytov | J2: priemer: operátor/deň | K2: Aktualizácia
A3: aktuálne za rok 2017 - otvorený rok | B3: 42736 | C3: 43028 | D3: =SUM('2017'!D:D,'2017'!L:L) -> 69447 | E3: =SUM('2017'!E2:E587) -> 14282 | F3: =SUM('2017'!K2:K587) -> 3909 | G3: nenahadzujeme už | H3: =SUM('2016'!G2:G588) -> 159 | I3: =SUM('2017'!D:D,'2017'!E:E,'2017'!L:L) -> 83729 | J3: =AVERAGE('2017'!I2:I587) -> 27.923695 | K3: týždenne | L3: automaticky
A4: spolu za posledný mesiac | B4: 42979 | C4: 43008 | D4: =SUM('2017'!D206,'2017'!D186:D206,'2017'!L186:L206) -> 8640 | E4: =SUM('2017'!E186:E206) -> 2033 | F4: =SUM('2017'!K188:K206) -> 1555 | G4: nenahadzujeme už | H4: =SUM('2016'!G184:G205) -> 19 | I4: =SUM('2017'!D186,'2017'!D186:D206,'2017'!E186:E206,'2017'!L188,'2017'!L186,'2017'!L187,'2017'!L188,'2017'!L189:L206) -> 10377 | J4: =AVERAGE('2016'!I184:I205) -> 23.7 | K4: mesačne | L4: ručne
A5: spolu za posledný týždeň | B5: 43024 | C5: 43028 | D5: =SUM('2017'!D218:D222,'2017'!L218:L222) -> 1618 | E5: =SUM('2017'!E218:E222) -> 321 | F5: =SUM('2017'!K218:K222) -> 79 | G5: nenahadzujeme už | H5: =SUM('2016'!G207:G211) -> 0 | I5: =SUM('2017'!D218,'2017'!D218:E222,'2017'!L218:L222) -> 2228 | J5: =AVERAGE('2016'!I218:I222) -> 32.2 | K5: týždenne | L5: ručne
A6: zmena oproti predchádzajúcemu týždňu | B6: porovnanie za predchádzajúci týždeň | D6: =D5-SUM('2016'!D154:D158) -> 1216 | E6: =E5-SUM('2016'!E154:E158) -> 273 | F6: =F5-SUM('2016'!K154:K158) -> 78 | G6: =G5-SUM('2016'!F154:F158) -> #VALUE! | H6: =H5-SUM('2016'!G154:G158) -> 0 | I6: =I5-SUM('2016'!H154:H158) -> 1776 | J6: =J5-AVERAGE('2016'!I154:I158) -> 16.8 | K6: týždenne | L6: 42590
A7: zmena oproti predchádzajúcemu mesiacu | B7: porovnanie (Jún - Júl) | D7: =D4-SUM('2016'!D115:D136) -> 7396 | E7: =E4-SUM('2016'!E115:E136) -> 1844 | F7: =F4-SUM('2016'!K115:K136) -> 1555 | G7: =G4-SUM('2016'!F115:F136) -> #VALUE! | H7: =H4-SUM('2016'!G115:G136) -> 15 | I7: =I4-SUM('2016'!H115:H136) -> 8931 | J7: =J4-AVERAGE('2016'!I115:I136) -> 7.7454545 | K7: mesačne | L7: 42583
A8: spolu za 2013 | B8: 41596 | C8: 41639 | D8: =SUM('2013-2014'!D2:D8) -> 1997 | E8: =SUM('2013-2014'!F2:F8) -> 521 | F8: =SUM('2013-2014'!G2:G8) -> 417 | G8: neevidované | H8: neevidované | I8: =SUM(D8,E8,F8) -> 2935 | J8: neevidované | K8: ročne | L8: automaticky
A9: spolu za 2014 | B9: 41640 | C9: 42004 | D9: =SUM('2013-2014'!D9:D11,'2013-2014'!D13:D17,'2013-2014'!D18:D255) -> 10546 | E9: =SUM('2013-2014'!F9:F11,'2013-2014'!F13:F17,'2013-2014'!F18:F255) -> 3231 | F9: =SUM('2013-2014'!G9:G11,'2013-2014'!G13:G17,'2013-2014'!G18:G255) -> 207 | G9: neevidované | H9: neevidované | I9: =SUM(D9,E9,F9) -> 13984 | J9: =AVERAGE('2013-2014'!E13:E255) -> 9.8232759 | K9: ročne | L9: automaticky
A10: spolu za 2015 | B10: 42005 | C10: 42369 | D10: =SUM('2015'!D2:D300) -> 10560 | E10: =SUM('2015'!E2:E262) -> 2807 | F10: =SUM('2015'!F2:F262) -> 0 | G10: =SUM('2015'!G2:G262) -> 385 | H10: =SUM('2015'!H2:H262) -> 111 | I10: =SUM('2015'!I2:I262) -> 13844 | J10: =AVERAGE('2015'!J2:J262) -> 13.384 | K10: ročne | L10: automaticky
A11: spolu za 2016 | B11: 42370 | C11: 42735 | D11: =SUM('2016'!D:D,'2016'!L:L) -> 23847 | E11: =SUM('2016'!E2:E300) -> 5112 | F11: =SUM('2016'!K2:K300) -> 1792 | G11: nenahadzujeme už | I11: =SUM('2016'!D:D,'2016'!E:E,'2016'!L:L) -> 28959 | J11: =AVERAGE('2016'!I2:I300) -> 21.384 | K11: ročne | L11: automaticky

Sheet 2013-2014
B1: Datum | C1: Calls + HD | D1: CALLS | E1: priemer: operátor/tyzden | F1: HD | G1: Failed | H1: CC | I1: Spolu dopytov
B2: 18-22/11/2013 | C2: 215 | D2: =I2-F2-G2 -> 161 | E2: =C2/3 -> 71.666667 | F2: 83 | G2: 7 | H2: 29 | I2: =C2+H2+G2 -> 251
B3: 25-29/11/2013 | C3: 166 | D3: =I3-F3-G3 -> 172 | E3: =C3/3 -> 55.333333 | F3: 49 | G3: 14 | H3: 55 | I3: =C3+H3+G3 -> 235
B4: 2-6/12/2013 | C4: 161 | D4: =I4-F4-G4 -> 182 | E4: =C4/3 -> 53.666667 | F4: 63 | G4: 12 | H4: 84 | I4: =C4+H4+G4 -> 257
B5: 9-13/12/2013 | C5: 242 | D5: =I5-F5-G5 -> 343 | E5: =C5/3 -> 80.666667 | F5: 113 | G5: 109 | H5: 214 | I5: =C5+H5+G5 -> 565
B6: 16-20/12/2013 | C6: 289 | D6: =I6-F6-G6 -> 594 | E6: =C6/3 -> 96.333333 | F6: 88 | G6: 169 | H6: 393 | I6: =C6+H6+G6 -> 851
B7: 21-27/12/2013 | C7: 104 | D7: =I7-F7-G7 -> 186 | E7: =C7/3 -> 34.666667 | F7: 27 | G7: 56 | H7: 109 | I7: =C7+H7+G7 -> 269
B8: 30/12-3/1/2014 | C8: 294 | D8: =I8-F8-G8 -> 359 | E8: =C8/3 -> 98 | F8: 98 | G8: 50 | H8: 163 | I8: =C8+H8+G8 -> 507
B9: 7-10/1/2014 | C9: 386 | D9: =I9-F9-G9 -> 356 | E9: =C9/3 -> 128.66667 | F9: 128 | G9: 64 | H9: 98 | I9: =C9+H9+G9 -> 548
B10: 13-17/1/2014 | C10: 531 | D10: =I10-F10-G10 -> 397 | E10: =C10/3 -> 177 | F10: 168 | G10: 13 | H10: 34 | I10: =C10+H10+G10 -> 578
B11: 20-24/1/2014 | C11: 464 | D11: =I11-F11-G11 -> 347 | E11: =C11/3 -> 154.66667 | F11: 133 | G11: 4 | H11: 16 | I11: =C11+H11+G11 -> 484
B12: Datum | C12: Calls + HD | D12: CALLS | E12: priemer: operátor/deň | F12: HD | G12: Failed | H12: CC | I12: Spolu dopytov
B13: 41666 | C13: 79 | D13: =I13-F13-G13 -> 66 | E13: 13 | F13: 15 | G13: 0 | H13: 2 | I13: =C13+H13+G13 -> 81
B14: 41667 | C14: 109 | D14: =I14-F14-G14 -> 87 | E14: 22 | F14: 27 | G14: 1 | H14: 5 | I14: =C14+H14+G14 -> 115
B15: 41668 | C15: 111 | D15: =I15-F15-G15 -> 78 | E15: 37 | F15: 41 | G15: 3 | H15: 8 | I15: =C15+H15+G15 -> 122
B16: 41669 | C16: 124 | D16: =I16-F16-G16 -> 94 | E16: 21 | F16: 47 | G16: 6 | H16: 17 | I16: =C16+H16+G16 -> 147
B17: 41670 | C17: 148 | D17: =I17-F17-G17 -> 117 | E17: 37 | F17: 47 | G17: 4 | H17: 16 | I17: =C17+H17+G17 -> 168
B18: 41673 | C18: 287 | D18: =I18-F18-G18 -> 222 | E18: 57 | F18: 65 | G18: 19 | I18: =C18+G18 -> 306
B19: 41674 | C19: 258 | D19: =I19-F19-G19 -> 209 | E19: 43 | F19: 49 | G19: 6 | I19: =C19+G19 -> 264
B20: 41675 | C20: 181 | D20: =I20-F20-G20 -> 155 | E20: 30 | F20: 26 | G20: 7 | I20: =C20+G20 -> 188
B21: 41676 | C21: 143 | D21: =I21-F21-G21 -> 112 | E21: 24 | F21: 31 | G21: 4 | I21: =C21+G21 -> 147
B22: 41677 | C22: 126 | D22: =I22-F22-G22 -> 108 | E22: 25 | F22: 18 | G22: 2 | I22: =C22+G22 -> 128
B23: 41680 | C23: 181 | D23: =I23-F23-G23 -> 133 | E23: 30 | F23: 48 | G23: 3 | I23: =C23+G23 -> 184
B24: 41681 | C24: 164 | D24: =I24-F24-G24 -> 128 | E24: 33 | F24: 36 | G24: 9 | I24: =C24+G24 -> 173
B25: 41682 | C25: 140 | D25: =I25-F25-G25 -> 106 | E25: 47 | F25: 34 | G25: 14 | I25: =C25+G25 -> 154
B26: 41683 | C26: 96 | D26: =I26-F26-G26 -> 78 | E26: 19 | F26: 18 | G26: 0 | I26: =C26+G26 -> 96
B27: 41684 | C27: 71 | D27: =I27-F27-G27 -> 55 | E27: 14 | F27: 16 | G27: 0 | I27: =C27+G27 -> 71
B28: 41687 | C28: 113 | D28: =I28-F28-G28 -> 89 | E28: 38 | F28: 24 | G28: 0 | I28: =C28+G28 -> 113
B29: 41688 | C29: 128 | D29: =I29-F29-G29 -> 104 | E29: 43 | F29: 24 | G29: 4 | I29: =C29+G29 -> 132
... B71: 41746 | C71: 48 | D71: =I71-F71-G71 -> 39 | E71: 12 | F71: 9 | G71: 1 | I71: =C71+G71 -> 49
B72: 41747
B73: 41750
B74: 41751 | C74: 111 | D74: =I74-F74-G74 -> 91 | E74: 19 | F74: 20 | G74: 0 | I74: =C74+G74 -> 111
B75: 41752 | C75: 98 | D75: =I75-F75-G75 -> 75 | E75: 14 | F75: 23 | G75: 0 | I75: =C75+G75 -> 98
B76: 41753 | C76: 95 | D76: =I76-F76-G76 -> 69 | E76: 14 | F76: 26 | G76: 1 | I76: =C76+G76 -> 96
B77: 41754 | C77: 96 | D77: =I77-F77-G77 -> 78 | E77: 14 | F77: 18 | G77: 1 | I77: =C77+G77 -> 97
B78: 41757 | C78: 88 | D78: =I78-F78-G78 -> 68 | E78: 15 | F78: 20 | G78: 0 | I78: =C78+G78 -> 88
B79: 41758 | C79: 88 | D79: =I79-F79-G79 -> 68 | E79: 13 | F79: 20 | G79: 0 | I79: =C79+G79 -> 88
B80: 41759 | C80: 103 | D80: =I80-F80-G80 -> 88 | E80: 15 | F80: 15 | G80: 6 | I80: =C80+G80 -> 109
B81: 41760
...

Sheet 2015
B1: Datum | C1: Calls + HD | D1: Hovory | E1: Kontaktný formulár | F1: Prepadnuté do odkazovej schránky | G1: Požiadavky nahodené za eGOV | H1: Test | I1: Spolu dopytov | J1: priemer: operátor/deň
B2: 42005
B3: 42006 | C3: 13 | D3: =I3-E3-F3 -> 11 | E3: 2 | F3: 0 | I3: =C3+F3 -> 13 | J3: 7
B4: 42009 | C4: 28 | D4: =I4-E4-F4 -> 24 | E4: 4 | F4: 0 | I4: =C4+F4 -> 28 | J4: 14
B5: 42010
B6: 42011 | C6: 42 | D6: =I6-E6-F6 -> 28 | E6: 14 | F6: 0 | I6: =C6+F6 -> 42 | J6: 8
B7: 42012 | C7: 26 | D7: =I7-E7-F7 -> 19 | E7: 7 | F7: 0 | I7: =C7+F7 -> 26 | J7: 5
B8: 42013 | C8: 35 | D8: =I8-E8-F8 -> 23 | E8: 12 | F8: 0 | I8: =C8+F8 -> 35 | J8: 7
B9: 42016 | C9: 53 | D9: =I9-E9-F9 -> 34 | E9: 19 | F9: 0 | I9: =C9+F9 -> 53 | J9: 11
B10: 42017 | C10: 27 | D10: =I10-E10-F10 -> 21 | E10: 6 | F10: 0 | I10: =C10+F10 -> 27 | J10: 5
B11: 42018 | C11: 34 | D11: =I11-E11-F11 -> 24 | E11: 10 | F11: 0 | I11: =C11+F11 -> 34 | J11: 7
B12: 42019 | C12: 27 | D12: =I12-E12-F12 -> 18 | E12: 9 | F12: 0 | I12: =C12+F12 -> 27 | J12: 5
B13: 42020 | C13: 45 | D13: =I13-E13-F13 -> 34 | E13: 11 | F13: 0 | I13: =C13+F13 -> 45 | J13: 8
B14: 42023 | C14: 35 | D14: =I14-E14-F14 -> 26 | E14: 9 | F14: 0 | I14: =C14+F14 -> 35 | J14: 7
B15: 42024 | C15: 29 | D15: =I15-E15-F15 -> 22 | E15: 7 | F15: 0 | I15: =C15+F15 -> 29 | J15: 6
B16: 42025 | C16: 45 | D16: =I16-E16-F16 -> 32 | E16: 13 | F16: 0 | I16: =C16+F16 -> 45 | J16: 8
B17: 42026 | C17: 50 | D17: =I17-E17-F17 -> 36 | E17: 14 | F17: 0 | I17: =C17+F17 -> 50 | J17: 10
... B67: 42096 | C67: 36 | D67: =I67-E67-F67 -> 33 | E67: 3 | F67: 0 | I67: =C67+F67 -> 36 | J67: 6
B68: 42097
B69: 42100
B70: 42101 | C70: 65 | D70: =I70-E70-F70 -> 48 | E70: 17 | F70: 0 | I70: =C70+F70 -> 65 | J70: 11
B71: 42102 | C71: 55 | D71: =I71-E71-F71 -> 39 | E71: 16 | F71: 0 | I71: =C71+F71 -> 55 | J71: 9
B72: 42103 | C72: 105 | D72: =I72-E72-F72 -> 73 | E72: 32 | F72: 0 | I72: =C72+F72 -> 105 | J72: 53
B73: 42104 | C73: 82 | D73: =I73-E73-F73 -> 63 | E73: 19 | F73: 0 | I73: =C73+F73 -> 82 | J73: 41
B74: 42107 | C74: 60 | D74: =I74-E74-F74 -> 48 | E74: 12 | F74: 0 | I74: =C74+F74 -> 60 | J74: 10
B75: 42108 | C75: 30 | D75: =I75-E75-F75 -> 23 | E75: 7 | F75: 0 | I75: =C75+F75 -> 30 | J75: 5
B76: 42109 | C76: 40 | D76: =I76-E76-F76 -> 30 | E76: 10 | F76: 0 | I76: =C76+F76 -> 40 | J76: 8
B77: 42110 | C77: 40 | D77: =I77-E77-F77 -> 29 | E77: 11 | F77: 0 | I77: =C77+F77 -> 40 | J77: 7
B78: 42111 | C78: 30 | D78: =I78-E78-F78 -> 25 | E78: 5 | F78: 0 | I78: =C78+F78 -> 30 | J78: 8
B79: 42114 | C79: 37 | D79: =I79-E79-F79 -> 23 | E79: 14 | F79: 0 | I79: =C79+F79 -> 37 | J79: 9
B80: 42115 | C80: 46 | D80: =I80-E80-F80 -> 32 | E80: 14 | F80: 0 | I80: =C80+F80 -> 46 | J80: 12
B81: 42116 | C81: 33 | D81: =I81-E81-F81 -> 26 | E81: 7 | F81: 0 | I81: =C81+F81 -> 33 | J81: 8
... B87: 42124 | C87: 30 | D87: =I87-E87-F87 -> 25 | E87: 5 | F87: 0 | I87: =C87+F87 -> 30 | J87: 8
B88: 42125
B89: 42128 | D89: 14 | E89: 8 | F89: 0 | G89: 2 | H89: 1 | I89: =SUM(D89+E89+F89+G89) -> 24 | J89: 8
B90: 42129 | D90: 20 | E90: 5 | F90: 0 | G90: 3 | H90: 0 | I90: =SUM(D90+E90+F90+G90) -> 28 | J90: 9
B91: 42130 | D91: 17 | E91: 6 | F91: 0 | G91: 0 | H91: 4 | I91: =SUM(D91+E91+F91+G91) -> 23 | J91: 6
B92: 42131 | D92: 15 | E92: 4 | F92: 0 | G92: 0 | H92: 2 | I92: =SUM(D92+E92+F92+G92) -> 19 | J92: 5
B93: 42132
B94: 42135 | D94: 70 | E94: 34 | F94: 0 | G94: 1 | H94: 0 | I94: =SUM(D94+E94+F94+G94) -> 105 | J94: 35
...

Sheet 2016
A1: Rok 2016 | B1: Dátum | C1: Požiadavky externé (Hovory + Kontaktný formulár) | D1: Vybavené hovory | E1: Vybavené kontaktný formulár | F1: Požiadavky interné (NASES) | G1: Testovacie požiadavky (Globaltel + NASES KC | H1: Vybavené hovory + kontaktný formulár celkom | I1: Vybavené hovory + kontaktný formulár celkom operátor/deň | J1: Vybavené elektronické schránky | K1: Spadnuté hovory | L1: Volané späť | N1: Vysvetlivky
A2: Január | B2: 42370 | O2: štátny sviatok
B3: 42373 | C3: =SUM(D3+E3) -> 59 | D3: 50 | E3: 9 | F3: 0 | G3: 0 | H3: =SUM(D3+E3) -> 59 | I3: 15 | K3: 0
B4: 42374 | C4: =SUM(D4+E4) -> 43 | D4: 33 | E4: 10 | F4: 0 | G4: 0 | H4: =SUM(D4+E4+K4+F4+G4) -> 43 | I4: 11 | K4: 0 | O4: pracovný týždeň
B5: 42375 | C5: =SUM(D5+E5) -> 0
B6: 42376 | C6: =SUM(D6+E6) -> 77 | D6: 62 | E6: 15 | F6: 0 | G6: 0 | H6: =SUM(D6+E6+K6+F6+G6) -> 77 | I6: 20 | K6: 0 | O6: začiatok nového mesiaca
B7: 42377 | C7: =SUM(D7+E7) -> 57 | D7: 49 | E7: 8 | F7: 0 | G7: 0 | H7: =SUM(D7+E7+K7+F7+G7) -> 57 | I7: 19 | K7: 0
B8: 42380 | C8: =SUM(D8+E8) -> 76 | D8: 56 | E8: 20 | F8: 0 | G8: 0 | H8: =SUM(D8+E8+K8+F8+G8) -> 76 | I8: 15 | K8: 0
B9: 42381 | C9: =SUM(D9+E9) -> 42 | D9: 39 | E9: 3 | F9: 0 | G9: 0 | H9: =SUM(D9+E9+K9+F9+G9) -> 42 | I9: 8 | K9: 0
B10: 42382 | C10: =SUM(D10+E10) -> 71 | D10: 60 | E10: 11 | F10: 0 | G10: 0 | H10: =SUM(D10+E10+K10+F10+G10) -> 71 | I10: 14 | K10: 0
B11: 42383 | C11: =SUM(D11+E11) -> 89 | D11: 72 | E11: 17 | F11: 1 | G11: 0 | H11: =SUM(D11+E11+K11+F11+G11) -> 90 | I11: 18 | K11: 0
B12: 42384 | C12: =SUM(D12+E12) -> 68 | D12: 42 | E12: 26 | F12: 0 | G12: 0 | H12: =SUM(D12+E12+K12+F12+G12) -> 68 | I12: 17 | K12: 0
B13: 42387 | C13: =SUM(D13+E13) -> 103 | D13: 80 | E13: 23 | F13: 0 | G13: 0 | H13: =SUM(D13+E13+K13+F13+G13) -> 103 | I13: 26 | K13: 0
B14: 42388 | C14: =SUM(D14+E14) -> 70 | D14: 61 | E14: 9 | F14: 0 | G14: 0 | H14: =SUM(D14+E14+K14+F14+G14) -> 70 | I14: 23 | K14: 0
B15: 42389 | C15: =SUM(D15+E15) -> 83 | D15: 70 | E15: 13 | F15: 0 | G15: 0 | H15: =SUM(D15+E15+K15+F15+G15) -> 83 | I15: 21 | K15: 0
B16: 42390 | C16: =SUM(D16+E16) -> 83 | D16: 67 | E16: 16 | F16: 1 | G16: 0 | H16: =SUM(D16+E16+K16+F16+G16) -> 84 | I16: 21 | K16: 0
B17: 42391 | C17: =SUM(D17+E17) -> 56 | D17: 47 | E17: 9 | F17: 0 | G17: 0 | H17: =SUM(D17+E17+K17+F17+G17) -> 56 | I17: 14 | K17: 0
B18: 42394 | C18: =SUM(D18+E18) -> 131 | D18: 107 | E18: 24 | F18: 2 | G18: 0 | H18: =SUM(D18+E18+K18+F18+G18) -> 133 | I18: 26 | K18: 0
... B22: 42398 | C22: =SUM(D22+E22) -> 51 | D22: 47 | E22: 4 | F22: 0 | G22: 0 | H22: =SUM(D22+E22+K22+F22+G22) -> 51 | I22: 14 | K22: 0
A23: Február
B24: 42401 | C24: =SUM(D24+E24) -> 51 | D24: 37 | E24: 14 | F24: 0 | G24: 0 | H24: =SUM(D24+E24+K24+F24+G24) -> 51 | I24: 16 | K24: 0
B25: 42402 | C25: =SUM(D25+E25) -> 22 | D25: 16 | E25: 6 | F25: 1 | G25: 0 | H25: =SUM(D25+E25+K25+F25+G25) -> 23 | I25: 16 | K25: 0
B26: 42403 | C26: =SUM(D26+E26) -> 29 | D26: 14 | E26: 15 | F26: 1 | G26: 0 | H26: =SUM(D26+E26+K26+F26+G26) -> 30 | I26: 16 | K26: 0
B27: 42404 | C27: =SUM(D27+E27) -> 27 | D27: 15 | E27: 12 | F27: 0 | G27: 0 | H27: =SUM(D27+E27+K27+F27+G27) -> 27 | I27: 23 | K27: 0
B28: 42405 | C28: =SUM(D28+E28) -> 28 | D28: 13 | E28: 15 | F28: 2 | G28: 0 | H28: =SUM(D28+E28+K28+F28+G28) -> 30 | I28: 14 | K28: 0
B29: 42408 | C29: =SUM(D29+E29) -> 62 | D29: 51 | E29: 11 | F29: 0 | G29: 0 | H29: =SUM(D29+E29+K29+F29+G29) -> 62 | I29: 15 | K29: 0
B30: 42409 | C30: =SUM(D30+E30) -> 36 | D30: 31 | E30: 5 | F30: 0 | G30: 0 | H30: =SUM(D30+E30+K30+F30+G30) -> 36 | I30: 9 | K30: 0
B31: 42410 | C31: =SUM(D31+E31) -> 54 | D31: 50 | E31: 4 | F31: 0 | G31: 0 | H31: =SUM(D31+E31+K31+F31+G31) -> 54 | I31: 14 | K31: 0
B32: 42411 | C32: =SUM(D32+E32) -> 57 | D32: 45 | E32: 12 | F32: 0 | G32: 0 | H32: =SUM(D32+E32+K32+F32+G32) -> 57 | I32: 12 | K32: 0
B33: 42412 | C33: =SUM(D33+E33) -> 58 | D33: 46 | E33: 12 | F33: 0 | G33: 0 | H33: =SUM(D33+E33+K33+F33+G33) -> 58 | I33: 15 | K33: 0
B34: 42415 | C34: =SUM(D34+E34) -> 56 | D34: 47 | E34: 9 | F34: 0 | G34: 0 | H34: =SUM(D34+E34+K34+F34+G34) -> 56 | I34: 14 | K34: 0
B35: 42416 | C35: =SUM(D35+E35) -> 158 | D35: 142 | E35: 16 | F35: 0 | G35: 0 | H35: =SUM(D35+E35+K35+F35+G35) -> 158 | I35: 32 | K35: 0
... B44: 42429 | C44: =SUM(D44+E44) -> 88 | D44: 73 | E44: 15 | F44: 2 | G44: 0 | H44: =SUM(D44+E44+K44+F44+G44) -> 90 | I44: 23 | K44: 0
A45: Marec
B46: 42430 | C46: =SUM(D46+E46) -> 57 | D46: 50 | E46: 7 | F46: 0 | G46: 0 | H46: =SUM(D46+E46+K46+F46+G46) -> 57 | I46: 14 | K46: 0
B47: 42431 | C47: =SUM(D47+E47) -> 58 | D47: 47 | E47: 11 | F47: 0 | G47: 0 | H47: =SUM(D47+E47+K47+F47+G47) -> 58 | I47: 15 | K47: 0
B48: 42432 | C48: =SUM(D48+E48) -> 76 | D48: 59 | E48: 17 | F48: 0 | G48: 0 | H48: =SUM(D48+E48+K48+F48+G48) -> 76 | I48: 19 | K48: 0
B49: 42433 | C49: =SUM(D49+E49) -> 64 | D49: 57 | E49: 7 | F49: 1 | G49: 0 | H49: =SUM(D49+E49+K49+F49+G49) -> 65 | I49: 16 | K49: 0
B50: 42436 | C50: =SUM(D50+E50) -> 96 | D50: 79 | E50: 17 | F50: 1 | G50: 0 | H50: =SUM(D50+E50+K50+F50+G50) -> 97 | I50: 24 | K50: 0
B51: 42437 | C51: =SUM(D51+E51) -> 73 | D51: 50 | E51: 23 | F51: 0 | G51: 0 | H51: =SUM(D51+E51+K51+F51+G51) -> 73 | I51: 18 | K51: 0
...

Sheet 2017
A1: Rok 2017 | B1: Dátum | C1: Požiadavky externé (Hovory + Kontaktný formulár) | D1: Vybavené hovory | E1: Vybavené kontaktný formulár | F1: Požiadavky interné (NASES) | G1: Testovacie požiadavky (Globaltel + NASES KC | H1: Vybavené hovory + kontaktný formulár celkom | I1: Vybavené hovory + kontaktný formulár celkom operátor/deň | J1: Vybavené elektronické schránky | K1: Spadnuté hovory | L1: Volané späť | N1: Vysvetlivky
A2: Január | B2: 42737 | D2: 114 | E2: 35 | H2: =SUM(D2+E2) -> 149 | I2: 11 | J2: 55 | K2: 3 | L2: 3 | O2: štátny sviatok
B3: 42738 | D3: 127 | E3: 30 | H3: =SUM(D3+E3) -> 157 | I3: 10 | J3: 53 | K3: 2 | L3: 2
B4: 42739 | D4: 131 | E4: 41 | H4: =SUM(D4+E4) -> 172 | I4: 11 | J4: 39 | K4: 5 | L4: 5 | O4: pracovný týždeň
B5: 42740 | D5: 88 | E5: 24 | H5: =SUM(D5+E5) -> 112 | I5: 8 | J5: 35 | K5: 0 | L5: 0
B6: 42741 | O6: začiatok nového mesiaca
B7: 42744 | D7: 154 | E7: 57 | H7: =SUM(D7+E7) -> 211 | I7: 16 | J7: 68 | K7: 4 | L7: 4
B8: 42745 | D8: 170 | E8: 36 | H8: =SUM(D8+E8) -> 206 | I8: 14 | J8: 52 | K8: 1 | L8: 1 | O8: víkend - jednorázová prevádzka KC
B9: 42746 | D9: 158 | E9: 26 | H9: =SUM(D9+E9) -> 184 | I9: 12 | J9: 46 | K9: 0 | L9: 0
B10: 42747 | D10: 156 | E10: 54 | H10: =SUM(D10+E10) -> 210 | I10: 16 | J10: 45 | K10: 2 | L10: 2
B11: 42748 | D11: 162 | E11: 23 | H11: =SUM(D11+E11) -> 185 | I11: 14 | J11: 39 | K11: 16 | L11: 16
B12: 42751 | D12: 168 | E12: 96 | H12: =SUM(D12+E12) -> 264 | I12: 20 | J12: 54 | K12: 1 | L12: 1
B13: 42752 | D13: 162 | E13: 37 | H13: =SUM(D13+E13) -> 199 | I13: 15 | J13: 44 | K13: 0 | L13: 0
B14: 42753 | D14: 288 | E14: 60 | H14: =SUM(D14+E14) -> 348 | I14: 25 | J14: 56 | K14: 4 | L14: 4
B15: 42754 | D15: 206 | E15: 50 | H15: =SUM(D15+E15) -> 256 | I15: 17 | J15: 62 | K15: 0 | L15: 0
B16: 42755 | D16: 193 | E16: 46 | H16: =SUM(D16+E16) -> 239 | I16: 18 | J16: 44 | K16: 0 | L16: 0
B17: 42758 | D17: 247 | E17: 75 | H17: =SUM(D17+E17) -> 322 | I17: 25 | J17: 73 | K17: 1 | L17: 1
B18: 42759 | D18: 282 | E18: 77 | H18: =SUM(D18+E18) -> 359 | I18: 26 | J18: 85 | K18: 29 | L18: 29
B19: 42760 | D19: 280 | E19: 67 | H19: =SUM(D19+E19) -> 347 | I19: 27 | J19: 64 | K19: 7 | L19: 7
B20: 42761 | D20: 311 | E20: 59 | H20: =SUM(D20+E20) -> 370 | I20: 31 | J20: 113 | K20: 4 | L20: 4
... B23: 42766 | D23: 218 | E23: 41 | H23: =SUM(D23+E23) -> 259 | I23: 20 | J23: 62 | K23: 3 | L23: 3
A24: Február
B25: 42767 | D25: 173 | E25: 40 | H25: =SUM(D25+E25) -> 213 | I25: 19 | J25: 58 | K25: 7 | L25: 7
B26: 42768 | D26: 208 | E26: 47 | H26: =SUM(D26+E26) -> 255 | I26: 21 | J26: 47 | K26: 4 | L26: 4
B27: 42769 | D27: 158 | E27: 59 | H27: =SUM(D27+E27) -> 217 | I27: 18 | J27: 67 | K27: 2 | L27: 2
B28: 42772 | D28: 220 | E28: 64 | H28: =SUM(D28+E28) -> 284 | I28: 32 | J28: 82 | K28: 6 | L28: 6
B29: 42773 | D29: 181 | E29: 54 | H29: =SUM(D29+E29) -> 235 | I29: 26 | J29: 59 | K29: 1 | L29: 1
B30: 42774 | D30: 232 | E30: 54 | H30: =SUM(D30+E30) -> 286 | I30: 36 | J30: 68 | K30: 15 | L30: 15
B31: 42775 | D31: 220 | E31: 51 | H31: =SUM(D31+E31) -> 271 | I31: 27 | J31: 86 | K31: 3 | L31: 3
B32: 42776 | D32: 199 | E32: 46 | H32: =SUM(D32+E32) -> 245 | I32: 27 | J32: 64 | K32: 9 | L32: 9
B33: 42779 | D33: 224 | E33: 56 | H33: =SUM(D33+E33) -> 280 | I33: 10 | J33: 79 | K33: 13 | L33: 13
B34: 42780 | D34: 144 | E34: 39 | H34: =SUM(D34+E34) -> 183 | I34: 10 | J34: 50 | K34: 0 | L34: 0
B35: 42781 | D35: 180 | E35: 38 | H35: =SUM(D35+E35) -> 218 | I35: 11 | J35: 54 | K35: 5 | L35: 5
B36: 42782 | D36: 156 | E36: 46 | H36: =SUM(D36+E36) -> 202 | I36: 10 | J36: 70 | K36: 2 | L36: 2
... B44: 42794 | D44: 168 | E44: 41 | H44: =SUM(D44+E44) -> 209 | I44: 19 | J44: 64 | K44: 2 | L44: 2
A45: Marec
B46: 42795 | D46: 208 | E46: 37 | H46: =SUM(D46+E46) -> 245 | I46: 20 | J46: 61 | K46: 8 | L46: 8
B47: 42796 | D47: 168 | E47: 24 | H47: =SUM(D47+E47) -> 192 | I47: 16 | J47: 52 | K47: 4 | L47: 4
B48: 42797 | D48: 173 | E48: 29 | H48: =SUM(D48+E48) -> 202 | I48: 17 | J48: 56 | K48: 2 | L48: 2
B49: 42800 | D49: 166 | E49: 47 | H49: =SUM(D49+E49) -> 213 | I49: 19 | J49: 51 | K49: 0 | L49: 0
...

Sheet 2018
A1: Rok 2018 | B1: Dátum | C1: Požiadavky externé (Hovory + Kontaktný formulár) | D1: Vybavené hovory | E1: Vybavené kontaktný formulár | F1: Požiadavky interné (NASES) | G1: Testovacie požiadavky (Globaltel + NASES KC | H1: Vybavené hovory + kontaktný formulár celkom | I1: Vybavené hovory + kontaktný formulár celkom operátor/deň | J1: Vybavené elektronické schránky | K1: Spadnuté hovory | L1: Volané späť | N1: Vysvetlivky
A2: Január | B2: 43101 | O2: štátny sviatok
B3: 43102 | D3: 172 | E3: 76 | H3: =SUM(D3+E3) -> 248 | I3: 11 | K3: 10 | L3: 10
B4: 43103 | D4: 247 | E4: 50 | H4: =SUM(D4+E4) -> 297 | I4: 12 | K4: 24 | L4: 24 | M4: 8 hovorov | O4: pracovný týždeň
B5: 43104 | D5: 228 | E5: 43 | H5: =SUM(D5+E5) -> 271 | I5: 12 | K5: 12 | L5: 12
B6: 43105 | D6: 217 | E6: 50 | H6: =SUM(D6+E6) -> 267 | I6: 11 | K6: 3 | L6: 3 | O6: začiatok nového mesiaca
B7: 43108 | D7: 262 | E7: 117 | H7: =SUM(D7+E7) -> 379 | I7: 34 | K7: 20 | L7: 20
B8: 43109 | D8: 257 | E8: 85 | H8: =SUM(D8+E8) -> 342 | I8: 31 | K8: 6 | L8: 6
B9: 43110 | D9: 279 | E9: 74 | H9: =SUM(D9+E9) -> 353 | I9: 32 | K9: 30 | L9: 30 | M9: 12 hovorov
B10: 43111 | D10: 285 | E10: 68 | H10: =SUM(D10+E10) -> 353 | I10: 32 | K10: 4 | L10: 4
B11: 43112 | D11: 256 | E11: 79 | H11: =SUM(D11+E11) -> 335 | I11: 30 | K11: 1 | L11: 1
B12: 43115 | D12: 289 | E12: 65 | H12: =SUM(D12+E12) -> 354 | I12: 30 | K12: 14 | L12: 14
B13: 43116 | D13: 278 | E13: 62 | H13: =SUM(D13+E13) -> 340 | I13: 28 | K13: 15 | L13: 15
B14: 43117 | D14: 336 | E14: 87 | H14: =SUM(D14+E14) -> 423 | I14: 30 | K14: 26 | L14: 26 | M14: 15 hovorov
B15: 43118 | D15: 265 | E15: 63 | H15: =SUM(D15+E15) -> 328 | I15: 23 | K15: 12 | L15: 12
B16: 43119 | D16: 263 | E16: 69 | H16: =SUM(D16+E16) -> 332 | I16: 28 | K16: 42 | L16: 42
B17: 43122 | D17: 301 | E17: 115 | H17: =SUM(D17+E17) -> 416 | I17: 35 | K17: 40 | L17: 40
B18: 43123 | D18: 313 | E18: 87 | H18: =SUM(D18+E18) -> 400 | I18: 33 | K18: 21 | L18: 21
B19: 43124 | D19: 328 | E19: 75 | H19: =SUM(D19+E19) -> 403 | I19: 31 | K19: 42 | L19: 42 | M19: 20 hovorov
B20: 43125 | D20: 299 | E20: 62 | H20: =SUM(D20+E20) -> 361 | I20: 33 | K20: 46 | L20: 46
B21: 43126 | D21: 291 | E21: 66 | H21: =SUM(D21+E21) -> 357 | I21: 32 | K21: 40 | L21: 40
B22: 43129 | D22: 423 | E22: 107 | H22: =SUM(D22+E22) -> 530 | I22: 44 | K22: 23 | L22: 23
B23: 43130 | D23: 396 | E23: 100 | H23: =SUM(D23+E23) -> 496 | I23: 38 | K23: 83 | L23: 0
B24: 43131 | D24: 353 | E24: 80 | H24: =SUM(D24+E24) -> 433 | I24: 39 | K24: 254 | L24: 0 | M24: 25 hovorov | O24: Január 8018
A25: Február
B26: 43132 | D26: 307 | E26: 75 | H26: =SUM(D26+E26) -> 382 | I26: 35 | K26: 61 | L26: 0
B27: 43133 | D27: 273 | E27: 63 | H27: =SUM(D27+E27) -> 336 | I27: 31 | K27: 41 | L27: 41
B28: 43136 | D28: 276 | E28: 114 | H28: =SUM(D28+E28) -> 390 | I28: 39 | K28: 52 | L28: 52
B29: 43137 | D29: 265 | E29: 84 | H29: =SUM(D29+E29) -> 349 | I29: 29 | K29: 26 | L29: 26
B30: 43138 | D30: 258 | E30: 61 | H30: =SUM(D30+E30) -> 319 | I30: 29 | K30: 22 | L30: 22 | M30: 10 hovorov
B31: 43139 | D31: 248 | E31: 65 | H31: =SUM(D31+E31) -> 313 | I31: 28 | K31: 11 | L31: 11
B32: 43140 | D32: 237 | E32: 59 | H32: =SUM(D32+E32) -> 296 | I32: 30 | K32: 10 | L32: 10
B33: 43143 | D33: 235 | E33: 95 | H33: =SUM(D33+E33) -> 330 | I33: 33 | K33: 18 | L33: 18
B34: 43144 | D34: 268 | E34: 66 | H34: =SUM(D34+E34) -> 334 | I34: 26 | K34: 24 | L34: 24
B35: 43145 | D35: 213 | E35: 68 | H35: =SUM(D35+E35) -> 281 | I35: 26 | K35: 51 | L35: 0 | M35: 7 hovorov
B36: 43146 | D36: 179 | E36: 71 | H36: =SUM(D36+E36) -> 250 | I36: 23 | K36: 3 | L36: 3
B37: 43147 | D37: 203 | E37: 55 | H37: =SUM(D37+E37) -> 258 | I37: 24 | K37: 15 | L37: 15
B38: 43150 | D38: 247 | E38: 98 | H38: =SUM(D38+E38) -> 345 | I38: 27 | K38: 24 | L38: 24
B39: 43151 | D39: 289 | E39: 59 | H39: =SUM(D39+E39) -> 348 | I39: 29 | K39: 43 | L39: 43
B40: 43152 | D40: 246 | E40: 58 | H40: =SUM(D40+E40) -> 304 | I40: 25 | K40: 11 | L40: 11 | M40: 10 hovorov
...

Sheet 2019
A1: Rok 2019 | B1: Dátum | C1: Požiadavky externé (Hovory + Kontaktný formulár) | D1: Vybavené hovory | E1: Vybavené kontaktný formulár + edesk | F1: Požiadavky interné (NASES) | G1: Testovacie požiadavky (Globaltel + NASES KC | H1: Vybavené hovory + kontaktný formulár celkom | I1: Vybavené hovory + kontaktný formulár celkom operátor/deň | J1: Vybavené elektronické schránky | K1: Spadnuté hovory | L1: Volané späť | N1: Vysvetlivky
A2: Január | B2: 43466 | O2: štátny sviatok
B3: 43467 | D3: 195 | E3: 65 | H3: =SUM(D3+E3) -> 260 | I3: 22 | K3: 0 | L3: 0 | M3: 8 hovorov
B4: 43468 | D4: 178 | E4: 48 | H4: =SUM(D4+E4) -> 226 | I4: 17 | K4: 2 | L4: 2 | O4: pracovný týždeň
B5: 43469 | D5: 176 | E5: 31 | H5: =SUM(D5+E5) -> 207 | I5: 15 | K5: 1 | L5: 1
B6: 43472 | D6: 238 | E6: 112 | H6: =SUM(D6+E6) -> 350 | I6: 25 | K6: 6 | L6: 6
B7: 43473 | D7: 252 | E7: 72 | H7: =SUM(D7+E7) -> 324 | I7: 25 | K7: 4 | L7: 4
B8: 43474 | D8: 268 | E8: 71 | H8: =SUM(D8+E8) -> 339 | I8: 26 | K8: 0 | L8: 0 | M8: 9 hovorov
B9: 43475 | D9: 243 | E9: 65 | H9: =SUM(D9+E9) -> 308 | I9: 22 | K9: 15 | L9: 15
B10: 43476 | D10: 263 | E10: 67 | H10: =SUM(D10+E10) -> 330 | I10: 24 | K10: 5 | L10: 5
B11: 43479 | D11: 273 | E11: 126 | H11: =SUM(D11+E11) -> 399 | I11: 27 | K11: 14 | L11: 14
B12: 43480 | D12: 287 | E12: 103 | H12: =SUM(D12+E12) -> 390 | I12: 26 | K12: 5 | L12: 5
B13: 43481 | D13: 266 | E13: 84 | H13: =SUM(D13+E13) -> 350 | I13: 27 | K13: 3 | L13: 3 | M13: 15 hovorov
B14: 43482 | D14: 248 | E14: 112 | H14: =SUM(D14+E14) -> 360 | I14: 24 | K14: 3 | L14: 3
B15: 43483 | D15: 243 | E15: 96 | H15: =SUM(D15+E15) -> 339 | I15: 24 | K15: 12 | L15: 12
B16: 43486 | D16: 751 | E16: 193 | H16: =SUM(D16+E16) -> 944 | I16: 73 | K16: 49 | L16: 49
B17: 43487 | D17: 317 | E17: 91 | H17: =SUM(D17+E17) -> 408 | I17: 31 | K17: 5 | L17: 5
B18: 43488 | D18: 296 | E18: 81 | H18: =SUM(D18+E18) -> 377 | I18: 25 | K18: 3 | L18: 3 | M18: 15 hovorov
B19: 43489 | D19: 260 | E19: 74 | H19: =SUM(D19+E19) -> 334 | I19: 24 | K19: 8 | L19: 8
B20: 43490 | D20: 266 | E20: 63 | H20: =SUM(D20+E20) -> 329 | I20: 27 | K20: 3 | L20: 3
B21: 43493 | D21: 319 | E21: 128 | H21: =SUM(D21+E21) -> 447 | I21: 32 | K21: 27 | L21: 27
B22: 43494 | D22: 390 | E22: 132 | H22: =SUM(D22+E22) -> 522 | I22: 35 | K22: 38 | L22: 38
B23: 43495 | D23: 400 | E23: 131 | H23: =SUM(D23+E23) -> 531 | I23: 38 | K23: 8 | L23: 8 | M23: 20 hovorov
B24: 43496 | D24: 283 | E24: 92 | H24: =SUM(D24+E24) -> 375 | I24: 29 | K24: 5 | L24: 5 | O24: Január: 8449
A25: Február
B26: 43497 | D26: 188 | E26: 62 | H26: =SUM(D26+E26) -> 250 | I26: 19 | K26: 2 | L26: 2
B27: 43500 | D27: 218 | E27: 102 | H27: =SUM(D27+E27) -> 320 | I27: 25 | K27: 3 | L27: 3
B28: 43501 | D28: 233 | E28: 89 | H28: =SUM(D28+E28) -> 322 | I28: 25 | K28: 2 | L28: 2
B29: 43502 | D29: 210 | E29: 85 | H29: =SUM(D29+E29) -> 295 | I29: 23 | K29: 6 | L29: 6 | M29: 14 hovorov
B30: 43503 | D30: 217 | E30: 83 | H30: =SUM(D30+E30) -> 300 | I30: 25 | K30: 3 | L30: 3
B31: 43504 | D31: 205 | E31: 56 | H31: =SUM(D31+E31) -> 261 | I31: 20 | K31: 2 | L31: 2
B32: 43507 | D32: 204 | E32: 87 | H32: =SUM(D32+E32) -> 291 | I32: 24 | K32: 8 | L32: 8
B33: 43508 | D33: 223 | E33: 86 | H33: =SUM(D33+E33) -> 309 | I33: 26 | K33: 9 | L33: 9
B34: 43509 | D34: 223 | E34: 58 | H34: =SUM(D34+E34) -> 281 | I34: 20 | K34: 1 | L34: 1 | M34: 13 hovorov
B35: 43510 | D35: 176 | E35: 58 | H35: =SUM(D35+E35) -> 234 | I35: 17 | K35: 1 | L35: 1
B36: 43511 | D36: 163 | E36: 48 | H36: =SUM(D36+E36) -> 211 | I36: 16 | K36: 3 | L36: 3
B37: 43514 | D37: 314 | E37: 110 | H37: =SUM(D37+E37) -> 424 | I37: 30 | K37: 14 | L37: 14
B38: 43515 | D38: 261 | E38: 78 | H38: =SUM(D38+E38) -> 339 | I38: 26 | K38: 3 | L38: 2
B39: 43516 | D39: 279 | E39: 79 | H39: =SUM(D39+E39) -> 358 | I39: 21 | K39: 5 | L39: 5 | M39: 18 hovorov
B40: 43517 | D40: 251 | E40: 88 | H40: =SUM(D40+E40) -> 339 | I40: 26 | K40: 4 | L40: 4
...

Sheet 2020
A1: Rok 2020 | B1: Dátum | C1: Požiadavky externé (Hovory + Kontaktný formulár) | D1: Vybavené hovory | E1: Vybavené kontaktný formulár, email, eDesk | F1: Požiadavky interné (NASES) | G1: Testovacie požiadavky (Globaltel + NASES KC | H1: Vybavené hovory + kontaktný formulár, email, eDesk celkom | I1: Vybavené hovory + kontaktný formulár, email, eDesk celkom operátor/deň | J1: Vybavené elektronické schránky | K1: Spadnuté hovory | L1: Volané späť | N1: Vysvetlivky
A2: Január | B2: 43831 | O2: štátny sviatok
B3: 43832 | D3: 244 | E3: 74 | H3: =SUM(D3+E3) -> 318 | I3: 32 | K3: 5 | L3: 5
B4: 43833 | D4: 133 | E4: 55 | H4: =SUM(D4+E4) -> 188 | I4: 19 | K4: 2 | L4: 2 | O4: pracovný týždeň
B5: 43836
B6: 43837 | D6: 192 | E6: 115 | H6: =SUM(D6+E6) -> 307 | I6: 26 | K6: 0 | L6: 0
B7: 43838 | D7: 202 | E7: 113 | H7: =SUM(D7+E7) -> 315 | I7: 22 | K7: 8 | L7: 8 | M7: 12 hovorov | P7: január | Q7: 4470
B8: 43839 | D8: 208 | E8: 97 | H8: =SUM(D8+E8) -> 305 | I8: 23 | K8: 1 | L8: 1 | P8: február | Q8: 3657
B9: 43840 | D9: 188 | E9: 85 | H9: =SUM(D9+E9) -> 273 | I9: 21 | K9: 1 | L9: 1 | P9: marec | Q9: 6109
B10: 43843 | D10: 236 | E10: 152 | H10: =SUM(D10+E10) -> 388 | I10: 30 | K10: 5 | L10: 5 | P10: apríl | Q10: 4961
B11: 43844 | D11: 219 | E11: 111 | H11: =SUM(D11+E11) -> 330 | I11: 22 | K11: 1 | L11: 1 | P11: máj | Q11: 4998
B12: 43845 | D12: 235 | E12: 97 | H12: =SUM(D12+E12) -> 332 | I12: 26 | K12: 0 | L12: 0 | M12: 11 hovorov | P12: jún | Q12: 5677
B13: 43846 | D13: 170 | E13: 78 | H13: =SUM(D13+E13) -> 248 | I13: 21 | K13: 1 | L13: 1 | P13: júl | Q13: 8108
B14: 43847 | D14: 199 | E14: 62 | H14: =SUM(D14+E14) -> 261 | I14: 24 | K14: 1 | L14: 1 | P14: august | Q14: 7358
B15: 43850 | D15: 203 | E15: 113 | H15: =SUM(D15+E15) -> 316 | I15: 24 | K15: 5 | L15: 5 | P15: september | Q15: 5429
B16: 43851 | D16: 216 | E16: 120 | H16: =SUM(D16+E16) -> 336 | I16: 26 | K16: 2 | L16: 2 | P16: október | Q16: 6806
B17: 43852 | D17: 186 | E17: 61 | H17: =SUM(D17+E17) -> 247 | I17: 21 | K17: 1 | L17: 1 | M17: 11 hovorov | P17: november | Q17: 8534
B18: 43853 | D18: 227 | E18: 71 | H18: =SUM(D18+E18) -> 298 | I18: 21 | K18: 1 | L18: 1 | P18: december | Q18: 6850
B19: 43854 | D19: 177 | E19: 78 | H19: =SUM(D19+E19) -> 255 | I19: 23 | K19: 2 | L19: 2
B20: 43857 | D20: 261 | E20: 118 | H20: =SUM(D20+E20) -> 379 | I20: 32 | K20: 1 | L20: 1
B21: 43858 | D21: 249 | E21: 101 | H21: =SUM(D21+E21) -> 350 | I21: 27 | K21: 6 | L21: 6
B22: 43859 | D22: 314 | E22: 157 | H22: =SUM(D22+E22) -> 471 | I22: 36 | K22: 7 | L22: 7 | M22: 14 hovorov
B23: 43860 | D23: 216 | E23: 136 | H23: =SUM(D23+E23) -> 352 | I23: 32 | K23: 7 | L23: 7
B24: 43861 | D24: 195 | E24: 76 | H24: =SUM(D24+E24) -> 271 | I24: 23 | K24: 0 | L24: 0 | O24: Január: 6540
A25: Február
B26: 43864 | D26: 179 | E26: 98 | H26: =SUM(D26+E26) -> 277 | I26: 25 | K26: 6 | L26: 6
B27: 43865 | D27: 177 | E27: 74 | H27: =SUM(D27+E27) -> 251 | I27: 19 | K27: 3 | L27: 3
B28: 43866 | D28: 221 | E28: 63 | H28: =SUM(D28+E28) -> 284 | I28: 22 | K28: 2 | L28: 2 | M28: 10 hovorov
B29: 43867 | D29: 178 | E29: 88 | H29: =SUM(D29+E29) -> 266 | I29: 19 | K29: 2 | L29: 2
B30: 43868 | D30: 148 | E30: 61 | H30: =SUM(D30+E30) -> 209 | I30: 16 | K30: 2 | L30: 2
B31: 43871 | D31: 213 | E31: 90 | H31: =SUM(D31+E31) -> 303 | I31: 28 | K31: 2 | L31: 2
B32: 43872 | D32: 182 | E32: 72 | H32: =SUM(D32+E32) -> 254 | I32: 18 | K32: 2 | L32: 2
B33: 43873 | D33: 202 | E33: 80 | H33: =SUM(D33+E33) -> 282 | I33: 22 | K33: 9 | L33: 9 | M33: 9 hovorov
B34: 43874 | D34: 225 | E34: 81 | H34: =SUM(D34+E34) -> 306 | I34: 26 | K34: 6 | L34: 6
B35: 43875 | D35: 168 | E35: 53 | H35: =SUM(D35+E35) -> 221 | I35: 18 | K35: 1 | L35: 1
B36: 43878 | D36: 182 | E36: 79 | H36: =SUM(D36+E36) -> 261 | I36: 20 | K36: 2 | L36: 2
B37: 43879 | D37: 183 | E37: 71 | H37: =SUM(D37+E37) -> 254 | I37: 18 | K37: 1 | L37: 1
B38: 43880 | D38: 182 | E38: 76 | H38: =SUM(D38+E38) -> 258 | I38: 22 | K38: 4 | L38: 4 | M38: 13 hovorov
B39: 43881 | D39: 181 | E39: 43 | H39: =SUM(D39+E39) -> 224 | I39: 16 | K39: 6 | L39: 6
B40: 43882 | D40: 151 | E40: 11 | H40: =SUM(D40+E40) -> 162 | I40: 12 | K40: 1 | L40: 1
...

Sheet 2021
A1: Rok 2021 | B1: Dátum | C1: Požiadavky externé (Hovory + Kontaktný formulár) | D1: Vybavené hovory | E1: Vybavené kontaktný formulár, email, eDesk | F1: Požiadavky interné (NASES) | G1: Testovacie požiadavky (Globaltel + NASES KC | H1: Vybavené hovory + kontaktný formulár, email, eDesk celkom | I1: Vybavené hovory + kontaktný formulár, email, eDesk celkom operátor/deň | J1: Vybavené elektronické schránky | K1: Spadnuté hovory | L1: Volané späť | N1: Vysvetlivky
A2: Január | B2: 44197 | O2: štátny sviatok
B3: 44200 | D3: 463 | E3: 177 | H3: =SUM(D3+E3) -> 640 | I3: 58 | K3: 22 | L3: 22
B4: 44201 | D4: 270 | E4: 99 | H4: =SUM(D4+E4) -> 369 | I4: 34 | K4: 2 | L4: 2
B5: 44202
B6: 44203 | D6: 331 | E6: 119 | H6: =SUM(D6+E6) -> 450 | I6: 38 | K6: 7 | L6: 7 | P6: január | Q6: 7884
B7: 44204 | D7: 292 | E7: 71 | H7: =SUM(D7+E7) -> 363 | I7: 30 | K7: 16 | L7: 16 | P7: február | Q7: 7706
B8: 44207 | D8: 410 | E8: 120 | H8: =SUM(D8+E8) -> 530 | I8: 38 | K8: 9 | L8: 9 | P8: marec | Q8: 9539
B9: 44208 | D9: 387 | E9: 85 | H9: =SUM(D9+E9) -> 472 | I9: 36 | K9: 8 | L9: 8 | P9: apríl | Q9: 5753
B10: 44209 | D10: 382 | E10: 87 | H10: =SUM(D10+E10) -> 469 | I10: 36 | K10: 7 | L10: 7 | M10: 12 hovorov | P10: máj | Q10: 5064
B11: 44210 | D11: 346 | E11: 104 | H11: =SUM(D11+E11) -> 450 | I11: 35 | K11: 11 | L11: 11 | P11: jún | Q11: 5750
B12: 44211 | D12: 348 | E12: 77 | H12: =SUM(D12+E12) -> 425 | I12: 33 | K12: 5 | L12: 5 | P12: júl | Q12: 5626
B13: 44214 | D13: 422 | E13: 123 | H13: =SUM(D13+E13) -> 545 | I13: 45 | K13: 4 | L13: 4 | P13: august | Q13: 3735
B14: 44215 | D14: 348 | E14: 92 | H14: =SUM(D14+E14) -> 440 | I14: 34 | K14: 10 | L14: 10 | P14: september | Q14: 3457
B15: 44216 | D15: 392 | E15: 93 | H15: =SUM(D15+E15) -> 485 | I15: 37 | K15: 12 | L15: 12 | M15: 23 hovorov | P15: október | Q15: 4758
B16: 44217 | D16: 527 | E16: 143 | H16: =SUM(D16+E16) -> 670 | I16: 52 | K16: 10 | L16: 10 | P16: november | Q16: 5160
B17: 44218 | D17: 329 | E17: 98 | H17: =SUM(D17+E17) -> 427 | I17: 33 | K17: 4 | L17: 4 | P17: december | Q17: 4122
B18: 44221 | D18: 545 | E18: 165 | H18: =SUM(D18+E18) -> 710 | I18: 59 | K18: 23 | L18: 23
B19: 44222 | D19: 496 | E19: 124 | H19: =SUM(D19+E19) -> 620 | I19: 48 | K19: 30 | L19: 30
B20: 44223 | D20: 543 | E20: 123 | H20: =SUM(D20+E20) -> 666 | I20: 51 | K20: 83 | L20: 83 | M20: 31 hovorov
B21: 44224 | D21: 549 | E21: 111 | H21: =SUM(D21+E21) -> 660 | I21: 47 | K21: 8 | L21: 8
B22: 44225 | D22: 504 | E22: 72 | H22: =SUM(D22+E22) -> 576 | I22: 48 | K22: 10 | L22: 10
A23: Február | B23: 44228 | D23: 414 | E23: 183 | H23: =SUM(D23+E23) -> 597 | I23: 54 | K23: 19 | L23: 19
B24: 44229 | D24: 341 | E24: 148 | H24: =SUM(D24+E24) -> 489 | I24: 41 | K24: 4 | L24: 4
B25: 44230 | D25: 406 | E25: 76 | H25: =SUM(D25+E25) -> 482 | I25: 40 | K25: 28 | L25: 28 | M25: 16 hovorov
B26: 44231 | D26: 313 | E26: 77 | H26: =SUM(D26+E26) -> 390 | I26: 30 | K26: 4 | L26: 4
B27: 44232 | D27: 283 | E27: 93 | H27: =SUM(D27+E27) -> 376 | I27: 31 | K27: 6 | L27: 6
B28: 44235 | D28: 388 | E28: 145 | H28: =SUM(D28+E28) -> 533 | I28: 48 | K28: 18 | L28: 18
B29: 44236 | D29: 418 | E29: 94 | H29: =SUM(D29+E29) -> 512 | I29: 37 | K29: 25 | L29: 25
B30: 44237 | D30: 482 | E30: 149 | H30: =SUM(D30+E30) -> 631 | I30: 49 | K30: 21 | L30: 21 | M30: 29 hovorov
B31: 44238 | D31: 353 | E31: 99 | H31: =SUM(D31+E31) -> 452 | I31: 38 | K31: 18 | L31: 18
B32: 44239 | D32: 360 | E32: 60 | H32: =SUM(D32+E32) -> 420 | I32: 35 | K32: 7 | L32: 7
B33: 44242 | D33: 427 | E33: 116 | H33: =SUM(D33+E33) -> 543 | I33: 45 | K33: 53 | L33: 53
B34: 44243 | D34: 465 | E34: 105 | H34: =SUM(D34+E34) -> 570 | I34: 48 | K34: 61 | L34: 61
B35: 44244 | D35: 409 | E35: 85 | H35: =SUM(D35+E35) -> 494 | I35: 41 | K35: 58 | L35: 58 | M35: 16 hovorov
B36: 44245 | D36: 366 | E36: 72 | H36: =SUM(D36+E36) -> 438 | I36: 37 | K36: 28 | L36: 28
B37: 44246 | D37: 299 | E37: 91 | H37: =SUM(D37+E37) -> 390 | I37: 33 | K37: 13 | L37: 13
B38: 44249 | D38: 460 | E38: 111 | H38: =SUM(D38+E38) -> 571 | I38: 48 | K38: 36 | L38: 36
B39: 44250 | D39: 406 | E39: 79 | H39: =SUM(D39+E39) -> 485 | I39: 40 | K39: 36 | L39: 36
B40: 44251 | D40: 399 | E40: 90 | H40: =SUM(D40+E40) -> 489 | I40: 41 | K40: 29 | L40: 29 | M40: 18 hovorov
...

Sheet 2022
A1: Rok 2022 | B1: Dátum | C1: Požiadavky externé (Hovory + Kontaktný formulár) | D1: Vybavené hovory | E1: Vybavené kontaktný formulár, email, eDesk | F1: Požiadavky interné (NASES) | G1: Testovacie požiadavky (Globaltel + NASES KC | H1: Vybavené hovory + kontaktný formulár, email, eDesk celkom | I1: Vybavené hovory + kontaktný formulár, email, eDesk celkom operátor/deň | J1: Spadnuté hovory | K1: Volané späť | M1: Vysvetlivky
A2: Január | B2: 44564 | D2: 237 | E2: 116 | H2: =SUM(D2+E2) -> 353 | I2: 32 | J2: 1 | K2: 1 | N2: štátny sviatok
B3: 44565 | D3: 248 | E3: 89 | H3: =SUM(D3+E3) -> 337 | I3: 28 | J3: 4 | K3: 4
B4: 44566 | D4: 241 | E4: 56 | H4: =SUM(D4+E4) -> 297 | I4: 30 | J4: 12 | K4: 12
B5: 44567
B6: 44568 | D6: 213 | E6: 110 | H6: =SUM(D6+E6) -> 323 | I6: 29 | J6: 5 | K6: 5 | O6: január | P6: 5352
B7: 44571 | D7: 259 | E7: 127 | H7: =SUM(D7+E7) -> 386 | I7: 35 | J7: 1 | K7: 1 | O7: február | P7: 5305
B8: 44572 | D8: 238 | E8: 76 | H8: =SUM(D8+E8) -> 314 | I8: 29 | J8: 3 | K8: 3 | O8: marec | P8: 6070
B9: 44573 | D9: 305 | E9: 85 | H9: =SUM(D9+E9) -> 390 | I9: 33 | J9: 6 | K9: 6 | O9: apríl | P9: 4499
B10: 44574 | D10: 259 | E10: 78 | H10: =SUM(D10+E10) -> 337 | I10: 28 | J10: 3 | K10: 3 | O10: máj | P10: 4598
B11: 44575 | D11: 199 | E11: 70 | H11: =SUM(D11+E11) -> 269 | I11: 22 | J11: 1 | K11: 1 | O11: jún | P11: 4595
B12: 44578 | D12: 304 | E12: 211 | H12: =SUM(D12+E12) -> 515 | I12: 52 | J12: 3 | K12: 3 | O12: júl | P12: 4590
B13: 44579 | D13: 293 | E13: 122 | H13: =SUM(D13+E13) -> 415 | I13: 35 | J13: 3 | K13: 3 | O13: august | P13: 4112
B14: 44580 | D14: 345 | E14: 91 | H14: =SUM(D14+E14) -> 436 | I14: 40 | J14: 9 | K14: 9 | O14: september | P14: 5765
B15: 44581 | D15: 298 | E15: 88 | H15: =SUM(D15+E15) -> 386 | I15: 32 | J15: 3 | K15: 3 | O15: október | P15: 4347
B16: 44582 | D16: 216 | E16: 67 | H16: =SUM(D16+E16) -> 283 | I16: 28 | J16: 4 | K16: 4 | O16: november | P16: 4188
B17: 44585 | D17: 226 | E17: 149 | H17: =SUM(D17+E17) -> 375 | I17: 34 | J17: 1 | K17: 1 | O17: december | P17: 5183
B18: 44586 | D18: 260 | E18: 77 | H18: =SUM(D18+E18) -> 337 | I18: 31 | J18: 2 | K18: 2
B19: 44587 | D19: 309 | E19: 77 | H19: =SUM(D19+E19) -> 386 | I19: 32 | J19: 17 | K19: 17
B20: 44588 | D20: 279 | E20: 81 | H20: =SUM(D20+E20) -> 360 | I20: 35 | J20: 2 | K20: 2
B21: 44589 | D21: 283 | E21: 63 | H21: =SUM(D21+E21) -> 346 | I21: 35 | J21: 3 | K21: 3
B22: 44592 | D22: 340 | E22: 127 | H22: =SUM(D22+E22) -> 467 | I22: 39 | J22: 13 | K22: 13
A23: Február | B23: 44593 | D23: 237 | E23: 83 | H23: =SUM(D23+E23) -> 320 | I23: 27 | J23: 2 | K23: 2
B24: 44594 | D24: 276 | E24: 98 | H24: =SUM(D24+E24) -> 374 | I24: 34 | J24: 25 | K24: 25
B25: 44595 | D25: 269 | E25: 75 | H25: =SUM(D25+E25) -> 344 | I25: 31 | J25: 8 | K25: 8
B26: 44596 | D26: 276 | E26: 84 | H26: =SUM(D26+E26) -> 360 | I26: 40 | J26: 6 | K26: 6
B27: 44599 | D27: 322 | E27: 173 | H27: =SUM(D27+E27) -> 495 | I27: 45 | J27: 8 | K27: 8
B28: 44600 | D28: 301 | E28: 78 | H28: =SUM(D28+E28) -> 379 | I28: 42 | J28: 8 | K28: 8
B29: 44601 | D29: 281 | E29: 80 | H29: =SUM(D29+E29) -> 361 | I29: 32 | J29: 2 | K29: 2
B30: 44602 | D30: 266 | E30: 85 | H30: =SUM(D30+E30) -> 351 | I30: 35 | J30: 4 | K30: 4
B31: 44603 | D31: 228 | E31: 69 | H31: =SUM(D31+E31) -> 297 | I31: 37 | J31: 2 | K31: 2
B32: 44606 | D32: 247 | E32: 69 | H32: =SUM(D32+E32) -> 316 | I32: 40 | J32: 5 | K32: 5
B33: 44607 | D33: 258 | E33: 66 | H33: =SUM(D33+E33) -> 324 | I33: 41 | J33: 9 | K33: 9
B34: 44608 | D34: 299 | E34: 68 | H34: =SUM(D34+E34) -> 367 | I34: 46 | J34: 27 | K34: 27
B35: 44609 | D35: 239 | E35: 56 | H35: =SUM(D35+E35) -> 295 | I35: 27 | J35: 2 | K35: 2
... B42: 44620 | D42: 291 | E42: 93 | H42: =SUM(D42+E42) -> 384 | I42: 43 | J42: 8 | K42: 8
A43: Marec | B43: 44621 | D43: 234 | E43: 51 | H43: =SUM(D43+E43) -> 285 | I43: 29 | J43: 2 | K43: 2
B44: 44622 | D44: 239 | E44: 59 | H44: =SUM(D44+E44) -> 298 | I44: 27 | J44: 8 | K44: 8
B45: 44623 | D45: 249 | E45: 66 | H45: =SUM(D45+E45) -> 315 | I45: 39 | J45: 2 | K45: 2
B46: 44624 | D46: 177 | E46: 55 | H46: =SUM(D46+E46) -> 232 | I46: 23 | J46: 0 | K46: 0
...

Sheet 2023
A1: Rok 2023 | B1: Dátum | C1: Požiadavky externé (Hovory + Kontaktný formulár) | D1: Vybavené hovory | E1: Vybavené kontaktný formulár, email, eDesk | F1: Požiadavky interné (NASES) | G1: Testovacie požiadavky (Globaltel + NASES KC | H1: Vybavené hovory + kontaktný formulár, email, eDesk celkom | I1: Vybavené hovory + kontaktný formulár, email, eDesk celkom operátor/deň | J1: Spadnuté hovory | K1: Volané späť | M1: Vysvetlivky
A2: Január | B2: 44928 | D2: 300 | E2: 73 | H2: =SUM(D2+E2) -> 373 | I2: 29 | J2: 6 | K2: 6 | N2: štátny sviatok
B3: 44929 | D3: 254 | E3: 51 | H3: =SUM(D3+E3) -> 305 | I3: 23 | J3: 1 | K3: 1
B4: 44930 | D4: 259 | E4: 51 | H4: =SUM(D4+E4) -> 310 | I4: 24 | J4: 2 | K4: 2
B5: 44931 | D5: 259 | E5: 66 | H5: =SUM(D5+E5) -> 325 | I5: 27 | J5: 14 | K5: 14
B6: 44932
B7: 44935 | D7: 330 | E7: 84 | H7: =SUM(D7+E7) -> 414 | I7: 32 | J7: 6 | K7: 6
B8: 44936 | D8: 328 | E8: 71 | H8: =SUM(D8+E8) -> 399 | I8: 29 | J8: 5 | K8: 5
B9: 44937 | D9: 328 | E9: 63 | H9: =SUM(D9+E9) -> 391 | I9: 24 | J9: 5 | K9: 5
B10: 44938 | D10: 324 | E10: 65 | H10: =SUM(D10+E10) -> 389 | I10: 26 | J10: 4 | K10: 4
B11: 44939 | D11: 217 | E11: 36 | H11: =SUM(D11+E11) -> 253 | I11: 18 | J11: 1 | K11: 1
B12: 44942 | D12: 306 | E12: 77 | H12: =SUM(D12+E12) -> 383 | I12: 29 | J12: 10 | K12: 10
B13: 44943 | D13: 288 | E13: 63 | H13: =SUM(D13+E13) -> 351 | I13: 25 | J13: 1 | K13: 1
B14: 44944 | D14: 345 | E14: 67 | H14: =SUM(D14+E14) -> 412 | I14: 27 | J14: 17 | K14: 17
B15: 44945 | D15: 317 | E15: 64 | H15: =SUM(D15+E15) -> 381 | I15: 25 | J15: 6 | K15: 6
B16: 44946 | D16: 229 | E16: 57 | H16: =SUM(D16+E16) -> 286 | I16: 20 | J16: 0 | K16: 0
B17: 44949 | D17: 380 | E17: 104 | H17: =SUM(D17+E17) -> 484 | I17: 35 | J17: 10 | K17: 10
B18: 44950 | D18: 366 | E18: 66 | H18: =SUM(D18+E18) -> 432 | I18: 29 | J18: 1 | K18: 1
... B23: 44957 | D23: 394 | E23: 85 | H23: =SUM(D23+E23) -> 479 | I23: 34 | J23: 3 | K23: 3
A24: Február | B24: 44958 | D24: 321 | E24: 76 | H24: =SUM(D24+E24) -> 397 | I24: 31 | J24: 2 | K24: 2
B25: 44959 | D25: 289 | E25: 67 | H25: =SUM(D25+E25) -> 356 | I25: 24 | J25: 5 | K25: 5
B26: 44960 | D26: 242 | E26: 61 | H26: =SUM(D26+E26) -> 303 | I26: 23 | J26: 2 | K26: 2
B27: 44963 | D27: 261 | E27: 87 | H27: =SUM(D27+E27) -> 348 | I27: 25 | J27: 2 | K27: 2
B28: 44964 | D28: 256 | E28: 66 | H28: =SUM(D28+E28) -> 322 | I28: 27 | J28: 2 | K28: 2
B29: 44965 | D29: 265 | E29: 46 | H29: =SUM(D29+E29) -> 311 | I29: 22 | J29: 4 | K29: 4
B30: 44966 | D30: 217 | E30: 60 | H30: =SUM(D30+E30) -> 277 | I30: 20 | J30: 3 | K30: 3
B31: 44967 | D31: 209 | E31: 52 | H31: =SUM(D31+E31) -> 261 | I31: 20 | J31: 3 | K31: 3
B32: 44970 | D32: 230 | E32: 94 | H32: =SUM(D32+E32) -> 324 | I32: 27 | J32: 7 | K32: 7
B33: 44971 | D33: 190 | E33: 73 | H33: =SUM(D33+E33) -> 263 | I33: 20 | J33: 2 | K33: 2
B34: 44972 | D34: 233 | E34: 70 | H34: =SUM(D34+E34) -> 303 | I34: 25 | J34: 4 | K34: 4
B35: 44973 | D35: 208 | E35: 57 | H35: =SUM(D35+E35) -> 265 | I35: 19 | J35: 2 | K35: 2
B36: 44974 | D36: 210 | E36: 63 | H36: =SUM(D36+E36) -> 273 | I36: 20 | J36: 2 | K36: 2
... B43: 44985 | D43: 300 | E43: 91 | H43: =SUM(D43+E43) -> 391 | I43: 28 | J43: 0 | K43: 0
A44: Marec | B44: 44986 | D44: 271 | E44: 53 | H44: =SUM(D44+E44) -> 324 | I44: 23 | J44: 5 | K44: 5
B45: 44987 | D45: 261 | E45: 70 | H45: =SUM(D45+E45) -> 331 | I45: 24 | J45: 3 | K45: 3
B46: 44988 | D46: 192 | E46: 48 | H46: =SUM(D46+E46) -> 240 | I46: 18 | J46: 0 | K46: 0
B47: 44991 | D47: 292 | E47: 97 | H47: =SUM(D47+E47) -> 389 | I47: 28 | J47: 4 | K47: 4
B48: 44992 | D48: 238 | E48: 84 | H48: =SUM(D48+E48) -> 322 | I48: 23 | J48: 1 | K48: 1
B49: 44993 | D49: 255 | E49: 58 | H49: =SUM(D49+E49) -> 313 | I49: 22 | J49: 3 | K49: 3
B50: 44994 | D50: 229 | E50: 61 | H50: =SUM(D50+E50) -> 290 | I50: 19 | J50: 4 | K50: 4
...

Sheet 2024
A1: Rok 2024 | B1: Dátum | C1: Vybavené hovory | D1: Vybavené kontaktný formulár, email, eDesk | E1: Testovacie požiadavky (Globaltel + NASES KC | F1: Vybavené hovory + kontaktný formulár, email, eDesk celkom | G1: Vybavené hovory + kontaktný formulár, email, eDesk celkom operátor/deň | H1: Spadnuté hovory | I1: Volané späť | J1: Vysvetlivky | K1: Vysvetlivky
A2: Január | B2: 45292 | L2: štátny sviatok
B3: 45293 | C3: 150 | D3: 36 | F3: =SUM(C3+D3) -> 186 | G3: 17 | H3: 1 | I3: 1
B4: 45294 | C4: 180 | D4: 51 | F4: =SUM(C4+D4) -> 231 | G4: 19 | H4: 0 | I4: 0
B5: 45295 | C5: 156 | D5: 48 | F5: =SUM(C5+D5) -> 204 | G5: 17 | H5: 2 | I5: 2
B6: 45296 | C6: 155 | D6: 42 | F6: =SUM(C6+D6) -> 197 | G6: 16 | H6: 0 | I6: 0
B7: 45299 | C7: 206 | D7: 102 | F7: =SUM(C7+D7) -> 308 | G7: 28 | H7: 19 | I7: 19
B8: 45300 | C8: 238 | D8: 62 | F8: =SUM(C8+D8) -> 300 | G8: 25 | H8: 0 | I8: 0
B9: 45301 | C9: 214 | D9: 58 | F9: =SUM(C9+D9) -> 272 | G9: 23 | H9: 2 | I9: 2
B10: 45302 | C10: 182 | D10: 53 | F10: =SUM(C10+D10) -> 235 | G10: 18 | H10: 1 | I10: 1
B11: 45303 | C11: 195 | D11: 54 | F11: =SUM(C11+D11) -> 249 | G11: 25 | H11: 0 | I11: 0
B12: 45306 | C12: 262 | D12: 84 | F12: =SUM(C12+D12) -> 346 | G12: 31 | H12: 2 | I12: 2
B13: 45307 | C13: 196 | D13: 55 | F13: =SUM(C13+D13) -> 251 | G13: 21 | H13: 4 | I13: 4
B14: 45308 | C14: 213 | D14: 61 | F14: =SUM(C14+D14) -> 274 | G14: 20 | H14: 5 | I14: 5
... B24: 45322 | C24: 267 | D24: 48 | F24: =SUM(C24+D24) -> 315 | G24: 26 | H24: 5 | I24: 5
A25: Február | B25: 45323 | C25: 216 | D25: 45 | F25: =SUM(C25+D25) -> 261 | G25: 19 | H25: 2 | I25: 2
B26: 45324 | C26: 166 | D26: 44 | F26: =SUM(C26+D26) -> 210 | G26: 18 | H26: 0 | I26: 0
B27: 45327 | C27: 219 | D27: 84 | F27: =SUM(C27+D27) -> 303 | G27: 25 | H27: 7 | I27: 7
B28: 45328 | C28: 204 | D28: 49 | F28: =SUM(C28+D28) -> 253 | G28: 23 | H28: 2 | I28: 2
B29: 45329 | C29: 212 | D29: 47 | F29: =SUM(C29+D29) -> 259 | G29: 20 | H29: 6 | I29: 6
B30: 45330 | C30: 221 | D30: 58 | F30: =SUM(C30+D30) -> 279 | G30: 20 | H30: 0 | I30: 0
B31: 45331 | C31: 178 | D31: 47 | F31: =SUM(C31+D31) -> 225 | G31: 20 | H31: 1 | I31: 1
B32: 45334 | C32: 226 | D32: 74 | F32: =SUM(C32+D32) -> 300 | G32: 27 | H32: 4 | I32: 4
B33: 45335 | C33: 190 | D33: 61 | F33: =SUM(C33+D33) -> 251 | G33: 23 | H33: 3 | I33: 3
B34: 45336 | C34: 199 | D34: 62 | F34: =SUM(C34+D34) -> 261 | G34: 26 | H34: 1 | I34: 1
B35: 45337 | C35: 200 | D35: 56 | F35: =SUM(C35+D35) -> 256 | G35: 26 | H35: 2 | I35: 2
B36: 45338 | C36: 149 | D36: 69 | F36: =SUM(C36+D36) -> 218 | G36: 31 | H36: 1 | I36: 1
B37: 45341 | C37: 224 | D37: 64 | F37: =SUM(C37+D37) -> 288 | G37: 32 | H37: 2 | I37: 2
... B45: 45351 | C45: 269 | D45: 51 | F45: =SUM(C45+D45) -> 320 | G45: 25 | H45: 1 | I45: 1
A46: Marec | B46: 45352 | C46: 214 | D46: 59 | F46: =SUM(C46+D46) -> 273 | G46: 27 | H46: 1 | I46: 1
B47: 45355 | C47: 276 | D47: 108 | F47: =SUM(C47+D47) -> 384 | G47: 35 | H47: 0 | I47: 0
B48: 45356 | C48: 243 | D48: 62 | F48: =SUM(C48+D48) -> 305 | G48: 28 | H48: 6 | I48: 6
B49: 45357 | C49: 197 | D49: 53 | F49: =SUM(C49+D49) -> 250 | G49: 25 | H49: 2 | I49: 2
B50: 45358 | C50: 220 | D50: 57 | F50: =SUM(C50+D50) -> 277 | G50: 25 | H50: 6 | I50: 6
B51: 45359 | C51: 152 | D51: 40 | F51: =SUM(C51+D51) -> 192 | G51: 21 | H51: 0 | I51: 0
B52: 45362 | C52: 347 | D52: 183 | F52: =SUM(C52+D52) -> 530 | G52: 44 | H52: 3 | I52: 3
B53: 45363 | C53: 261 | D53: 79 | F53: =SUM(C53+D53) -> 340 | G53: 34 | H53: 7 | I53: 7
B54: 45364 | C54: 238 | D54: 46 | F54: =SUM(C54+D54) -> 284 | G54: 22 | H54: 2 | I54: 2
B55: 45365 | C55: 240 | D55: 75 | F55: =SUM(C55+D55) -> 315 | G55: 26 | H55: 1 | I55: 1
B56: 45366 | C56: 242 | D56: 50 | F56: =SUM(C56+D56) -> 292 | G56: 27 | H56: 0 | I56: 0
...

Sheet 2025
A1: Rok 2025 | B1: Dátum | C1: Vybavené hovory | D1: Vybavené kontaktný formulár, email, eDesk | E1: Vybavené hovory + kontaktný formulár, email, eDesk celkom | F1: Vybavené hovory + kontaktný formulár, email, eDesk celkom operátor/deň | G1: Spadnuté hovory | H1: Volané späť | I1: Vysvetlivky | J1: Vysvetlivky
A2: Január | B2: 45658 | K2: štátny sviatok
B3: 45659 | C3: 110 | D3: 29 | E3: =SUM(C3+D3) -> 139 | F3: 15 | G3: 2 | H3: 2
B4: 45660 | C4: 108 | D4: 40 | E4: =SUM(C4+D4) -> 148 | F4: 16 | G4: 1 | H4: 1
B5: 45663
B6: 45664 | C6: 199 | D6: 96 | E6: =SUM(C6+D6) -> 295 | F6: 49 | G6: 1 | H6: 1
B7: 45665 | C7: 186 | D7: 60 | E7: =SUM(C7+D7) -> 246 | F7: 31 | G7: 9 | H7: 9
B8: 45666 | C8: 162 | D8: 58 | E8: =SUM(C8+D8) -> 220 | F8: 28 | G8: 3 | H8: 3
B9: 45667 | C9: 196 | D9: 52 | E9: =SUM(C9+D9) -> 248 | F9: 31 | G9: 0 | H9: 0
B10: 45670 | C10: 195 | D10: 84 | E10: =SUM(C10+D10) -> 279 | F10: 31 | G10: 3 | H10: 3
B11: 45671 | C11: 184 | D11: 57 | E11: =SUM(C11+D11) -> 241 | F11: 27 | G11: 2 | H11: 2
B12: 45672 | C12: 185 | D12: 52 | E12: =SUM(C12+D12) -> 237 | F12: 26 | G12: 6 | H12: 6
B13: 45673 | C13: 189 | D13: 56 | E13: =SUM(C13+D13) -> 245 | F13: 27 | G13: 3 | H13: 3
B14: 45674 | C14: 165 | D14: 116 | E14: =SUM(C14+D14) -> 281 | F14: 31 | G14: 0 | H14: 0
B15: 45677 | C15: 162 | D15: 128 | E15: =SUM(C15+D15) -> 290 | F15: 29 | G15: 1 | H15: 1
B16: 45678 | C16: 209 | D16: 79 | E16: =SUM(C16+D16) -> 288 | F16: 26 | G16: 2 | H16: 2
B17: 45679 | C17: 169 | D17: 74 | E17: =SUM(C17+D17) -> 243 | F17: 22 | G17: 1 | H17: 1
... B24: 45688 | C24: 192 | D24: 85 | E24: =SUM(C24+D24) -> 277 | F24: 28 | G24: 7 | H24: 7
A25: Február | B25: 45691 | C25: 218 | D25: 72 | E25: =SUM(C25+D25) -> 290 | F25: 32 | G25: 0 | H25: 0
B26: 45692 | C26: 191 | D26: 54 | E26: =SUM(C26+D26) -> 245 | F26: 25 | G26: 3 | H26: 3
B27: 45693 | C27: 193 | D27: 66 | E27: =SUM(C27+D27) -> 259 | F27: 29 | G27: 2 | H27: 2
B28: 45694 | C28: 185 | D28: 80 | E28: =SUM(C28+D28) -> 265 | F28: 27 | G28: 2 | H28: 2
B29: 45695 | C29: 172 | D29: 40 | E29: =SUM(C29+D29) -> 212 | F29: 21 | G29: 3 | H29: 3
B30: 45698 | C30: 215 | D30: 65 | E30: =SUM(C30+D30) -> 280 | F30: 31 | G30: 1 | H30: 1
B31: 45699 | C31: 156 | D31: 59 | E31: =SUM(C31+D31) -> 215 | F31: 27 | G31: 3 | H31: 3
B32: 45700 | C32: 185 | D32: 40 | E32: =SUM(C32+D32) -> 225 | F32: 28 | G32: 0 | H32: 0
B33: 45701 | C33: 229 | D33: 45 | E33: =SUM(C33+D33) -> 274 | F33: 30 | G33: 2 | H33: 2
B34: 45702 | C34: 155 | D34: 38 | E34: =SUM(C34+D34) -> 193 | F34: 21 | G34: 2 | H34: 2
B35: 45705 | C35: 212 | D35: 90 | E35: =SUM(C35+D35) -> 302 | F35: 38 | G35: 5 | H35: 5
B36: 45706 | C36: 216 | D36: 57 | E36: =SUM(C36+D36) -> 273 | F36: 27 | G36: 6 | H36: 6
B37: 45707 | C37: 210 | D37: 114 | E37: =SUM(C37+D37) -> 324 | F37: 36 | G37: 1 | H37: 1
... B44: 45716 | C44: 205 | D44: 175 | E44: =SUM(C44+D44) -> 380 | F44: 38 | G44: 4 | H44: 4
A45: Marec | B45: 45719 | C45: 230 | D45: 133 | E45: =SUM(C45+D45) -> 363 | F45: 36 | G45: 1 | H45: 1
B46: 45720 | C46: 187 | D46: 63 | E46: =SUM(C46+D46) -> 250 | F46: 25 | G46: 4 | H46: 4
B47: 45721 | C47: 207 | D47: 56 | E47: =SUM(C47+D47) -> 263 | F47: 26 | G47: 2 | H47: 2
B48: 45722 | C48: 189 | D48: 57 | E48: =SUM(C48+D48) -> 246 | F48: 22 | G48: 1 | H48: 1
B49: 45723 | C49: 172 | D49: 57 | E49: =SUM(C49+D49) -> 229 | F49: 23 | G49: 1 | H49: 1
B50: 45726 | C50: 262 | D50: 80 | E50: =SUM(C50+D50) -> 342 | F50: 31 | G50: 2 | H50: 2
B51: 45727 | C51: 214 | D51: 70 | E51: =SUM(C51+D51) -> 284 | F51: 26 | G51: 1 | H51: 1
B52: 45728 | C52: 272 | D52: 63 | E52: =SUM(C52+D52) -> 335 | F52: 30 | G52: 6 | H52: 6
...
