Workbook

Sheet Schéma_vyplnenie
A1: Súhrnná informácia o poskytnutých prostriedkoch
A2: Identifikátor schémy | B2: Názov dotačnej schémy | C2: Legislatívny predpis | D2: Identifikátor legislatívneho predpisu | E2: Alokované prostriedky na schému | F2: Zdroj financovania | G2: Kód zdroja financovania | H2: Názov poskytovateľa | I2: IČO poskytovateľa
A3: MP-Z-2022/000005 | B3: DM 19/2018 Schéma podpory projektov experimentálneho vývoja a inovácií v Slovenskej republike | C3: Nariadenie Komisie (EÚ) č. 1407/2013 z 18. decembra 2013 o uplatňovaní článkov 107 a 108 Zmluvy o fungovaní Európskej únie na pomoc de minimis (ďalej len „nariadenie 1407/2013“), (Ú. v. EÚ L 352, 24.12.2013). Príloha I Nariadenia Komisie (EÚ) č. 651/2014 zo 17. júna 2014 o vyhlásení určitých kategórií pomoci za zlučiteľné s vnútorným trhom podľa článkov 107 a 108 Zmluvy (Ú. v. EÚ L 187, 26.6.2014) (ďalej len „nariadenie č. 651/2014“). Zákon č. 358/2015 Z. z. o úprave niektorých vzťahov v oblasti štátnej pomoci a minimálnej pomoci a o zmene a doplnení niektorých zákonov (zákon o štátnej pomoci) (ďalej len „zákon č. 358/2015“). Zákon č. 523/2004 Z. z. o rozpočtových pravidlách verejnej správy a o zmene a doplnení niektorých zákonov v znení neskorších predpisov (ďalej len „zákon č. 523/2004“). Zákon č. 172/2005 Z. z. o organizácii štátnej podpory výskumu a vývoja a o doplnení zákona č. 575/2001 Z. z. o organizácii činnosti vlády a organizácii ústrednej štátnej správy v znení neskorších predpisov (ďalej len „zákon č. 172/2005“). Zákon č. 431/2002 Z. z. o účtovníctve v znení neskorších predpisov. Zákon č. 357/2015 Z. z. o finančnej kontrole a audite a o zmene a doplnení niektorých zákonov. Zákon č. 111/2018 Z. z. o poskytovaní dotácií v pôsobnosti Úradu podpredsedu vlády Slovenskej republiky pre investície a informatizáciu, (ďalej len „zákon č. 111/2018“). Uznesenie vlády SR č. 528/2018 zo dňa 28.11.2018 k návrhu inštitucionálneho zabezpečenia slovenskej inovačnej diplomacie. | D3: Nar.EÚ č. 1407/2013 Nar EÚ č. 651/2014 358/2015 523/2004 172/2005 431/2002 357/2015 111/2018 UV SR č. 528/2018 | E3: 1100000 | F3: Štátny rozpočet | G3: =IFERROR(INDEX('Číselník zdrojov financovanie'!A:A,MATCH(Schéma_vyplnenie!F3,'Číselník zdrojov financovanie'!B:B,0)),"") -> 5 | H3: Ministerstvo investícií, regionálneho rozvoja a informatizácie Slovenskej republiky | I3: 50349287
G4: =IFERROR(INDEX('Číselník zdrojov financovanie'!A:A,MATCH(Schéma_vyplnenie!F4,'Číselník zdrojov financovanie'!B:B,0)),"")
G5: =IFERROR(INDEX('Číselník zdrojov financovanie'!A:A,MATCH(Schéma_vyplnenie!F5,'Číselník zdrojov financovanie'!B:B,0)),"")
G6: =IFERROR(INDEX('Číselník zdrojov financovanie'!A:A,MATCH(Schéma_vyplnenie!F6,'Číselník zdrojov financovanie'!B:B,0)),"")
G7: =IFERROR(INDEX('Číselník zdrojov financovanie'!A:A,MATCH(Schéma_vyplnenie!F7,'Číselník zdrojov financovanie'!B:B,0)),"")
G8: =IFERROR(INDEX('Číselník zdrojov financovanie'!A:A,MATCH(Schéma_vyplnenie!F8,'Číselník zdrojov financovanie'!B:B,0)),"")
G9: =IFERROR(INDEX('Číselník zdrojov financovanie'!A:A,MATCH(Schéma_vyplnenie!F9,'Číselník zdrojov financovanie'!B:B,0)),"")
G10: =IFERROR(INDEX('Číselník zdrojov financovanie'!A:A,MATCH(Schéma_vyplnenie!F10,'Číselník zdrojov financovanie'!B:B,0)),"")
G11: =IFERROR(INDEX('Číselník zdrojov financovanie'!A:A,MATCH(Schéma_vyplnenie!F11,'Číselník zdrojov financovanie'!B:B,0)),"")
G12: =IFERROR(INDEX('Číselník zdrojov financovanie'!A:A,MATCH(Schéma_vyplnenie!F12,'Číselník zdrojov financovanie'!B:B,0)),"")
G13: =IFERROR(INDEX('Číselník zdrojov financovanie'!A:A,MATCH(Schéma_vyplnenie!F13,'Číselník zdrojov financovanie'!B:B,0)),"")
G14: =IFERROR(INDEX('Číselník zdrojov financovanie'!A:A,MATCH(Schéma_vyplnenie!F14,'Číselník zdrojov financovanie'!B:B,0)),"")
G15: =IFERROR(INDEX('Číselník zdrojov financovanie'!A:A,MATCH(Schéma_vyplnenie!F15,'Číselník zdrojov financovanie'!B:B,0)),"")
... G202: =IFERROR(INDEX('Číselník zdrojov financovanie'!A:A,MATCH(Schéma_vyplnenie!F202,'Číselník zdrojov financovanie'!B:B,0)),"")
G203: =IFERROR(VLOOKUP(F203,'Číselník zdrojov financovanie'!$B:$C,2,0),"")
G204: =IFERROR(VLOOKUP(F204,'Číselník zdrojov financovanie'!$B:$C,2,0),"")
G205: =IFERROR(VLOOKUP(F205,'Číselník zdrojov financovanie'!$B:$C,2,0),"")
G206: =IFERROR(VLOOKUP(F206,'Číselník zdrojov financovanie'!$B:$C,2,0),"")
G207: =IFERROR(VLOOKUP(F207,'Číselník zdrojov financovanie'!$B:$C,2,0),"")
G208: =IFERROR(VLOOKUP(F208,'Číselník zdrojov financovanie'!$B:$C,2,0),"")
G209: =IFERROR(VLOOKUP(F209,'Číselník zdrojov financovanie'!$B:$C,2,0),"")
G210: =IFERROR(VLOOKUP(F210,'Číselník zdrojov financovanie'!$B:$C,2,0),"")
G211: =IFERROR(VLOOKUP(F211,'Číselník zdrojov financovanie'!$B:$C,2,0),"")
G212: =IFERROR(VLOOKUP(F212,'Číselník zdrojov financovanie'!$B:$C,2,0),"")
G213: =IFERROR(VLOOKUP(F213,'Číselník zdrojov financovanie'!$B:$C,2,0),"")
G214: =IFERROR(VLOOKUP(F214,'Číselník zdrojov financovanie'!$B:$C,2,0),"")
... G337: =IFERROR(VLOOKUP(F337,'Číselník zdrojov financovanie'!$B:$C,2,0),"")
G338: =IFERROR(VLOOKUP(F338,'Číselník zdrojov financovanie'!B:C,2,0),"")

Sheet Číselník zdrojov financovanie
A1: 1 | B1: Finančný mechanizmus EHP/Štátny rozpočet | C1: 1
A2: 2 | B2: Nórsky finančný mechanizmus/Štátny rozpočet | C2: 2
A3: 3 | B3: Nórsky finančný mechanizmus/Finančný mechanizmus EHP | C3: 3
A4: 4 | B4: Švajčiarsky finančný mechanizmus/Štátny rozpočet | C4: 4
A5: 5 | B5: Štátny rozpočet | C5: 5
A6: 6 | B6: Iný | C6: 6
A7: 7 | B7: Európsky fond regionálneho rozvoja | C7: 7
A8: 8 | B8: Európsky sociálny fond | C8: 8
A9: 9 | B9: Kohézny fond | C9: 9
A10: 10 | B10: Európsky poľnohospodársky fond pre rozvoj vidieka | C10: 10
A11: 11 | B11: Európsky námorný a rybársky fond | C11: 11
A12: 12 | B12: Rozpočty územných samospráv | C12: 12

Sheet Výzva_vyplnenie 
A1: Súhrnná informácia o výzve z dotačnej schémy
A2: Identifikátor schémy | B2: názov dotačnej schémy | C2: názov poskytovateľa | D2: IČO poskytovateľa | E2: Identifikátor výzvy | F2: Názov výzvy | G2: Alokované prostriedky na výzvu / disponibilný objem zdrojov | H2: Minimálna výška poskytnutej dotácie / minimálna výška dotácie | I2: Maximálna výška poskytnutej dotácie / maximálna výška dotácie | J2: Termín zverejnenia výzvy / dátum zverejnenia vyzvania | K2: Termín otvorenia podávania žiadostí | L2: Termín ukončenia predkladania žiadostí
A3: =IFERROR(INDEX(Schéma_vyplnenie!A:A,MATCH('Výzva_vyplnenie '!B3,Schéma_vyplnenie!B:B,0),),"") -> MP-Z-2022/000005 | B3: DM 19/2018 Schéma podpory projektov experimentálneho vývoja a inovácií v Slovenskej republike | C3: =IFERROR(VLOOKUP(B3,Schéma_vyplnenie!$B:$I,7,0),"") -> Ministerstvo investícií, regionálneho rozvoja a informatizácie Slovenskej republiky | D3: =IFERROR(VLOOKUP(B3,Schéma_vyplnenie!$B:$I,8,0),"") -> 50349287 | E3: SRIN č. 6/2021 | F3: Výzva SRIN č. 6/2021 na predkladanie žiadostí o poskytnutie dotácie na podporu inovatívnych projektov v Slovenskej republike | G3: 1100000 | H3: 30000 | I3: 100000 | J3: 44420 | K3: 44420 | L3: 44481
A4: =IFERROR(INDEX(Schéma_vyplnenie!A:A,MATCH('Výzva_vyplnenie '!B4,Schéma_vyplnenie!B:B,0),),"") | C4: =IFERROR(VLOOKUP(B4,Schéma_vyplnenie!$B:$I,7,0),"") | D4: =IFERROR(VLOOKUP(B4,Schéma_vyplnenie!$B:$I,8,0),"")
A5: =IFERROR(INDEX(Schéma_vyplnenie!A:A,MATCH('Výzva_vyplnenie '!B5,Schéma_vyplnenie!B:B,0),),"") | C5: =IFERROR(VLOOKUP(B5,Schéma_vyplnenie!$B:$I,7,0),"") | D5: =IFERROR(VLOOKUP(B5,Schéma_vyplnenie!$B:$I,8,0),"")
A6: =IFERROR(INDEX(Schéma_vyplnenie!A:A,MATCH('Výzva_vyplnenie '!B6,Schéma_vyplnenie!B:B,0),),"") | C6: =IFERROR(VLOOKUP(B6,Schéma_vyplnenie!$B:$I,7,0),"") | D6: =IFERROR(VLOOKUP(B6,Schéma_vyplnenie!$B:$I,8,0),"")
A7: =IFERROR(INDEX(Schéma_vyplnenie!A:A,MATCH('Výzva_vyplnenie '!B7,Schéma_vyplnenie!B:B,0),),"") | C7: =IFERROR(VLOOKUP(B7,Schéma_vyplnenie!$B:$I,7,0),"") | D7: =IFERROR(VLOOKUP(B7,Schéma_vyplnenie!$B:$I,8,0),"")
A8: =IFERROR(INDEX(Schéma_vyplnenie!A:A,MATCH('Výzva_vyplnenie '!B8,Schéma_vyplnenie!B:B,0),),"") | C8: =IFERROR(VLOOKUP(B8,Schéma_vyplnenie!$B:$I,7,0),"") | D8: =IFERROR(VLOOKUP(B8,Schéma_vyplnenie!$B:$I,8,0),"")
A9: =IFERROR(INDEX(Schéma_vyplnenie!A:A,MATCH('Výzva_vyplnenie '!B9,Schéma_vyplnenie!B:B,0),),"") | C9: =IFERROR(VLOOKUP(B9,Schéma_vyplnenie!$B:$I,7,0),"") | D9: =IFERROR(VLOOKUP(B9,Schéma_vyplnenie!$B:$I,8,0),"")
A10: =IFERROR(INDEX(Schéma_vyplnenie!A:A,MATCH('Výzva_vyplnenie '!B10,Schéma_vyplnenie!B:B,0),),"") | C10: =IFERROR(VLOOKUP(B10,Schéma_vyplnenie!$B:$I,7,0),"") | D10: =IFERROR(VLOOKUP(B10,Schéma_vyplnenie!$B:$I,8,0),"")
A11: =IFERROR(INDEX(Schéma_vyplnenie!A:A,MATCH('Výzva_vyplnenie '!B11,Schéma_vyplnenie!B:B,0),),"") | C11: =IFERROR(VLOOKUP(B11,Schéma_vyplnenie!$B:$I,7,0),"") | D11: =IFERROR(VLOOKUP(B11,Schéma_vyplnenie!$B:$I,8,0),"")
A12: =IFERROR(INDEX(Schéma_vyplnenie!A:A,MATCH('Výzva_vyplnenie '!B12,Schéma_vyplnenie!B:B,0),),"") | C12: =IFERROR(VLOOKUP(B12,Schéma_vyplnenie!$B:$I,7,0),"") | D12: =IFERROR(VLOOKUP(B12,Schéma_vyplnenie!$B:$I,8,0),"")
A13: =IFERROR(INDEX(Schéma_vyplnenie!A:A,MATCH('Výzva_vyplnenie '!B13,Schéma_vyplnenie!B:B,0),),"") | C13: =IFERROR(VLOOKUP(B13,Schéma_vyplnenie!$B:$I,7,0),"") | D13: =IFERROR(VLOOKUP(B13,Schéma_vyplnenie!$B:$I,8,0),"")
A14: =IFERROR(INDEX(Schéma_vyplnenie!A:A,MATCH('Výzva_vyplnenie '!B14,Schéma_vyplnenie!B:B,0),),"") | C14: =IFERROR(VLOOKUP(B14,Schéma_vyplnenie!$B:$I,7,0),"") | D14: =IFERROR(VLOOKUP(B14,Schéma_vyplnenie!$B:$I,8,0),"")
A15: =IFERROR(INDEX(Schéma_vyplnenie!A:A,MATCH('Výzva_vyplnenie '!B15,Schéma_vyplnenie!B:B,0),),"") | C15: =IFERROR(VLOOKUP(B15,Schéma_vyplnenie!$B:$I,7,0),"") | D15: =IFERROR(VLOOKUP(B15,Schéma_vyplnenie!$B:$I,8,0),"")
... A302: =IFERROR(INDEX(Schéma_vyplnenie!A:A,MATCH('Výzva_vyplnenie '!B302,Schéma_vyplnenie!B:B,0),),"") | C302: =IFERROR(VLOOKUP(B302,Schéma_vyplnenie!$B:$I,7,0),"") | D302: =IFERROR(VLOOKUP(B302,Schéma_vyplnenie!$B:$I,8,0),"")

Sheet Oprávnení žiadatelia_vyplnenie
A1: Informácia o tom, kto je oprávnený žiadať o dotácie z každej z výziev
A2: Identifikátor výzvy | B2: právna forma oprávneného žiadateľa | C2: kód právnej formy oprávneného žiadateľa | D2: podiel spolufinancovania v percentách
A3: SRIN č. 6/2021 | B3: Podnikateľ-fyzická osoba-zapísaný v obchodnom registri | C3: =IFERROR(INDEX('Číselník právnych foriem ŠÚ SR'!A:A,MATCH('Oprávnení žiadatelia_vyplnenie'!B3,'Číselník právnych foriem ŠÚ SR'!B:B,0)),"") -> 102 | D3: 0.05
A4: SRIN č. 6/2021 | B4: Podnikateľ-fyzická osoba-nezapísaný v obchodnom registri | C4: =IFERROR(INDEX('Číselník právnych foriem ŠÚ SR'!A:A,MATCH('Oprávnení žiadatelia_vyplnenie'!B4,'Číselník právnych foriem ŠÚ SR'!B:B,0)),"") -> 101 | D4: 0.05
A5: SRIN č. 6/2021 | B5: Podnikateľ-fyzická osoba-nezapís.v OR-podnikajúca súčasne ako osoba so slobodným povolaním | C5: =IFERROR(INDEX('Číselník právnych foriem ŠÚ SR'!A:A,MATCH('Oprávnení žiadatelia_vyplnenie'!B5,'Číselník právnych foriem ŠÚ SR'!B:B,0)),"") -> 109 | D5: 0.05
A6: SRIN č. 6/2021 | B6: Podnikateľ-fyzická osoba-zapís.v OR-podnikajúca súčasne ako osoba so slobodným povolaním | C6: =IFERROR(INDEX('Číselník právnych foriem ŠÚ SR'!A:A,MATCH('Oprávnení žiadatelia_vyplnenie'!B6,'Číselník právnych foriem ŠÚ SR'!B:B,0)),"") -> 110 | D6: 0.05
A7: SRIN č. 6/2021 | B7: Podnikateľ-fyzická osoba-nezapís.v OR-podnikajúca súčasne ako sam.hosp.roľník | C7: =IFERROR(INDEX('Číselník právnych foriem ŠÚ SR'!A:A,MATCH('Oprávnení žiadatelia_vyplnenie'!B7,'Číselník právnych foriem ŠÚ SR'!B:B,0)),"") -> 107 | D7: 0.05
A8: SRIN č. 6/2021 | B8: Podnikateľ-fyzická osoba-zapís.v OR-podnikajúca súčasne ako sam.hosp.roľník | C8: =IFERROR(INDEX('Číselník právnych foriem ŠÚ SR'!A:A,MATCH('Oprávnení žiadatelia_vyplnenie'!B8,'Číselník právnych foriem ŠÚ SR'!B:B,0)),"") -> 108 | D8: 0.05
A9: SRIN č. 6/2021 | B9: Verejná obchodná spoločnosť | C9: =IFERROR(INDEX('Číselník právnych foriem ŠÚ SR'!A:A,MATCH('Oprávnení žiadatelia_vyplnenie'!B9,'Číselník právnych foriem ŠÚ SR'!B:B,0)),"") -> 111 | D9: 0.05
A10: SRIN č. 6/2021 | B10: Spoločnosť s ručením obmedzeným | C10: =IFERROR(INDEX('Číselník právnych foriem ŠÚ SR'!A:A,MATCH('Oprávnení žiadatelia_vyplnenie'!B10,'Číselník právnych foriem ŠÚ SR'!B:B,0)),"") -> 112 | D10: 0.05
A11: SRIN č. 6/2021 | B11: Komanditná spoločnosť | C11: =IFERROR(INDEX('Číselník právnych foriem ŠÚ SR'!A:A,MATCH('Oprávnení žiadatelia_vyplnenie'!B11,'Číselník právnych foriem ŠÚ SR'!B:B,0)),"") -> 113 | D11: 0.05
A12: SRIN č. 6/2021 | B12: Nadácia | C12: =IFERROR(INDEX('Číselník právnych foriem ŠÚ SR'!A:A,MATCH('Oprávnení žiadatelia_vyplnenie'!B12,'Číselník právnych foriem ŠÚ SR'!B:B,0)),"") -> 117 | D12: 0.05
A13: SRIN č. 6/2021 | B13: Neinvestičný fond | C13: =IFERROR(INDEX('Číselník právnych foriem ŠÚ SR'!A:A,MATCH('Oprávnení žiadatelia_vyplnenie'!B13,'Číselník právnych foriem ŠÚ SR'!B:B,0)),"") -> 118 | D13: 0.05
A14: SRIN č. 6/2021 | B14: Nezisková organizácia poskytujúca všeobecne prospešné služby | C14: =IFERROR(INDEX('Číselník právnych foriem ŠÚ SR'!A:A,MATCH('Oprávnení žiadatelia_vyplnenie'!B14,'Číselník právnych foriem ŠÚ SR'!B:B,0)),"") -> 120 | D14: 0.05
... A36: SRIN č. 6/2021 | B36: Združenie účastníkov pozemkových úprav | C36: =IFERROR(INDEX('Číselník právnych foriem ŠÚ SR'!A:A,MATCH('Oprávnení žiadatelia_vyplnenie'!B36,'Číselník právnych foriem ŠÚ SR'!B:B,0)),"") -> 273 | D36: 0.05
C37: =IFERROR(INDEX('Číselník právnych foriem ŠÚ SR'!A:A,MATCH('Oprávnení žiadatelia_vyplnenie'!B37,'Číselník právnych foriem ŠÚ SR'!B:B,0)),"")
C38: =IFERROR(INDEX('Číselník právnych foriem ŠÚ SR'!A:A,MATCH('Oprávnení žiadatelia_vyplnenie'!B38,'Číselník právnych foriem ŠÚ SR'!B:B,0)),"")
C39: =IFERROR(INDEX('Číselník právnych foriem ŠÚ SR'!A:A,MATCH('Oprávnení žiadatelia_vyplnenie'!B39,'Číselník právnych foriem ŠÚ SR'!B:B,0)),"")
C40: =IFERROR(INDEX('Číselník právnych foriem ŠÚ SR'!A:A,MATCH('Oprávnení žiadatelia_vyplnenie'!B40,'Číselník právnych foriem ŠÚ SR'!B:B,0)),"")
C41: =IFERROR(INDEX('Číselník právnych foriem ŠÚ SR'!A:A,MATCH('Oprávnení žiadatelia_vyplnenie'!B41,'Číselník právnych foriem ŠÚ SR'!B:B,0)),"")
C42: =IFERROR(INDEX('Číselník právnych foriem ŠÚ SR'!A:A,MATCH('Oprávnení žiadatelia_vyplnenie'!B42,'Číselník právnych foriem ŠÚ SR'!B:B,0)),"")
C43: =IFERROR(INDEX('Číselník právnych foriem ŠÚ SR'!A:A,MATCH('Oprávnení žiadatelia_vyplnenie'!B43,'Číselník právnych foriem ŠÚ SR'!B:B,0)),"")
C44: =IFERROR(INDEX('Číselník právnych foriem ŠÚ SR'!A:A,MATCH('Oprávnení žiadatelia_vyplnenie'!B44,'Číselník právnych foriem ŠÚ SR'!B:B,0)),"")
C45: =IFERROR(INDEX('Číselník právnych foriem ŠÚ SR'!A:A,MATCH('Oprávnení žiadatelia_vyplnenie'!B45,'Číselník právnych foriem ŠÚ SR'!B:B,0)),"")
C46: =IFERROR(INDEX('Číselník právnych foriem ŠÚ SR'!A:A,MATCH('Oprávnení žiadatelia_vyplnenie'!B46,'Číselník právnych foriem ŠÚ SR'!B:B,0)),"")
C47: =IFERROR(INDEX('Číselník právnych foriem ŠÚ SR'!A:A,MATCH('Oprávnení žiadatelia_vyplnenie'!B47,'Číselník právnych foriem ŠÚ SR'!B:B,0)),"")
C48: =IFERROR(INDEX('Číselník právnych foriem ŠÚ SR'!A:A,MATCH('Oprávnení žiadatelia_vyplnenie'!B48,'Číselník právnych foriem ŠÚ SR'!B:B,0)),"")
... C59: =IFERROR(INDEX('Číselník právnych foriem ŠÚ SR'!A:A,MATCH('Oprávnení žiadatelia_vyplnenie'!B59,'Číselník právnych foriem ŠÚ SR'!B:B,0)),"")
B60: Slobodné povolanie-fyzická osoba podnikajúca na základe iného ako živnostenského zákona | C60: =IFERROR(INDEX('Číselník právnych foriem ŠÚ SR'!A:A,MATCH('Oprávnení žiadatelia_vyplnenie'!B60,'Číselník právnych foriem ŠÚ SR'!B:B,0)),"") -> 105
C61: =IFERROR(INDEX('Číselník právnych foriem ŠÚ SR'!A:A,MATCH('Oprávnení žiadatelia_vyplnenie'!B61,'Číselník právnych foriem ŠÚ SR'!B:B,0)),"")

Sheet Žiadosť _vyplnenie
A1: Informácia o žiadosti o projekt/projekte
A2: Identifikátor výzvy | B2: Názov žiadateľa | C2: IČO žiadateľa | D2: Právna forma oprávneného žiadateľa | E2: kód právnej formy oprávneného žiadateľa | F2: Číselný identifikátor žiadosti | G2: Názov projektu | H2: Stručný popis projektu | I2: Miesto realizácie projektu | J2: Dátum podania žiadosti | K2: stav vyhodnotenia žiadosti | L2: Dátum rozhodnutia o žiadosti / projekte | M2: Výška žiadanej sumy | N2: Číslo projektu schválenej žiadosti | O2: Číslo zmluvy o poskytnutí dotácie uverejnené v CRZ | P2: Výška schválenej sumy | Q2: Výška spolufinancovania | R2: Dátum uverejnenia zmluvy v CRZ | S2: Dátum začiatku realizácie projektu | T2: Dátum ukončenia realizácie projektu | U2: Výška neoprávnených výdavkov | V2: Výška nevyčerpanej dotácie
A3: SRIN č. 6/2021 | B3: European Science and Research Institute | C3: 42302552 | D3: Združenie (zväz, spolok, spoločnosť, klub ai.) | E3: =IFERROR(VLOOKUP(D3,'Číselník právnych foriem ŠÚ SR'!$B:$C,2,0),"") -> 701 | F3: 47_2021 | G3: Nová služba na zlepšovanie kvality ovzdušia a na zlepšovanie podmienok investovania v menej rozvinutých a environmentálne zaťažených lokalitách Slovenska | H3: Hlavným cieľom navrhovaného projektu je realizovať novú službu prispievajúcu k zlepšovaniu kvality ovzdušia a tým zlepšeniu podmienok pre zdravý život a k zlepšovaniu podmienok investovania na Slovensku. Jej poslaním je podnecovať a podávať návrhy na riešenia na zlepšovanie kvality ovzdušia a na zlepšovanie podmienok investovania v menej rozvinutých a environmentálne zaťažených lokalitách SR. Ochrana ovzdušia pred znečisťovaním zápachmi a aerosólmi súvisiaca so zmenami podnikateľských aktivít a aktivít domácnosti, ako aj podnecovanie žiaducich nových investícií v malo rozvinutom regióne (Jelšava, Gemer a BBSK s vysokým znečistením ovzdušia do obnoviteľných zdrojov a odpadového hospodárstva. Je dôležité zvýšiť akceptáciu prevádzok spracovávajúcich biomasu, iné biologické suroviny a bioodpady alebo odpady obsahujúce aj biologickú zložku vo verejnosti a zvýšiť záujem investorov o vyššie využitie obnoviteľných zdrojov. Jedným z významných negatívnych faktorov, ktorý v súčasnosti brzdí ďalší rozvoj zberu, úpravy a spracovania surovín a odpadov biologickej podstaty, je odmietanie takýchto prevádzok občanmi vo svojich katastrálnych územiach z obavy zo šírenia sa zápachu. Hlavný cieľ projektu sa dosiahne poskytnutím prevádzkovateľom, orgánom ochrany ovzdušia a verejnosti nové inovatívne metodiky a techniky merania, monitorovania a hodnotenia zápachov a koncentrácií TZL z potenciálnych zdrojov zápachov a bioaerosólov zo zberu, úpravy a rôznych spôsobov spracovania rizikovej biomasy a jej odpadov. V ďalšom období budú vypracované modelové analýzy a metodiky, využitím ktorých sa dosiahne objektívne a včasné varovanie prevádzkovateľov pred šírením sa zápachu a vysokých koncentrácií TZL s možnosťou urobiť okamžité nápravy. Budú navrhnuté možnosti predchádzania vzniku fugitívnych emisií zápachov a TZL so zohľadnením primeranosti nákladov. | I3: Jelšava a okolie, Gemer | J3: 44481 | K3: schválená | L3: 44898 | M3: 94929 | N3: 1. | O3: 1582/2021 | P3: 94928.65 | R3: 44558 | S3: 44559 | T3: 31.03.2022, 31.12.2022 | U3: prebieha vyúčtovanie | V3: prebieha vyúčtovanie
A4: SRIN č. 6/2021 | B4: MultiplexDX, s.r.o. | C4: 50111965 | D4: Spoločnosť s ručením obmedzeným | E4: =IFERROR(VLOOKUP(D4,'Číselník právnych foriem ŠÚ SR'!$B:$C,2,0),"") -> 112 | F4: 65_2021 | G4: Vytvorenie znalostnej platformy na boj s pandémiou COVID-19 a lepšiu pripravenosť na budúce pandémie | H4: Nosným zámerom projektu je posilnenie existujúcej spolupráce medzi MultiplexDX a Biomedicínskym centrom SAV, ako aj nadviazanie ďalších partnerstiev s cieľom vyvinúť funkčný molekulárny test na rýchlejšiu, lacnejšiu a robustnú detekciu stavu bunkovej imunity voči vírusu SARS-CoV-2. Konkrétnym zámerom projektu je preto navrhnúť, optimalizovať a validovať alternatívny prístup k detekcii peptidmi-aktivovaných T buniek imunitného systému v izolovaných PBMCs, a to pomocou metódy RT-qPCR. V priebehu projektu plánujeme vytvoriť funkčnú znalostnú platformu a ako jej jeden z výstupov posunúť vývoj diagnostického kitu na vyššiu technologickú úroveň. V prípade potvrdenia funkčnosti testu plánujeme sústrediť manažérske aplikačné kapacity na prípravu zavedenia diagnostického kitu do aplikačnej praxe. Projekt je rozdelený na 3 hlavné aktivity, ale žiadatelia majú precízne naplánované aj aktivity po skončení projektu. Cieľovou skupinou projektu sú prevádzkovatelia zdravotníckych zariadení, podnikateľské subjekty, prípadne Úradu verejného zdravotníctva a Ministerstvo zdravotníctva SR. Naše predchádzajúce partnerstvo s vedcami BMC SAV pri validácii našich RT-PCR a LAMP kitov na detekciu SARS-CoV-2 ďalej podčiarkuje vysokú pravdepodobnosť úspechu tohto projektu, následné zavedenie do aplikačnej praxe a prepojenie na iné infekčné ochorenia. Využitie platformy na iné ochorenia a potenciálne pandémie v budúcnosti môže zohrať zásadnú úlohu v pripravenosti na boj s nimi v blízkej budúcnosti. | I4: Ilkovičova 8, 841 04 Bratislava | J4: 44481 | K4: schválená | L4: 44898 | M4: 94059 | N4: 2. | O4: 1583/2021 | P4: 94059.24 | R4: 44558 | S4: 44559 | T4: 31.03.2022, 31.12.2022 | U4: prebieha vyúčtovanie | V4: prebieha vyúčtovanie
A5: SRIN č. 6/2021 | B5: SKYMOVE s. r. o. | C5: 51442558 | D5: Spoločnosť s ručením obmedzeným | E5: =IFERROR(VLOOKUP(D5,'Číselník právnych foriem ŠÚ SR'!$B:$C,2,0),"") -> 112 | F5: 58_2021 | G5: Prezentačno-školiaci seminár pre zvýšenie teoretických a praktických znalostí pri využívaní technológií zberu priestorových dát pomocou bezpilotných zariadení a práce s priestorovými dátami | H5: Projekt je pripravený so zámerom zvýšenia povedomia a znalostí v oblasti zberu a spracovania priestorových údajov pre špecializovanú cieľovú skupinu, ktorej pracovná agenda je úzko prepojená s používaním priestorových dát. Zameranie bude v oblasti prírodného a environmentálneho prostredia, geomorfológie, socio-ekologických aspektov, problematiky katastra a vodného hospodárstva. Ide o projekt s prezentačno-školiacim účelom pre registrovaných účastníkov v mieste konania, ktoré reprezentuje všetky zložky prírodného, ale aj urbanizovaného priestoru. Projekt má tri fázy. V prvej prípravnej fáze bude žiadateľ realizovať tvorbu školiacich a prezentačných materiálov, prípravu samotných seminárov a realizuje informačnú webovú stránku. Projekt je kapacitne obmedzený na 20 účastníkov. V druhej fáze projektu bude realizovaný prvý a druhý cyklus seminárov, každý cyklus bude trvať tri dni a pôjde o intenzívny program zložený z teoretickej a praktickej časti. V tretej časti projektu bude realizované vyhodnotenie projektu a bude aktualizovaná webová platforma pre dostupnosť informácií k prezentovanej téme. Túto platformu bude žiadateľ udržiavať dva roky vo vlastnej réžii. | I5: Liptovský Ján, región Liptov | J5: 44481 | K5: schválená | L5: 44898 | M5: 72179.7 | N5: 3. | O5: 1584/2021 | P5: 72179.7 | R5: 44558 | S5: 44559 | T5: 31.03.2022, 31.12.2022 | U5: prebieha vyúčtovanie | V5: prebieha vyúčtovanie
A6: SRIN č. 6/2021 | B6: Spojená škola | C6: 37956205 | D6: Rozpočtová organizácia | E6: =IFERROR(VLOOKUP(D6,'Číselník právnych foriem ŠÚ SR'!$B:$C,2,0),"") -> 321 | F6: 43_2021 | G6: Vzdelávanie a udržateľný rozvoj regiónu | H6: Zámerom projektu je modernizácia odborného vzdelávania a prípravy Spojenej školy s cieľom vybudovania školiaceho centra pre širokú cieľovú skupinu a jeho prepojenia s potrebami regiónu. Cieľovou skupinou projektu sú žiaci a pedagogickí zamestnanci Spojenej školy a základných škôl v regióne ako aj regionálny trh práce zastúpený regionálnymi zamestnávateľmi. V práci projektu plánujeme modernizovať vybavenie školy vo forme robotizovaného pracoviska a zrealizovať vzdelávacie a informačné aktivity zamerané na zvýšenie záujmu o štúdium technických odborov. Projekt napĺňa Cieľ 8. Podporovať trvalý, inkluzívny a trvalo udržateľný ekonomický rast, plnú a produktívnu zamestnanosť a dôstojnú prácu pre všetkých a výzvu „Zvýšenie kvality vzdelávania a posilnenie spoločenského statusu učiteľa v kontexte medzinárodného porovnania, globálnych megatrendov a uplatňovania princípov znalostnej spoločnosti.“ | I6: Spojená škola, Štúrova 848, Detva, parcela 5129/1 | J6: 44481 | K6: schválená | L6: 44898 | M6: 43301 | N6: 4. | O6: 1585/2021 | P6: 43301 | R6: 44558 | S6: 44559 | T6: 31.03.2022, 31.12.2022 | U6: prebieha vyúčtovanie | V6: prebieha vyúčtovanie
A7: SRIN č. 6/2021 | B7: Bizzcom s.r.o. | C7: 36814351 | D7: Spoločnosť s ručením obmedzeným | E7: =IFERROR(VLOOKUP(D7,'Číselník právnych foriem ŠÚ SR'!$B:$C,2,0),"") -> 112 | F7: 76_2021 | G7: Znalostná platforma pre výskum a vývoj aplikácie na báze memristora | H7: Pripravili sme inovačný projekt na súčasnej úrovni inovácie TRL 3- 4, v rámci ktorého je nevyhnutná spolupráca viacerých výskumných subjektov a ich prepojenie na priemysel na Slovensku a v zahraničí. V rámci aktivity A vytvoríme a založíme vedomostnú platformu pre výskum a vývoj na báze memristorovej súčiastky, v rámci aktivity B navrhneme mechanizmus overenia technológie memristorov. Aplikácie týchto súčiastok sú využiteľné vo všetkých oblastiach bežného života a majú potenciál priniesť revolúciu v bezpečnosti zariadení a inteligentných zariadení. | I7: 591, Bučany 919 28 | J7: 44481 | K7: schválená | L7: 44898 | M7: 61493.5 | N7: 5. | O7: 1586/2021 | P7: 61493.5 | R7: 44558 | S7: 44559 | T7: 31.03.2022, 31.12.2022 | U7: prebieha vyúčtovanie | V7: prebieha vyúčtovanie
A8: SRIN č. 6/2021 | B8: Sur-Real, s.r.o. | C8: 52177505 | D8: Spoločnosť s ručením obmedzeným | E8: =IFERROR(VLOOKUP(D8,'Číselník právnych foriem ŠÚ SR'!$B:$C,2,0),"") -> 112 | F8: 48_2021 | G8: Tracking of dystonia – vývoj aplikácie pre diagnostiku cervikálnej dystónie | H8: Hlavným cieľom projektu je objektivizovať a presne merať patologické vybočovania hlavy, krku a elevácie ramena neurologického ochorenia s názvom „Cervikálna dystónia“. V súčasnosti vytvorený a čiastočne funkčný softvér (prototyp) je na úrovni TRL 4 - „Tracking of dystonia“ sníma za hardwarovej podpory „Azure kinect HD“ (špeciálna kamera snímajúca pohyb) patologický pohyb hlavy, krku a ramien v trojrozmernom obraze. Hlavným cieľom je dostať danú inováciu (prototyp) na TRL 5 a to validáciou v reálnom prostredí. | I8: Ústredná vojenská nemocnica SNP Ružomberok - FN, ul. gen. Miloša Vesela 21, 03426 Ružomberok, a II. Neurologická klinika LF UK a UN, Limbová 5, 833 05 Bratislava | J8: 44481 | K8: schválená | L8: 44898 | M8: 92869 | N8: 6. | O8: 1587/2021 | P8: 81056.5 | R8: 44558 | S8: 44559 | T8: 31.03.2022, 31.12.2022 | U8: prebieha vyúčtovanie | V8: prebieha vyúčtovanie
A9: SRIN č. 6/2021 | B9: CP! Future s.r.o. | C9: 51241102 | D9: Spoločnosť s ručením obmedzeným | E9: =IFERROR(VLOOKUP(D9,'Číselník právnych foriem ŠÚ SR'!$B:$C,2,0),"") -> 112 | F9: 30_2021 | G9: Circular Gastro System - Inovatívne aplikácie opakovateľne použiteľných produktov z bioplastov v gastro službách | H9: Projekt Circular Gastro System (CGS) predstavuje vývoj inovatívnych udržateľných riešení na báze 100% biodegradovateľných materiálov pre riady určené na použitie pri konzumácií jedla a nápojov. Zámerom projektu CGS je vytvorenie ekologického riešenia zameraného na elimináciu plastových výrobkov a odpadu. Cieľom projektu je realizácia aktivít na optimalizáciu inovatívnych biodegradovateľných materiálov pre priemyselnú výrobu technológiou vstrekovania a dokončenia vývoja prvej série opakovane použiteľných produktov z bioplastov určených do priemyselnej praxe, vrátane demonštrácie ich využitia v operačnom prostredí ,closed loop' gastro služieb na hromadnom podujatí. | I9: Hanulova 611/ 11, 949 01 Nitra, Račianska 78, 831 02 Bratislava | J9: 44481 | K9: schválená | L9: 44898 | M9: 95475 | N9: 7. | O9: 1588/2021 | P9: 95475 | R9: 44558 | S9: 44559 | T9: 31.03.2022, 31.12.2022 | U9: prebieha vyúčtovanie | V9: prebieha vyúčtovanie
A10: SRIN č. 6/2021 | B10: CoWorking Banská Bystrica | C10: 50356038 | D10: Združenie (zväz, spolok, spoločnosť, klub ai.) | E10: =IFERROR(VLOOKUP(D10,'Číselník právnych foriem ŠÚ SR'!$B:$C,2,0),"") -> 701 | F10: 38_2021 | G10: Inovatívny program sociálneho podnikania a inovácií pre ženy zo znevýhodnených skupín v lokálnych coworkingových centrách | H10: Účelom projektu je reagovať na aktuálnu situáciu na trhu práce, kedy sa najmä ženy vo vyššom veku a s vyšším dosiahnutým vzdelaním potýkajú s problémami pri hľadaní práce a to z dôsledku neflexibilného pracovného času, nedostatočného finančného ohodnotenia či nedostatku pracovných príležitostí, ktoré by zodpovedali ich vzdelaniu a skúsenostiam. Tento jav môžeme pozorovať vo všetkých regiónoch Slovenska. Jedným zo spôsobov, ako sa dá tento problém riešiť, je motivovať ženy k rozbehu vlastného podnikania v oblasti sociálnych inovácií, ktoré poskytujú nielen možnosti príjmu, ale zároveň reagujú na riešenie potrieb v komunitách podnikateliek. Posilnením podnikateľských zručností prostredníctvom moderných vzdelávacích metód dodáme znevýhodneným ženám vnútornú sebadôveru presadiť sa v konkurencieschopom podnikaní a zároveň prispejeme k miestnemu komunitnému rozvoju udržateľným spôsobom. | I10: Banská Bystrica, Bratislava, Lučenec, Humenné, revúca | J10: 44481 | K10: schválená | L10: 44898 | M10: 62878.1 | N10: 8. | O10: 1589/2021 | P10: 29327 | R10: 44558 | S10: 44559 | T10: 31.03.2022, 31.12.2022 | U10: prebieha vyúčtovanie | V10: prebieha vyúčtovanie
A11: SRIN č. 6/2021 | B11: HUGOTECH, s. r. o. | C11: 53180739 | D11: Spoločnosť s ručením obmedzeným | E11: =IFERROR(VLOOKUP(D11,'Číselník právnych foriem ŠÚ SR'!$B:$C,2,0),"") -> 112 | F11: 12_2021 | G11: Záložný zdroj HT-DDL - vývoj univerzálneho napájacieho zdroja s vysokým výstupným výkonom s dôrazom na normu EMC | H11: Hlavným cieľom projektu je finálna etapa aplikovaného výskumu a vývoja, zároveň testovanie vysoko funkčného napájacieho zariadenia, určeného najmä pre malé a veľké sústavy, ostrovné systémy s dôrazom na znižovanie uhlíkovej stopy. Zariadenie má pracovný názov - záložný zdroj HT-DDL | I11: Ovocinárska 364/25, 08301 Sabinov | J11: 44475 | K11: schválená | L11: 44898 | M11: 89064 | N11: 9. | P11: 76230
A12: SRIN č. 6/2021 | B12: MARPE, s.r.o. | C12: 44827695 | D12: Spoločnosť s ručením obmedzeným | E12: =IFERROR(VLOOKUP(D12,'Číselník právnych foriem ŠÚ SR'!$B:$C,2,0),"") -> 112 | F12: 61_2021 | G12: PESTUJ NA VODE! - Hydroponické a akvaponické systémy pre obnovenie pestovateľskej výchovy na školách pomocou inteligentných technológií | H12: Hlavným cieľom projektu je vytvorenie unikátnych a kompaktných inteligentných hydroponických a aquaponických farmárskych systémov s prívetivým používateľským rozhraním, ktoré bude prostredníctvom senzorov merať kľúčové atribúty farmy a gamifikačným spôsobom bude systematicky viesť novodobých farmárov k pestovateľským návykom. | I12: Ponická ulica 15294/8A, Banská Bystrica 974 01 | J12: 44481 | K12: schválená | L12: 44898 | M12: 88734 | N12: 10. | O12: 1591/2021 | P12: 88734.73 | R12: 44558 | S12: 44559 | T12: 31.03.2022, 31.12.2022 | U12: prebieha vyúčtovanie | V12: prebieha vyúčtovanie
A13: SRIN č. 6/2021 | B13: Slovenská poľnohospodárska univerzita v Nitre | C13: 397482 | D13: Verejnoprávna inštitúcia | E13: =IFERROR(VLOOKUP(D13,'Číselník právnych foriem ŠÚ SR'!$B:$C,2,0),"") -> 382 | F13: 25_2021 | G13: Inovačné zoskupenie na podporu udržateľných potravinových systémov | H13: Hlavným cieľom projektu je podpora inovačných činností slovenských startupov a začínajúcich podnikateľov v oblasti potravinového systému, vrátane výroby zdravých potravín vyrábaných zelenými technológiami a s minimálnou uhlíkovou záťažou prostredníctvom realizácie aktivít v rámci EIT Food Hub na SPU, ktorý je národným kontaktným bodom pre túto oblasť v európskom inovačnom ekosystéme. Účelom projektu je zvýšenie udržateľnosti potravinového systému a zlepšenie inovačného ekosystému v Nitrianskom samosprávnom kraji (NSK) v súlade s prioritami Regionálnej inovačnej stratégie NSK 2021-2027, PHSR NSK 2016-2022 a Stratégiou rozvoja vidieka NSK 2016-2022. Prínosom projektu bude mobilizácia regionálneho a lokálneho inovačného potenciálu na základe rozšírenej ponuky špecifických inkubačných a akceleračných programov a služieb pre agropotravinársky sektor, prepájanie aktérov z verejnej, podnikateľskej a akademickej sféry s cieľom podporiť agropotravinárske startupy, zlepšiť konkurencieschopnosť a posilniť internacionalizáciu najmä agropotravinárskych MSP. Projekt nadväzuje na aktivity SPU v Nitre v oblasti podpory inovatívnych technológií a projektov riešených v spolupráci s praxou, ktoré sa realizujú v rámci iniciatív medzinárodných konzorcií EIT Food Hub a Food, Nutrition and Health Research Infrastructure (FNH-RI). Zámerom projektu je komplexne využiť a rozšíriť potenciál inovácií dosahujúcich úroveň TRL 3-6, ktoré vznikli v rámci realizovaných projektov. Do projektu sa budú môcť zapojiť podnikateľské subjekty a záujemcovia o podnikanie v NSK, agropotravinárske startupy a študenti SŠ i VŠ s inovatívnymi podnikateľskými nápadmi či zámermi, pre ktorých bude žiadateľ realizovať individuálne odborné konzultácie, workshopy, ako aj odborné poradenstvo v rámci výskumného centra ABT a coworku. V záverečnej etape projektu budú prezentované jednotlivé inovatívne projekty, ktoré budú hodnotené odbornou porotou zloženou zo zástupcov podnikateľskej sféry, akademického sektora a verejnej správy a minimálne jedného experta z partnerskej zahraničnej inštitúcie. Tri najúspešnejšie projekty získajú finančnú podporu, ako aj ďalšie benefity vo forme prístupu do InUPS štúdia na účely diseminácie výsledkov inovatívnych projektov. | I13: Slovenská poľnohospodárska univerzita v Nitre, Tr. A. Hlinku 2, 949 76, Nitra | J13: 44480 | K13: schválená | L13: 44898 | M13: 94482.28 | N13: 11. | O13: 1592/2021 | P13: 47241.14 | R13: 44558 | S13: 44559 | T13: 31.03.2022, 31.12.2022 | U13: prebieha vyúčtovanie | V13: prebieha vyúčtovanie
A14: SRIN č. 6/2021 | B14: CEELABS s.r.o. | C14: 47350164 | D14: Spoločnosť s ručením obmedzeným | E14: =IFERROR(VLOOKUP(D14,'Číselník právnych foriem ŠÚ SR'!$B:$C,2,0),"") -> 112 | F14: 56_2021 | G14: Vývoj riešenia pre zníženie uhlíkovej stopy miest a obcí v oblasti úspor spotreby elektrickej energie s využitím umelej inteligencie | H14: Projekt si kladie za cieľ vývoj a rozšírenie inovatívneho technologického riešenia zameraného na zníženie uhlíkovej stopy miest a obcí optimalizáciou spotreby elektrickej energie. Je založený na integrácií nových metód strojového učenia a umelej inteligencie v oblasti dátovej analýzy spotreby získanej jednobodovým štvorkvadrantným vysoko granulárnym meraním spotreby el. energie v budovách a pokročilého vyhodnocovania správania sa spotrebičov na základe ich odtlačku v energetickej sústave. Existujúce hardvérové a softvérové riešenie je vo fáze TLR6 a cieľom je podporiť a urýchliť jeho vývoj tak, aby bol čím skôr aplikovateľný v reálnych podmienkach trhu. Riešenie bude vyvíjané s odbornou podporou Univerzitného vedeckého parku TECHNICOM a testbedom miestnej samosprávy. | I14: Nemcovej 5, parc.č. 2731/13, k.ú. Severné mesto, obec Košice-Sever | J14: 44481 | K14: schválená | L14: 44898 | M14: 56886 | N14: 12. | O14: 1593/2021 | P14: 52501.75 | R14: 44558 | S14: 44559 | T14: 31.03.2022, 31.12.2022 | U14: prebieha vyúčtovanie | V14: prebieha vyúčtovanie
A15: SRIN č. 6/2021 | B15: Technická univerzita v Košiciach | C15: 397610 | D15: Verejnoprávna inštitúcia | E15: =IFERROR(VLOOKUP(D15,'Číselník právnych foriem ŠÚ SR'!$B:$C,2,0),"") -> 382 | F15: 22_2021 | G15: Rozvoj ekosystému inteligentných inovácií v regióne východného Slovenska na báze pilotnej realizácie intenzívneho programu akcelerácie podnikania | H15: Cieľom projektu je rozvoj ekosystému inteligentných inovácií v regióne východného Slovenska, prostredníctvom identifikácie inovačných projektových príležitostí (startupov) a zvýšenia kompetencií a know-how ich projektových tímov za účelom transformácie inovatívnych riešení do podoby komerčných produktov vhodných pre trh. Projekt vytvorí podmienky pre efektívnejšie využitie inovačného potenciálu v regióne a podporí rozvoj regionálnej ekonomiky. Projekt rozvinie ľudské zdroje v regióne formou zvýšenia ich kompetencií a zručností a rozšírením ich know-how. Podpora inovačných aktivít v startupoch prinesie pre lokálnu ekonomiku prínos vo forme vytvárania/udržania pracovných miest a zaangažovanosti miestnych komunít. Implementácia projektu v existujúcom prostredí (personálne zabezpečenie, dostupná infraštruktúra, získané know-how) je zárukou toho, že získané skúsenosti a know-how umožnia pokračovať v multiplikovaní aktivít v ďalšom období – čím bude dosiahnutá udržateľnosť výstupov projektu. Vďaka projektu bude pilotne overený intenzívny akceleračný program pre identifikáciu a podporu rozvoja startupov v regióne východného Slovenska. Projekt je štruktúrovaný do 3 aktivít: Aktivita 1: Identifikácia startupov (1.-31.1.2022), Aktivita 2: Akceleračný program startupov (1.2.-27.3.2022); Aktivita 3: Súťažné prezentácie startupov (28.-31.3.2022). Cieľovou skupinou projektu sú subjekty – riešitelia inovačných projektov, ktorých výstupmi sú inovatívne produkty a služby s úroveň inovácie TRL 3-6. | I15: Technická univerzita v Košiciach, Letná 9, Košice (www.tuke.sk) a Univerzitný vedecký park TECHNICOM, Nemcovej 5, Košice (www.uvptechnicom.sk) | J15: 44480 | K15: schválená | L15: 44898 | M15: 72428 | N15: 13. | O15: 1594/2021 | P15: 47158 | R15: 44558 | S15: 44559 | T15: 31.03.2022, 31.12.2022 | U15: prebieha vyúčtovanie | V15: prebieha vyúčtovanie
A16: SRIN č. 6/2021 | B16: PERRY TALENTS | C16: 51762625 | D16: Združenie (zväz, spolok, spoločnosť, klub ai.) | E16: =IFERROR(VLOOKUP(D16,'Číselník právnych foriem ŠÚ SR'!$B:$C,2,0),"") -> 701 | F16: 36_2021 | G16: PERRY TALENTS 22 | H16: Cieľom projektu je vytvoriť 6 týždňový intenzívny program zameraný na pomoc inovatívnym spoločnostiam, ktorých produkt alebo služba ponúka riešenie na reálny problém týkajúci sa trvalo udržateľného rozvoja. Program tak prispeje k hľadaniu riešení na globálne problémy, podporí rast týchto spoločností prostredníctvom poskytnutia vzdelávania od lokálnych aj zahraničných expertov, a pomôže k vytváraniu nových kolaborácii a partnerstiev. | I16: Bratislava | J16: 44481 | K16: schválená | L16: 44898 | M16: 95781 | N16: 14. | O16: 1595/2021 | P16: 33202.5 | R16: 44558 | S16: 44559 | T16: 31.03.2022, 31.12.2022 | U16: prebieha vyúčtovanie | V16: prebieha vyúčtovanie
A17: SRIN č. 6/2021 | B17: VOX terra, o.z. | C17: 42303630 | D17: Združenie (zväz, spolok, spoločnosť, klub ai.) | E17: =IFERROR(VLOOKUP(D17,'Číselník právnych foriem ŠÚ SR'!$B:$C,2,0),"") -> 701 | F17: 57_2021 | G17: Hmyzí proteín – trvalo udržateľná alternatíva budúcnosti | H17: Udržateľný rozvoj prostredníctvom výskumu produkcie hmyzieho proteínu ako krmiva, vytvorením pracovného miesta pre znevýhodneného uchádzača o zamestnanie. Projekt je zameraný na technickú inováciu vybavenia v ktorom sa výskum uskutočňuje a prebieha výroba krmiva. | I17: Magurská 16, 974 11 Banská Bystrica, Parcela CK-n, 2495/24, Katastrálne územie Sásová | J17: 44481 | K17: schválená | L17: 44898 | M17: 34070 | N17: 15. | O17: 1596/2021 | P17: 20410.2 | R17: 44558 | S17: 44559 | T17: 31.03.2022, 31.12.2022 | U17: prebieha vyúčtovanie | V17: prebieha vyúčtovanie
A18: SRIN č. 6/2021 | B18: RUKA NÁDEJE | C18: 50150154 | D18: Združenie (zväz, spolok, spoločnosť, klub ai.) | E18: =IFERROR(VLOOKUP(D18,'Číselník právnych foriem ŠÚ SR'!$B:$C,2,0),"") -> 701 | F18: 73_2021 | G18: Odborná príprava vysoko kvalifikovaných kapacít na realizáciu aktivít zameraných na integráciu deti s poruchami ateistického spektra do spoločnosti | H18: Projekt je realizovaný za účelom vytvárania základných podmienok pre inklúziu detí s poruchami autistického spektra (ďalej len PAS) do spoločnosti. V prípade dodržania overených postupov, je možné po roku intenzívnej práce s dieťaťom s PAS vo veku od 3 do 5 rokov jeho integrácia do bežného školského systému a života spoločnosti. Táto integrácia si vyžaduje veľa vysokokvalifikovaných pracovníkov BEHAVIORÁLNYCH TECHNIKOV, ktorí dennodenne intenzívne pracujú s deťmi s PAS. Jeden takýto pracovník môže v rovnakom čase pracovať maximálne s 2 deťmi (v skupine 8 detí s PAS musia byť v rovnakom čase 4 behaviorálni technici). Aktuálne na Slovensku títo pracovníci chýbajú úplne. Neexistuje oficiálna, ani neoficiálna vzdelávacia aktivita, ktorá by zabezpečovala prípravu týchto pracovníkov. Predmetom projektu je vytvorenie takéhoto vzdelávacieho programu, vytvorenie učebných zdrojov, realizácia pilotného vzdelávania pre 10 uchádzačov a následne overenie vytvoreného vzdelávacieho programu v praxi v práci s deťmi s PAS. Vytvorenie vzdelávacieho štandardu pre prípravu behaviorálnych technikov umožní opakovanú realizáciu takto pripravenej vzdelávacej aktivity a postupne pripravovať pre trh dostatočné množstvo odborníkov, ktorí budú pracovať na integrácií detí s PAS do spoločnosti. Dostatočné množstvo odborných pracovníkov (behaviorálnych technikov) umožní žiadateľovi rozvíjať ďalšie aktivity v práci s deťmi s PAS. | I18: Bratislava, SK01 Bratislavský kraj | J18: 44481 | K18: schválená | L18: 44898 | M18: 99987 | N18: 16. | O18: 1597/2021 | P18: 48592.5 | R18: 44558 | S18: 44559 | T18: 31.03.2022, 31.12.2022 | U18: prebieha vyúčtovanie | V18: prebieha vyúčtovanie
A19: SRIN č. 6/2021 | B19: Centrum rozvoja inovácií | C19: 37824805 | D19: Združenie (zväz, spolok, spoločnosť, klub ai.) | E19: =IFERROR(VLOOKUP(D19,'Číselník právnych foriem ŠÚ SR'!$B:$C,2,0),"") -> 701 | F19: 74_2021 | G19: Rozšírenie funkcionality interiérových výdajných boxov na balíky za účelom digitalizácie vidieka. | H19: Úlohou projektu je technologicky rozšíriť technický stav interiérových výdajných boxov na balíky. Aktuálny systém zahŕňa základnú konštrukciu a ovládací počítač s vlastným softvérom a administračným rozhraním. Inovovaná funkcionalita umožní platiť dobierky za zásielky prostredníctvom kasy v maloobchodných predajniach v obciach, pomocou boxu prijímať zásielky do vlastných rúk zo Slovenskej Pošty a výrazne rozširuje bezpečnosť uloženého tovaru. Za týmto účelom budú vyvíjané riešenia s implementáciami termotlačiarní, čítačiek občianskych preukazov a kamier na báze umelej inteligencie. Pre bezpečnú platbu dobierok je nutné okrem implementácie hardwaru navrhnúť bezúdržbové konštrukčné prvky a bezpečnú softwarovú nadstavbu s ovládačom pre centrálny počítač a aplikačným rozhraním pre pripojenie na systém maloobchodných predajní a administráciu systému. Tento software musí spĺňať bezpečnostné štandardy používané v odbore. Implementáciou čítačky občianskych preukazov docielime predprípravu využitia interiérových boxov pre styk so štátom, prípadne so štátnymi firmami ako je Slovenská Pošta. Ďalším implementovaným prvkom je bezpečnostná kamera s nadstavbou na báze umelej inteligencie pre rozpoznávanie obrazov. Pri vývoji je nutné vytvoriť niekoľko prototypov a následne pripraviť jednotlivé moduly pre testovaciu prevádzku v maloobchodných predajniach, prípadne pre implementáciu štátnych služieb využívajúcich občiansky preukaz, alebo služieb Slovenskej Pošty. Projekt počíta aj s komunikačnou zložkou formou prezentačného webu a náučných videí pre konečných zákazníkov, ale hlavne pre regionálnych producentov, ktorí boxy môžu využívať ako nový distribučný kanál. Inovácia zámeru spočíva v nízkych nákladoch na hardware a otvorenosti distribučnej siete pre malých farmárov a pestovateľov. Nízke náklady na hardware umožňujú box prevádzkovať aj v malých obciach, kde môže byť ústredným prvkom digitalizácie vidieka. | I19: Vajanského 11/A, 984 01 Lučenec | J19: 44481 | K19: neschválená | L19: 44898 | M19: 57000 | N19: 17. | P19: 0
A20: SRIN č. 6/2021 | B20: Mestské divadlo Žilina | C20: 30229839 | D20: Príspevková organizácia | E20: =IFERROR(VLOOKUP(D20,'Číselník právnych foriem ŠÚ SR'!$B:$C,2,0),"") -> 331 | F20: 42_2021 | G20: Digitálna platforma Mestského divadla Žilina | H20: Zámerom projektu je vytvorenie kompletne novej digitálnej platformy Mestského divadla Žilina vo forme webovej aplikácie a digitálnej hardvérovej infraštruktúry, a tým sprístupnenie moderného a inovatívneho spôsobu komunikácie obsahu smerom k návštevníkom divadla nielen v rámci online digitálneho priestoru, ale aj v rámci priestorov divadla. Moderná, responzívna, funkčná, aktuálnym obsahom naplnená webová platforma divadla nebude len informačným zdrojom, ale aj pamäťou inštitúcie a jej archívom. Okrem tradičného a organizačného obsahu divadla bude webová aplikácia poskytovať aj unikátny, presahový audiovizuálny a textový obsah pre registrovaných užívateľov. Súčasťou webovej platformy bude aj samostatný prístup pre zamestnancov divadla, médiá a odbornú verejnosť, ktorí budú mať vlastnú možnosť prihlásenia prostredníctvom používateľského profilu, a ktorý bude slúžiť aj ako nový pracovný nástroj. Súčasťou projektu je zároveň vytvorenie prvého stupňa plánovanej digitálnej infraštruktúry v rámci priestorov divadla vo forme hardvérového vybavenia a nahradenia aktuálnych statických bannerov (clipboardy s plagátmi) dynamickými digitálnymi panelmi. Prínosom projektu je minimalizácia printových výstupov (tlače), zníženie celkovej environmentálnej záťaže, nový a moderný zážitok pre aktívnych návštevníkov a oslovenie nových návštevníkov divadla. | I20: Horný val 3, 010 01 Žilina | J20: 44481 | K20: neschválená | L20: 44898 | M20: 32400 | N20: 18. | P20: 0
A21: SRIN č. 6/2021 | B21: Intesoft, a.s. | C21: 50564412 | D21: Akciová spoločnosť | E21: =IFERROR(VLOOKUP(D21,'Číselník právnych foriem ŠÚ SR'!$B:$C,2,0),"") -> 121 | F21: 66_2021 | G21: Digitalizácia výstražných svetiel a akustickej signalizácie na nechránených železničných priecestiach | H21: Vývoj a zostrojenie zariadenia, ktoré bude nainštalované v blízkosti kritického železničného priecestia (nechráneného mechanickými zábranami), a ktoré bude úplne autonómne bez potreby akejkoľvek obsluhy buď aktivované externým spínačom, alebo zapnuté neustále, aby upozorňovalo vodičov prostredníctvom textovej a zvukovej či hlasovej správy na blížiace za nechránené železničné priecestie. Zariadenie v cieľovom perimetry automaticky prepne signál do tunera FM, ktorý vysiela výstražný signál. Prijímač (pustené autorádio vo vozidle) sa automaticky prepne na FM tuner, aby sa ozvalo varovanie. Podľa štatistiky Dopravnej polície SR dochádza ročne k necelým 130 nehodám pri zrážke vlaku s motorovým vozidlom na priecestí, pri ktorých vyhasne v priemere 10 ľudských životov, obdobne je aj ťažko zranených osôb, a viac ako dvojnásobok ľahko zranených osôb. Len priama hodnota takto ročne stratených životov bez započítania priamej a nepriamej škody na majetku ako aj bez dopadu na ťažko a ľahko zranené osoby presahuje pri hodnote QALY 8 (quality-adjusted life-year) ročne 40 mil. €. Prospech z osadenia zariadenia bude mať tak okrem širokej motoristickej verejnosti prostredníctvom zníženia fatálnych následkov na ľudské životy aj železničný dopravca ako aj prevádzkovateľ železničnej infraštruktúry, ktorým sa znížia straty z poškodeného majetku. | I21: Sabinovská, 10, Bratislava | J21: 44481 | K21: neschválená | L21: 44898 | M21: 99723 | N21: 19. | P21: 0
A22: SRIN č. 6/2021 | B22: Slovenská technická univerzita v Bratislave | C22: 397687 | D22: Verejnoprávna inštitúcia | E22: =IFERROR(VLOOKUP(D22,'Číselník právnych foriem ŠÚ SR'!$B:$C,2,0),"") -> 382 | F22: 29_2021 | G22: Rozvoj transferu technológii v podmienkach STU a priama aplikácia predmetov priemyselného vlastníctva do praxe. | H22: Cieľom projektu je podpora rozvoju transferu technológii v podmienkach STU a priama aplikácia predmetov priemyselného vlastníctva do praxe. Komplexné využívanie rozvojového potenciálu STU v oblastiach využitia nanotechnológií, priemyselných technológií a IKT smerom prepájať jednotlivé fakulty STU (FEI, FAD, SjF, FIIT a pod.) venujúce sa inováciám vrátane podpory vzájomnej spolupráce a prepájanie verejného sektora, akademickej obce s podnikateľským prostredím. | I22: Vazovova 5, Bratislava | J22: 44481 | K22: neschválená | L22: 44898 | M22: 100000 | N22: 20. | P22: 0
A23: SRIN č. 6/2021 | B23: VUIS - CESTY, spol. s r. o. | C23: 17310229 | D23: Spoločnosť s ručením obmedzeným | E23: =IFERROR(VLOOKUP(D23,'Číselník právnych foriem ŠÚ SR'!$B:$C,2,0),"") -> 112 | F23: 37_2021 | G23: Inovácie v cestnom staviteľstve | H23: Účelom projektu je vytvorenie spoločnej vedomostnej a praktickej základne medzi výskumnou organizáciou a odborníkmi z podnikateľského subjektu na zdieľanie vedomostí, informácií a praktických aplikácii na rôznych úrovniach v oblasti cestného staviteľstva. VUIS - CESTY, spol. s r. o. má vytvorený dlhodobý strategický zámer rozvoja pre oblasť vedy a výskumu, ktorým je pôsobenie v oblasti prípravy a realizácie projektov v oblasti cestného staviteľstva s priamym naviazaním na aplikačnú sféru. Účely projektu vidíme v troch základných úrovniach: vytýčenie si spoločných tém vedeckej komunity a podnikateľských subjektov, laboratórne preverenie technologického modelu a transfer poznatkov a technológie do praxe, informovanosť pre širokú odbornú verejnosť. Výskum a vývoj bude zameraný predovšetkým na skvalitnenie technologického postupu v cestnom staviteľstve, možnosti spôsobu opätovného využitia existujúceho materiálu, efektívne a ekologické zapracovanie plastového odpadu do materiálov tvoriacich konštrukčnú vrstvu ciest. Treba podotknúť, že zámery projektu sú na Slovensku na istých úrovniach riešené, avšak stále sme svedkami toho, že prepojenosť a zdieľanie informácií a možno aj komunikácia medzi vedeckou komunitou a aplikačnou sférou nedosiahli úroveň, ktorú by sme očakávali. Výsledkom realizácie projektu je vytvorenie stabilného zázemia pre komunikáciu a riešenie reálnych problémov podnikateľského subjektu s vedeckou sférou, intenzívnym vedeckým prístupom rozvíjať a zavádzať inovačné technológie a zdieľanie informácií pomocou rôznych informačných a komunikačných technológií. | I23: Bratislava | J23: 44481 | K23: neschválená | L23: 44898 | M23: 48545 | N23: 21. | P23: 0
A24: SRIN č. 6/2021 | B24: Ťahanovská záhrada | C24: 52101606 | D24: Združenie (zväz, spolok, spoločnosť, klub ai.) | E24: =IFERROR(VLOOKUP(D24,'Číselník právnych foriem ŠÚ SR'!$B:$C,2,0),"") -> 701 | F24: 26_2021 | G24: Experimentálne overovanie slobodného demokratického vzdelávania | H24: Zmiešaným kvalitatívno-kvantitatívnym výskumom overiť v praxi a slovenskom kultúrno-spoločenskom kontexte zahraničný model slobodnej demokratickej školy so sebariadeným vzdelávaním (typ Summerhill) jeho experimentálnym overovaním v základnej škole v zmysle §14 zák. 245/2008 Z. z. o výchove a vzdelávaní na základe zámeru schváleného min. školstva a štátneho pedagogického ústavu. V tejto prvej fáze longitudálneho výskumu pôjde o prvotné aktivity spolupráce s partnermi, vytvorenie anamnestického dotazníka, zazmluvnenie univerzít a ďalších partnerov za účelom zabezpečenia údajov výskumnej i kontrolnej skupiny, tvorbu podporných materiálov a zaškolenie personálu a partnerov, nákup a realizáciu testov v prvom roku. | I24: Ťahanovská 74, Košice, resp. v zriaďovateľom zriadených organizáciách, parcely 817+872+866 kat. územia Ťahanovce, obec Košice-Ťahanovce | J24: 44481 | K24: neschválená | L24: 44898 | M24: 30000 | N24: 22. | P24: 0
A25: SRIN č. 6/2021 | B25: Impact Games | C25: 52659917 | D25: Združenie (zväz, spolok, spoločnosť, klub ai.) | E25: =IFERROR(VLOOKUP(D25,'Číselník právnych foriem ŠÚ SR'!$B:$C,2,0),"") -> 701 | F25: 39_2021 | G25: EduImpact 2030: Akceleračný ekosystém pre inovácie vo vzdelávaní na Slovensku v zmysle Agendy 2030 | H25: Projekt cez činnosť žiadateľa podporí školský inovačný program implementácie digitálnych inovácií na slovenských stredných školách – konkrétne hier s presahom na Agendu 2030. Projekt Zároveň cez unikátnu dlhodobú spoluprácu žiadateľa s organizáciou Butterfly Effect podporí vzdelávací akcelerátor pre mladých profesionálov, zvyšujúci ich uplatniteľnosť v sektore IT a herného vývoja na Slovensku. Projekt má týmito dvoma iniciatívami za cieľ ďalej kreovať a vytvárať stabilný ekosystém pre digitálnu modernizáciu slovenského sektora vzdelávania, v cykle od tvorby produktu až po jeho implementáciu na školách a odovzdávania know how školám. | I25: Bratislava | J25: 44481 | K25: neschválená | L25: 44898 | M25: 70870 | N25: 23. | P25: 0
A26: SRIN č. 6/2021 | B26: BITERAP | C26: 31256805 | D26: Záujmové združenie právnických osôb | E26: =IFERROR(VLOOKUP(D26,'Číselník právnych foriem ŠÚ SR'!$B:$C,2,0),"") -> 751 | F26: 46_2021 | G26: SCANaaS - platforma ako služba na báze 3D skenovania kvality dreva | H26: Vývoj inovatívnej platformy, ktorý predpokladá centralizovaný proces pre trh a správu merania kvality dreva. Inovatívnou zložkou je aj vybudovanie automatizovaného nástroja na popis a certifikáciu výstupov pre zainteresované strany. Projekt má ambíciu uľahčiť spájanie celého výrobného hodnotového reťazca, primárne v lesníckom a drevospracujúcom sektore. | I26: Letná 42, Košice | J26: 44481 | K26: neschválená | L26: 44898 | M26: 64889.75 | N26: 24. | P26: 0
A27: SRIN č. 6/2021 | B27: Spanner SK, k.s. | C27: 36348287 | D27: Komanditná spoločnosť | E27: =IFERROR(VLOOKUP(D27,'Číselník právnych foriem ŠÚ SR'!$B:$C,2,0),"") -> 113 | F27: 41_2021 | G27: Zriadenie inovačného strediska na rozvoj inovácií v regióne Považia | H27: Projekt je zameraný na zriadenie inovačného strediska na rozvoj inovácií v regióne Považia v priestoroch spoločnosti Spanner SK, k.s. Základnou súčasťou zaktivizovania prác na projekt je vybudovanie inovačného strediska a znalostnej platformy, vzťahov a prepojenia akademickej pôdy s podnikateľskou praxou, kde spoločnosť Spanner SK, k.s. poskytne svoje priestory, know-how, vývojové, ľudské a výrobné kapacity, vďaka čomu budú môcť univerzity realizovať vývojové aktivity v spolupráci s podnikom s následným uplatnením na trhu. Jedným z bodov projektu je ďalší vývoj smart zariadenia určeného na zefektívnenie zberu separovaného odpadu, ktoré aktuálne dosahuje stupeň TRL 4, so zámerom dosahovať vyššie stupne TRL. Prínosom projektu realizovaného v kooperácii podniku s univerzitou, bude výpočet energetickej náročnosti smart zariadenia na zber a zmenšovanie separovaného odpadu, ktoré by bolo poháňané obnoviteľnými zdrojmi energie. Zároveň v rámci projektu bude dochádzať k zdieľaniu inovatívnych myšlienok, metód a postupov, zisťovanie reálnych potrieb trhu vďaka vybudovanému inovačnému stredisku. Príprava prepojenia so zahraničnými subjektmi a partnermi bude neoddeliteľnou súčasťou realizácie projektu. Projekt bude prínosom nie len pre lokálnu ekonomiku, ale tiež ekonomiku Slovenska ako takú a v budúcnosti umožní budovať dobré meno Slovenska i v zahraničí. | I27: Robotnícka 4352, 017 01 Považská Bystrica | J27: 44481 | K27: neschválená | L27: 44898 | M27: 51290 | N27: 25. | P27: 0
A28: SRIN č. 6/2021 | B28: PredictiveDataScience s.r.o. | C28: 51190851 | D28: Spoločnosť s ručením obmedzeným | E28: =IFERROR(VLOOKUP(D28,'Číselník právnych foriem ŠÚ SR'!$B:$C,2,0),"") -> 112 | F28: 23_2021 | G28: Predictive Data Science Artificial Intelligence Platform | H28: Našim výskumným zámerom je návrh a realizácia platformy pre predikciu výpadkov výroby a identifikáciu trendov efektivity výroby vo výrobných podnikoch – „PredictiveDataScience Artificial Intelligence Platform“. Riešenie zahŕňa zber dát z výrobného procesu výroby automobilov a ich následného uloženia do vhodného Big Data úložiska. Následne budú zozbierané dáta analyzované pomocou metód umelej inteligencie ako napr. neurónové siete, strojové učenie a pod. za účelom získania znalostí o výrobnom procese použiteľných pre predchádzanie výpadkov výroby, pre prediktívnu údržbu výrobných zariadení a po dodatočnom prísune dát z jazdenia automobilu v prevádzka, aj prediktívne servisovanie vyrobených automobilov. | I28: Jána Bottu 2744/24, 917 24 Trnava | J28: 44481 | K28: neschválená | L28: 44898 | M28: 100000 | N28: 26. | P28: 0
A29: SRIN č. 6/2021 | B29: Malai Biomaterials Design s.r.o. | C29: 52407357 | D29: Spoločnosť s ručením obmedzeným | E29: =IFERROR(VLOOKUP(D29,'Číselník právnych foriem ŠÚ SR'!$B:$C,2,0),"") -> 112 | F29: 54_2021 | G29: Kondenzačná sušiareň s rekuperáciou | H29: Projekt sa zaoberá technologickým riešením znižujúcim energetickú náročnosť procesov sušenia a účinnejšie využívanie energetických zdrojov so znížením dopadov na životné prostredie. Zdrojom tepla bežne dostupných sušiarni je elektrická energia alebo plyn s priamym ohrevom sušiaceho vzduchu. Proces je energeticky náročný. Energetická náročnosť ma dopad na cenu produktu a environmentálny vo forme vysokej uhlíkovej stopy. Žiadateľom vyvíjaný prototyp kondenzačnej sušiarne s rekuperáciou ako zdroj tepla pre sušenie využíva latentne teplo získané z cirkulačného sušiaceho vzduchu. Týmto riešením sa zníži spotreba energie až o 80% voči sušiarňam s priamym ohrevom. To má výrazný dopad na zníženie nákladov prevádzkovateľov a zníženie uhlíkovej stopy. Využitie vyvíjanej kondenzačnej sušiarne s rekuperáciou pre sušenie: biokompozitných materiálov, poľnohospodárstvo, potravinárstvo, kozmetický, farmaceutický priemysel, sušenie tvrdého dreva v nábytkárskom priemysle. Technologické riešenie sušiarne a výpočtová spotreba spĺňajú požiadavky Európskeho ekologického dohovoru a environmentálneho aspektu Eko-inovácie. | I29: Vinne 225, 07231, okr. Michalovce (Dolny Zemplin) | J29: 44481 | K29: neschválená | L29: 44898 | M29: 99576 | N29: 27. | P29: 0
A30: SRIN č. 6/2021 | B30: Living Elements s.r.o. | C30: 52193063 | D30: Spoločnosť s ručením obmedzeným | E30: =IFERROR(VLOOKUP(D30,'Číselník právnych foriem ŠÚ SR'!$B:$C,2,0),"") -> 112 | F30: 51_2021 | G30: Prototyp druhej generácie SpirulinaLamp | H30: Úlohou projektu je experimentálny vývoj a výroba prototypu druhej generácie SpirulinaLamp – patentovo chráneného produktu slovenského pôvodu prispievajúcemu k Agende 2030 pre udržateľný rozvoj. SpirulinaLamp je revolučný spotrebič pre domácnosť, ktorý umožňuje výrobu čerstvých superpotravín riasy Spirulina doma s používateľským pohodlím podobným najlepším dostupným automatickým kávovarom. Projekt je v súlade s požiadavkami politiky Green Deal a prispieva k cieľom udržateľného rozvoja definovaným v Agende 2030 pre udržateľný rozvoj. | I30: Nitra, Bratislava | J30: 44481 | K30: neschválená | L30: 44898 | M30: 74480 | N30: 28. | P30: 0
... A48: SRIN č. 6/2021 | B48: J-W DREAMS, s.r.o. | C48: 46590706 | D48: Spoločnosť s ručením obmedzeným | E48: =IFERROR(VLOOKUP(D48,'Číselník právnych foriem ŠÚ SR'!$B:$C,2,0),"") -> 112 | F48: 69_2021 | G48: Zvýšenie bezpečnosti na motocykloch/skútroch a zníženie nehodovosti v cestnej premávke Slovenskej republiky pre edukačné účely. | H48: Cieľom projektu je zvýšiť povedomie bezpečnej jazdy na motocykloch, určené pre širokú verejnosť (občana Slovenskej republiky, ako edukačné nadstavbové vzdelávanie napr. po absolvovaní autoškoly, resp. dovzdelávanie a získanie know-how bezpečnej jazdy, resp. po dlhodobom nevyužívaní motocykla a pod.), kde hlavným zámerom projektu je znížiť nehodovosť cestnej premávky (odôvodnenej štatistickými dátami, resp. spoločnosťami disponujúcimi uvedenými dátami). | I48: SNP 7/15, Nová Dubnica 018 51 | J48: 44481 | K48: neschválená | L48: 44898 | M48: 79515 | N48: 46. | P48: 0
A49: SRIN č. 6/2021 | B49: C.G.C., a.s. | C49: 35747811 | D49: Akciová spoločnosť | E49: =IFERROR(VLOOKUP(D49,'Číselník právnych foriem ŠÚ SR'!$B:$C,2,0),"") -> 121 | F49: 13_2021 | G49: Centrálny monitoring polohy, stavu a akcieschopnosti kľučových pracovníkov kritickej infraštruktúry pomocou IoT | H49: Cieľom projektu je zvoliť a skombinovať jestvujúce technológie a dovyvinúť technické prostriedky, softvérové aplikácie a integračné rozhrania pre vybavenie kľúčových pracovníkov technickým zariadením alebo aplikáciou do smart telefónu, umožňujúcim jeho trvalý dohľad vo vnútorných a vonkajších priestoroch na pracovisku, aby sa predišlo výpadkom, ktoré môžu viesť ku stratám na majetku a životoch. Používateľom takéhoto riešenia môžu byť všetky spoločnosti kladúce dôraz na ochranu zdravia a života svojich pracovníkov. | I49: Drobného 27, Bratislava | J49: 5.10.2021, 11.10.2021, 12.10.2021 | K49: neschválená | L49: 44898 | M49: 91200 | N49: 47. | P49: 0
A50: SRIN č. 6/2021 | B50: CRAT, s.r.o. | C50: 50487698 | D50: Spoločnosť s ručením obmedzeným | E50: =IFERROR(VLOOKUP(D50,'Číselník právnych foriem ŠÚ SR'!$B:$C,2,0),"") -> 112 | F50: 18_2021 | G50: Projektový aukčný a kontraktačný systém | H50: Predmetom projektu je návrh a realizácia projektového aukčného a kontraktačného systému pre získavanie relevantných a transparentných ponúk s dôrazom na rovnosť príležitostí, optimálnu trhom stanovenú cenu, manažment bonity ako i na získavanie nových partnerov na strategickú spoluprácu. | I50: CRAT, s.r.o., Kragujevská 1, 010 01 Žilina, parcelné číslo 3512/6 | J50: 44480 | K50: neschválená | L50: 44898 | M50: 61236 | N50: 48. | P50: 0
A51: SRIN č. 6/2021 | B51: SocUtilitas s.r.o. | C51: 52494713 | D51: Spoločnosť s ručením obmedzeným | E51: =IFERROR(VLOOKUP(D51,'Číselník právnych foriem ŠÚ SR'!$B:$C,2,0),"") -> 112 | F51: 16_2021 | G51: Mac Egg | H51: Na príbeh vzniku myšlienky projektu Mac Egg sa môžeme pozrieť z viacerých perspektív. Vajíčko na jednej strane predstavuje zrod niečoho nového. A blockchain a krypto svet sú relatívne mladou technológiou a predstavujú teda niečo nové. Taktiež sa stále vyvíjajú tak, ako sa vyvíja život z vajíčka. Na druhej strane umenie predstavuje niečo staré, čo je tu s nami už po stáročia. A medzi starým a novým vždy nájdeme spojenie a istú synchronicitu a harmóniu. | I51: Viedenská cesta 3-7, 851 01 Bratislava | J51: 44481 | K51: neschválená | L51: 44898 | M51: 92000 | N51: 49. | P51: 0
A52: SRIN č. 6/2021 | B52: KO+MA, s. r. o. | C52: 53051823 | D52: Spoločnosť s ručením obmedzeným | E52: =IFERROR(VLOOKUP(D52,'Číselník právnych foriem ŠÚ SR'!$B:$C,2,0),"") -> 112 | F52: 52_2021 | G52: Tvorba investičnej platformy KO+MA | H52: Cieľ projektu je vytvorenie investičnej platformy v Slovenskej republike pre podporu inovatívnych podnikateľských zámerov v ranej fáze podnikania. Účel projektu je umožniť inovátorom pôsobiacim na Slovensku premeniť svoje technologicky prevratné podnikateľské zámery do reálnych produktov a služieb na trhu a investorom rizikového kapitálu poskytnúť jedinečnú investičnú príležitosť. Finančne podporené projekty budú zároveň profitovať z prepojenia s členmi klastra INOVATO, akademickou obcou a medzinárodnými partnermi, s ktorými klaster spolupracuje. | I52: Bratislava | J52: 44481 | K52: neschválená | L52: 44898 | M52: 95000 | N52: 50. | P52: 0
A53: SRIN č. 6/2021 | B53: DS Smart, s.r.o | C53: 51193159 | D53: Spoločnosť s ručením obmedzeným | E53: =IFERROR(VLOOKUP(D53,'Číselník právnych foriem ŠÚ SR'!$B:$C,2,0),"") -> 112 | F53: 21_2021 | G53: Virtuálne riadené AGV (automated guided vehicle) | H53: Zostrojiť AGV ktoré sa dá bezpečne riadiť pomocou virtuálneho priestoru ( digital twin). Sprístupniť obsluhu AGV teleoperátorom, ktorí môžu byť aj handicapované osoby. | I53: Prevádzka DS Smart; Zavarská 10/L; 917 01 Trnava | J53: 44481 | K53: neschválená | L53: 44898 | M53: 100000 | N53: 51. | P53: 0
A54: SRIN č. 6/2021 | B54: Creative Industry Košice, n.o. | C54: 35583461 | D54: Nezisková organizácia | E54: =IFERROR(VLOOKUP(D54,'Číselník právnych foriem ŠÚ SR'!$B:$C,2,0),"") -> 119 | F54: 44_2021 | G54: C2B – Creativity to Business (Kreativita pre biznis) | H54: Projekt poskytne začínajúcim podnikateľom a firmám v Košickom kraji cez medzisektorovú spoluprácu s kreatívnym priemyslom zručnosti a vedomosti inovatívnych riešení v sektore online marketingu a propagácie. Projekt sa bude realizovať prostredníctvom stáže kreatívnych profesionálov vo vybraných firmách. Inovačne riešenia budú odprezentované aj pre širšiu verejnosť na záverečnom verejnom podujatí Creativty Fair. | I54: Kukučínová 2, 040 02 Košice | J54: 44481 | K54: neschválená | L54: 44898 | M54: 42378.75 | N54: 52. | P54: 0
A55: SRIN č. 6/2021 | B55: OZ Road Racing Slovakia | C55: 52097986 | D55: Združenie (zväz, spolok, spoločnosť, klub ai.) | E55: =IFERROR(VLOOKUP(D55,'Číselník právnych foriem ŠÚ SR'!$B:$C,2,0),"") -> 701 | F55: 62_2021 | G55: STOP Nehodám | H55: Verejne dostupná pomoc odborníkov pre „individuálne samostatné školenia“ motocyklistov v krízových situáciách, s cieľom predchádzania a zníženia nehodovosti na cestných komunikáciách, súčasťou čoho je aj motoškola STOP Nehodám zameraná na motocyklistov. | I55: Územie Slovenskej republiky | J55: 44481 | K55: neschválená | L55: 44898 | M55: 82961 | N55: 53. | P55: 0
A56: SRIN č. 6/2021 | B56: Občianske združenie NEKVINUM polgári társulás | C56: 37897471 | D56: Združenie (zväz, spolok, spoločnosť, klub ai.) | E56: =IFERROR(VLOOKUP(D56,'Číselník právnych foriem ŠÚ SR'!$B:$C,2,0),"") -> 701 | F56: 15_2021 | G56: NEKVINUM | H56: Cieľom projektu je inovatívny prístup k rozvoju regiónu v pôsobnosti občianskeho združenia NEKVINUM. Úlohou projektu je využívanie modernej technológie, ktorá pomôže zveľadeniu a obhospodarovaniu extravilánu v obci Vinica. V našom prípade sa jedná o diaľkovo ovládaný stroj, ktorý je ovládaný jedným joystickom. Stroj plánujeme využiť pri práci v nebezpečných, strmých a neprístupných oblastiach, keďže disponuje pásovým podvozkom, čo umožňuje jeho využitie takmer na každom svahu. Stroj umožní lepšie a kvalitnejšie obhospodarovanie, ušetrí čas a pracovnú silu, ktorú môže občianske združenie využiť v prospech iných dôležitých činností pre rozvoj. | I56: obec Vinica | J56: 44481 | K56: neschválená | L56: 44898 | M56: 100000 | N56: 54. | P56: 0
A57: SRIN č. 6/2021 | B57: CareSee s.r..o. | C57: 52591581 | D57: Spoločnosť s ručením obmedzeným | E57: =IFERROR(VLOOKUP(D57,'Číselník právnych foriem ŠÚ SR'!$B:$C,2,0),"") -> 112 | F57: 40_2021 | G57: Efektívne digitalizované inteligentné dokumentovanie v sociálnych službách s prepojením na štátnu správu. | H57: Príprava moderného digitalizovaného inteligentného dokumentovania v sociálnych službách. Prepojenie jednotlivých formulárov, predikcie rizík, spracovanie mimoriadnych udalostí, prepojenie vykazovania a štatistík pre štátnu správu. Efektívny zber dát z terénnych aj pobytových sociálnych služieb z digitalizovaných formulárov, zabezpečenie kvality a správnej legislatívy v sociálnych službách. Systematizácia a zjednotenie procesov v sociálnych službách prostredníctvom digitalizovaných aktívnych dokumentov v rámci VUC aj SVK. | I57: CareSee s.r.o, Bernolákova 4, 908 51 Holíč | J57: 44481 | K57: neschválená | L57: 44898 | M57: 75500 | N57: 55. | P57: 0
A58: SRIN č. 6/2021 | B58: Dominika Blašková | C58: 53269942 | D58: Podnikateľ-fyzická osoba-nezapísaný v obchodnom registri | E58: =IFERROR(VLOOKUP(D58,'Číselník právnych foriem ŠÚ SR'!$B:$C,2,0),"") -> 101 | F58: 34_2021 | G58: Cesta do budúcnosti | H58: Predchádzanie sociálneho vylúčenia znevýhodnených skupín obyvateľstva a budovanie pozitívneho vzťahu k lokálnej ekonomike. Účelom projektu je zvýšiť zručnosti obyvateľov sociálne vylúčených komunít v súlade s požiadavkami trhu práce a zvýšením ich zamestnanosti a tým prispieť k zmierneniu negatívnych dôsledkov ich sociálneho vylúčenia vytvorením 4 pracovných miest v stavebníctve. Zamestnanci, ktorí budú zapojení do projektu, získajú potrebné pracovné návyky a zručnosti, budú sa môcť uplatniť v stavebníctve a na konci projektu dostanú odporúčania, ktoré im napomôžu pri uplatnení sa na trhu práce. Prínos tohto projektu budú mať nielen priami účastníci projektu, ale aj ich rodinní príslušníci a ďalší obyvatelia segregovanej oblasti. Sekundárnym prínosom realizácie projektu je terapeutický účinok práce, ktorý minimalizuje negatívne emócie človeka, zbližuje rodiny, znižuje napätie medzi komunitami aj jednotlivcami. | I58: p.č. 662/69, Katastrálne územie Pača, okres Rožňava | J58: 44481 | K58: neschválená | L58: 44898 | M58: 44382 | N58: 56. | P58: 0
A59: SRIN č. 6/2021 | B59: LearnIT Academy o.z. | C59: 53668022 | E59: =IFERROR(VLOOKUP(D59,'Číselník právnych foriem ŠÚ SR'!$B:$C,2,0),"") | F59: 8_2021 | G59: 0 | H59: 0 | I59: 0 | J59: 0 | K59: neschválená | M59: 0 | N59: 0 | P59: 0
A60: SRIN č. 6/2021 | B60: Slovenské športové inovačné centrum v anglickom jazyku The Slovak Sport Inovation Center | C60: 53277808 | E60: =IFERROR(VLOOKUP(D60,'Číselník právnych foriem ŠÚ SR'!$B:$C,2,0),"") | F60: 75_2021 | G60: 0 | H60: 0 | I60: 0 | J60: 44482 | K60: neschválená | M60: 0 | N60: 0 | P60: 0
A61: SRIN č. 6/2021 | B61: Ženský algoritmus | C61: 53284135 | E61: =IFERROR(VLOOKUP(D61,'Číselník právnych foriem ŠÚ SR'!$B:$C,2,0),"") | F61: 63_2021 | G61: 0 | H61: 0 | I61: 0 | J61: 44481 | K61: neschválená | M61: 0 | N61: 0 | P61: 0
A62: SRIN č. 6/2021 | B62: BEE s.r.o. | C62: 36253456 | E62: =IFERROR(VLOOKUP(D62,'Číselník právnych foriem ŠÚ SR'!$B:$C,2,0),"") | F62: 3_2021 | G62: 0 | H62: 0 | I62: 0 | J62: 0 | K62: neschválená | M62: 0 | N62: 0 | P62: 0
A63: SRIN č. 6/2021 | B63: DOBRÝ PASTIER - KLÁŠTOR POD ZNIEVOM, o.z. | C63: 42066387 | E63: =IFERROR(VLOOKUP(D63,'Číselník právnych foriem ŠÚ SR'!$B:$C,2,0),"") | F63: 24_2021 | G63: 0 | H63: 0 | I63: 0 | J63: 0 | K63: neschválená | M63: 0 | N63: 0 | P63: 0
A64: SRIN č. 6/2021 | B64: Ing. Gabriel Šille - GŠ TAXI | C64: 36999067 | E64: =IFERROR(VLOOKUP(D64,'Číselník právnych foriem ŠÚ SR'!$B:$C,2,0),"") | F64: 2_2021 | G64: 0 | H64: 0 | I64: 0 | J64: 0 | K64: neschválená | M64: 0 | N64: 0 | P64: 0
A65: SRIN č. 6/2021 | B65: Raumen Slovakia s.r.o. | C65: 50245261 | E65: =IFERROR(VLOOKUP(D65,'Číselník právnych foriem ŠÚ SR'!$B:$C,2,0),"") | F65: 68_2021 | G65: 0 | H65: 0 | I65: 0 | J65: 0 | K65: neschválená | M65: 0 | N65: 0 | P65: 0
A66: SRIN č. 6/2021 | B66: WEBConnect s.r.o. | C66: 34149112 | E66: =IFERROR(VLOOKUP(D66,'Číselník právnych foriem ŠÚ SR'!$B:$C,2,0),"") | F66: 4_2021 | G66: 0 | H66: 0 | I66: 0 | J66: 0 | K66: neschválená | M66: 0 | N66: 0 | P66: 0
E67: =IFERROR(VLOOKUP(D67,'Číselník právnych foriem ŠÚ SR'!$B:$C,2,0),"")
E68: =IFERROR(VLOOKUP(D68,'Číselník právnych foriem ŠÚ SR'!$B:$C,2,0),"")
E69: =IFERROR(VLOOKUP(D69,'Číselník právnych foriem ŠÚ SR'!$B:$C,2,0),"")
E70: =IFERROR(VLOOKUP(D70,'Číselník právnych foriem ŠÚ SR'!$B:$C,2,0),"")
E71: =IFERROR(VLOOKUP(D71,'Číselník právnych foriem ŠÚ SR'!$B:$C,2,0),"")
E72: =IFERROR(VLOOKUP(D72,'Číselník právnych foriem ŠÚ SR'!$B:$C,2,0),"")
E73: =IFERROR(VLOOKUP(D73,'Číselník právnych foriem ŠÚ SR'!$B:$C,2,0),"")
E74: =IFERROR(VLOOKUP(D74,'Číselník právnych foriem ŠÚ SR'!$B:$C,2,0),"")
E75: =IFERROR(VLOOKUP(D75,'Číselník právnych foriem ŠÚ SR'!$B:$C,2,0),"")
E76: =IFERROR(VLOOKUP(D76,'Číselník právnych foriem ŠÚ SR'!$B:$C,2,0),"")
E77: =IFERROR(VLOOKUP(D77,'Číselník právnych foriem ŠÚ SR'!$B:$C,2,0),"")
E78: =IFERROR(VLOOKUP(D78,'Číselník právnych foriem ŠÚ SR'!$B:$C,2,0),"")
... E256: =IFERROR(VLOOKUP(D256,'Číselník právnych foriem ŠÚ SR'!$B:$C,2,0),"")

Sheet Číselník právnych foriem ŠÚ SR
A1: Kód | B1: Názov | C1: Kód
A2: 100 | B2: Fyzická osoba-príležitostne činná-zapísaná v registri daňového informačného systému | C2: 100
A3: 101 | B3: Podnikateľ-fyzická osoba-nezapísaný v obchodnom registri | C3: 101
A4: 102 | B4: Podnikateľ-fyzická osoba-zapísaný v obchodnom registri | C4: 102
A5: 103 | B5: Samostatne hospodáriaci roľník nezapísaný v obchodnom registri | C5: 103
A6: 104 | B6: Samostatne hospodáriaci roľník zapísaný v obchodnom registri | C6: 104
A7: 105 | B7: Slobodné povolanie-fyzická osoba podnikajúca na základe iného ako živnostenského zákona | C7: 105
A8: 106 | B8: Slobodné povolanie-fyzická osoba podnikajúca na základe iného ako živnostenského zákona zapísaná v obchodnom registri | C8: 106
A9: 107 | B9: Podnikateľ-fyzická osoba-nezapís.v OR-podnikajúca súčasne ako sam.hosp.roľník | C9: 107
A10: 108 | B10: Podnikateľ-fyzická osoba-zapís.v OR-podnikajúca súčasne ako sam.hosp.roľník | C10: 108
A11: 109 | B11: Podnikateľ-fyzická osoba-nezapís.v OR-podnikajúca súčasne ako osoba so slobodným povolaním | C11: 109
A12: 110 | B12: Podnikateľ-fyzická osoba-zapís.v OR-podnikajúca súčasne ako osoba so slobodným povolaním | C12: 110
A13: 111 | B13: Verejná obchodná spoločnosť | C13: 111
... A58: 273 | B58: Združenie účastníkov pozemkových úprav | C58: 273
A59: 000 | B59: fyzická osoba, ktorá dovŕšila vek 18 rokov | C59: 000
