Workbook

Sheet Schéma_vyplnenie
A1: Súhrnná informácia o poskytnutých prostriedkoch
A2: Identifikátor schémy | B2: Názov dotačnej schémy | C2: Legislatívny predpis | D2: Identifikátor legislatívneho predpisu | E2: Alokované prostriedky na schému | F2: Zdroj financovania | G2: Kód zdroja financovania | H2: Názov poskytovateľa | I2: IČO poskytovateľa
A3: 1 | B3: Podpora regionálneho rozvoja | C3: zákon o podpore regionálneho rozvoja | D3: 539/2008 | E3: 18710178 | F3: Štátny rozpočet | G3: =IFERROR(VLOOKUP(F3,'Číselník zdrojov financovanie'!$B:$C,2,0),"") -> 5 | H3: Ministerstvo investícií, regionálneho rozvoja a informatizácie SR | I3: 50 349 287
A4: 2 | B4: Podpora najmenej rozvinutých okresov | C4: zákon o podpore najmenej rozvinutých okresov | D4: 336/2015 | E4: 9665273.9 | F4: Štátny rozpočet | G4: =IFERROR(VLOOKUP(F4,'Číselník zdrojov financovanie'!$B:$C,2,0),"") -> 5 | H4: Ministerstvo investícií, regionálneho rozvoja a informatizácie SR | I4: 50 349 287
G5: =IFERROR(VLOOKUP(F5,'Číselník zdrojov financovanie'!$B:$C,2,0),"")
G6: =IFERROR(VLOOKUP(F6,'Číselník zdrojov financovanie'!$B:$C,2,0),"")
G7: =IFERROR(VLOOKUP(F7,'Číselník zdrojov financovanie'!$B:$C,2,0),"")
G8: =IFERROR(VLOOKUP(F8,'Číselník zdrojov financovanie'!$B:$C,2,0),"")
G9: =IFERROR(VLOOKUP(F9,'Číselník zdrojov financovanie'!$B:$C,2,0),"")
G10: =IFERROR(VLOOKUP(F10,'Číselník zdrojov financovanie'!$B:$C,2,0),"")
G11: =IFERROR(VLOOKUP(F11,'Číselník zdrojov financovanie'!$B:$C,2,0),"")
G12: =IFERROR(VLOOKUP(F12,'Číselník zdrojov financovanie'!$B:$C,2,0),"")
G13: =IFERROR(VLOOKUP(F13,'Číselník zdrojov financovanie'!$B:$C,2,0),"")
G14: =IFERROR(VLOOKUP(F14,'Číselník zdrojov financovanie'!$B:$C,2,0),"")
G15: =IFERROR(VLOOKUP(F15,'Číselník zdrojov financovanie'!$B:$C,2,0),"")
G16: =IFERROR(VLOOKUP(F16,'Číselník zdrojov financovanie'!$B:$C,2,0),"")
... G337: =IFERROR(VLOOKUP(F337,'Číselník zdrojov financovanie'!$B:$C,2,0),"")
G338: =IFERROR(VLOOKUP(F338,'Číselník zdrojov financovanie'!B:C,2,0),"")

Sheet Číselník zdrojov financovanie
A1: 1 | B1: Finančný mechanizmus EHP/Štátny rozpočet | C1: 1
A2: 2 | B2: Nórsky finančný mechanizmus/Štátny rozpočet | C2: 2
A3: 3 | B3: Nórsky finančný mechanizmus/Finančný mechanizmus EHP | C3: 3
A4: 4 | B4: Švajčiarsky finančný mechanizmus/Štátny rozpočet | C4: 4
A5: 5 | B5: Štátny rozpočet | C5: 5
A6: 6 | B6: Iný | C6: 6
A7: 7 | B7: Európsky fond regionálneho rozvoja | C7: 7
A8: 8 | B8: Európsky sociálny fond | C8: 8
A9: 9 | B9: Kohézny fond | C9: 9
A10: 10 | B10: Európsky poľnohospodársky fond pre rozvoj vidieka | C10: 10
A11: 11 | B11: Európsky námorný a rybársky fond | C11: 11
A12: 12 | B12: Rozpočty územných samospráv | C12: 12

Sheet Výzva_vyplnenie 
A1: Súhrnná informácia o výzve z dotačnej schémy
A2: Identifikátor schémy | B2: názov dotačnej schémy | C2: názov poskytovateľa | D2: IČO poskytovateľa | E2: Identifikátor výzvy | F2: Názov výzvy | G2: Alokované prostriedky na výzvu / disponibilný objem zdrojov | H2: Minimálna výška poskytnutej dotácie / minimálna výška dotácie | I2: Maximálna výška poskytnutej dotácie / maximálna výška dotácie | J2: Termín zverejnenia výzvy / dátum zverejnenia vyzvania | K2: Termín otvorenia podávania žiadostí | L2: Termín ukončenia predkladania žiadostí
A3: =IFERROR(INDEX(Schéma_vyplnenie!A:A,MATCH('Výzva_vyplnenie '!B3,Schéma_vyplnenie!B:B,0),),"") -> 1 | B3: Podpora regionálneho rozvoja | C3: =IFERROR(VLOOKUP(B3,Schéma_vyplnenie!$B:$I,7,0),"") -> Ministerstvo investícií, regionálneho rozvoja a informatizácie SR | D3: =IFERROR(VLOOKUP(B3,Schéma_vyplnenie!$B:$I,8,0),"") -> 50 349 287 | E3: 8270/2021/OSMRR | F3: Podpora regionálneho rozvoja | G3: 2110178 | H3: 10000 | I3: 50000 | J3: 44270 | K3: 44270 | L3: 44301
A4: =IFERROR(INDEX(Schéma_vyplnenie!A:A,MATCH('Výzva_vyplnenie '!B4,Schéma_vyplnenie!B:B,0),),"") -> 1 | B4: Podpora regionálneho rozvoja | C4: =IFERROR(VLOOKUP(B4,Schéma_vyplnenie!$B:$I,7,0),"") -> Ministerstvo investícií, regionálneho rozvoja a informatizácie SR | D4: =IFERROR(VLOOKUP(B4,Schéma_vyplnenie!$B:$I,8,0),"") -> 50 349 287 | E4: 12861/2021/OSMRR | F4: Podpora regionálneho rozvoja | G4: 16600000 | H4: 40000 | I4: 250000 | J4: 44475 | K4: 44475 | L4: 44505
A5: =IFERROR(INDEX(Schéma_vyplnenie!A:A,MATCH('Výzva_vyplnenie '!B5,Schéma_vyplnenie!B:B,0),),"") -> 2 | B5: Podpora najmenej rozvinutých okresov | C5: =IFERROR(VLOOKUP(B5,Schéma_vyplnenie!$B:$I,7,0),"") -> Ministerstvo investícií, regionálneho rozvoja a informatizácie SR | D5: =IFERROR(VLOOKUP(B5,Schéma_vyplnenie!$B:$I,8,0),"") -> 50 349 287 | E5: 04/OÚBJ/2020 | F5: Ročné priority Akčného plánu rozvoja okresu Bardejov na rok 2021 | G5: 941950.8 | H5: - | I5: - | J5: 44046 | K5: 44046 | L5: 44077
A6: =IFERROR(INDEX(Schéma_vyplnenie!A:A,MATCH('Výzva_vyplnenie '!B6,Schéma_vyplnenie!B:B,0),),"") -> 2 | B6: Podpora najmenej rozvinutých okresov | C6: =IFERROR(VLOOKUP(B6,Schéma_vyplnenie!$B:$I,7,0),"") -> Ministerstvo investícií, regionálneho rozvoja a informatizácie SR | D6: =IFERROR(VLOOKUP(B6,Schéma_vyplnenie!$B:$I,8,0),"") -> 50 349 287 | E6: 1/OÚ-KS/2021 | F6: Ročné priority Akčného plánu rozvoja okresu Košice-okolie na rok 2021 | G6: 624250 | H6: - | I6: - | J6: 44076 | K6: 44076 | L6: 44095
A7: =IFERROR(INDEX(Schéma_vyplnenie!A:A,MATCH('Výzva_vyplnenie '!B7,Schéma_vyplnenie!B:B,0),),"") -> 2 | B7: Podpora najmenej rozvinutých okresov | C7: =IFERROR(VLOOKUP(B7,Schéma_vyplnenie!$B:$I,7,0),"") -> Ministerstvo investícií, regionálneho rozvoja a informatizácie SR | D7: =IFERROR(VLOOKUP(B7,Schéma_vyplnenie!$B:$I,8,0),"") -> 50 349 287 | E7: 04/OÚ LE/2020 | F7: Ročné priority Akčného plánu rozvoja okresu Levoča na rok 2021 | G7: 390268 | H7: - | I7: - | J7: 44056 | K7: 44056 | L7: 44085
A8: =IFERROR(INDEX(Schéma_vyplnenie!A:A,MATCH('Výzva_vyplnenie '!B8,Schéma_vyplnenie!B:B,0),),"") -> 2 | B8: Podpora najmenej rozvinutých okresov | C8: =IFERROR(VLOOKUP(B8,Schéma_vyplnenie!$B:$I,7,0),"") -> Ministerstvo investícií, regionálneho rozvoja a informatizácie SR | D8: =IFERROR(VLOOKUP(B8,Schéma_vyplnenie!$B:$I,8,0),"") -> 50 349 287 | E8: 4/OÚMI/2020 | F8: Ročné priority Akčného plánu rozvoja okresu Michalovce na rok 2021 | G8: 1688508 | H8: - | I8: - | J8: 44060 | K8: 44060 | L8: 44091
A9: =IFERROR(INDEX(Schéma_vyplnenie!A:A,MATCH('Výzva_vyplnenie '!B9,Schéma_vyplnenie!B:B,0),),"") -> 2 | B9: Podpora najmenej rozvinutých okresov | C9: =IFERROR(VLOOKUP(B9,Schéma_vyplnenie!$B:$I,7,0),"") -> Ministerstvo investícií, regionálneho rozvoja a informatizácie SR | D9: =IFERROR(VLOOKUP(B9,Schéma_vyplnenie!$B:$I,8,0),"") -> 50 349 287 | E9: 4/OÚ - SV/2021 | F9: Ročné priority Akčného plánu rozvoja okresu Snina na rok 2021 | G9: 400567.49 | H9: - | I9: - | J9: 44053 | K9: 44053 | L9: 44074
A10: =IFERROR(INDEX(Schéma_vyplnenie!A:A,MATCH('Výzva_vyplnenie '!B10,Schéma_vyplnenie!B:B,0),),"") -> 2 | B10: Podpora najmenej rozvinutých okresov | C10: =IFERROR(VLOOKUP(B10,Schéma_vyplnenie!$B:$I,7,0),"") -> Ministerstvo investícií, regionálneho rozvoja a informatizácie SR | D10: =IFERROR(VLOOKUP(B10,Schéma_vyplnenie!$B:$I,8,0),"") -> 50 349 287 | E10: 02/OÚ SP/2020 | F10: Ročné priority Akčného plánu rozvoja okresu Stropkov na rok 2021 | G10: 488212 | H10: - | I10: - | J10: 44049 | K10: 44049 | L10: 44078
A11: =IFERROR(INDEX(Schéma_vyplnenie!A:A,MATCH('Výzva_vyplnenie '!B11,Schéma_vyplnenie!B:B,0),),"") -> 2 | B11: Podpora najmenej rozvinutých okresov | C11: =IFERROR(VLOOKUP(B11,Schéma_vyplnenie!$B:$I,7,0),"") -> Ministerstvo investícií, regionálneho rozvoja a informatizácie SR | D11: =IFERROR(VLOOKUP(B11,Schéma_vyplnenie!$B:$I,8,0),"") -> 50 349 287 | E11: 05/OÚBJ/2021 | F11: Aktualizácia ročných priorít Akčného plánu rozvoja okresu Bardejov na rok 2021 | G11: 370000 | H11: 10000 | I11: 100000 | J11: 44266 | K11: 44266 | L11: 44293
A12: =IFERROR(INDEX(Schéma_vyplnenie!A:A,MATCH('Výzva_vyplnenie '!B12,Schéma_vyplnenie!B:B,0),),"") -> 2 | B12: Podpora najmenej rozvinutých okresov | C12: =IFERROR(VLOOKUP(B12,Schéma_vyplnenie!$B:$I,7,0),"") -> Ministerstvo investícií, regionálneho rozvoja a informatizácie SR | D12: =IFERROR(VLOOKUP(B12,Schéma_vyplnenie!$B:$I,8,0),"") -> 50 349 287 | E12: 01/OÚGL/2021 | F12: Aktualizácia ročných priorít Akčného plánu rozvoja okresu Gelnica na rok 2021 | G12: 794980 | H12: 10000 | I12: 200000 | J12: 44271 | K12: 44271 | L12: 44298
A13: =IFERROR(INDEX(Schéma_vyplnenie!A:A,MATCH('Výzva_vyplnenie '!B13,Schéma_vyplnenie!B:B,0),),"") -> 2 | B13: Podpora najmenej rozvinutých okresov | C13: =IFERROR(VLOOKUP(B13,Schéma_vyplnenie!$B:$I,7,0),"") -> Ministerstvo investícií, regionálneho rozvoja a informatizácie SR | D13: =IFERROR(VLOOKUP(B13,Schéma_vyplnenie!$B:$I,8,0),"") -> 50 349 287 | E13: II/OÚ-KS/2021 | F13: Aktualizácia ročných priorít Akčného plánu rozvoja okresu Košice-okolie na rok 2021 | G13: 622686 | H13: 10000 | I13: 100000 | J13: 44270 | K13: 44270 | L13: 44298
A14: =IFERROR(INDEX(Schéma_vyplnenie!A:A,MATCH('Výzva_vyplnenie '!B14,Schéma_vyplnenie!B:B,0),),"") -> 2 | B14: Podpora najmenej rozvinutých okresov | C14: =IFERROR(VLOOKUP(B14,Schéma_vyplnenie!$B:$I,7,0),"") -> Ministerstvo investícií, regionálneho rozvoja a informatizácie SR | D14: =IFERROR(VLOOKUP(B14,Schéma_vyplnenie!$B:$I,8,0),"") -> 50 349 287 | E14: 05/OÚ LE/2021 | F14: Aktualizácia ročných priorít Akčného plánu rozvoja okresu Levoča na rok 2021 | G14: 212651.6 | H14: 10000 | I14: 100000 | J14: 44272 | K14: 44272 | L14: 44301
A15: =IFERROR(INDEX(Schéma_vyplnenie!A:A,MATCH('Výzva_vyplnenie '!B15,Schéma_vyplnenie!B:B,0),),"") -> 2 | B15: Podpora najmenej rozvinutých okresov | C15: =IFERROR(VLOOKUP(B15,Schéma_vyplnenie!$B:$I,7,0),"") -> Ministerstvo investícií, regionálneho rozvoja a informatizácie SR | D15: =IFERROR(VLOOKUP(B15,Schéma_vyplnenie!$B:$I,8,0),"") -> 50 349 287 | E15: 08/OÚ ML/2021 | F15: Aktualizácia ročných priorít Akčného plánu rozvoja okresu Medzilaborce na rok 2021 | G15: 409998 | H15: 10000 | I15: 200000 | J15: 44252 | K15: 44252 | L15: 44280
A16: =IFERROR(INDEX(Schéma_vyplnenie!A:A,MATCH('Výzva_vyplnenie '!B16,Schéma_vyplnenie!B:B,0),),"") -> 2 | B16: Podpora najmenej rozvinutých okresov | C16: =IFERROR(VLOOKUP(B16,Schéma_vyplnenie!$B:$I,7,0),"") -> Ministerstvo investícií, regionálneho rozvoja a informatizácie SR | D16: =IFERROR(VLOOKUP(B16,Schéma_vyplnenie!$B:$I,8,0),"") -> 50 349 287 | E16: 09/OÚ ML/2021 | F16: Aktualizácia ročných priorít Akčného plánu rozvoja okresu Medzilaborce na rok 2021 | G16: 105286 | H16: 10000 | I16: 100000 | J16: 44356 | K16: 44356 | L16: 44362
A17: =IFERROR(INDEX(Schéma_vyplnenie!A:A,MATCH('Výzva_vyplnenie '!B17,Schéma_vyplnenie!B:B,0),),"") -> 2 | B17: Podpora najmenej rozvinutých okresov | C17: =IFERROR(VLOOKUP(B17,Schéma_vyplnenie!$B:$I,7,0),"") -> Ministerstvo investícií, regionálneho rozvoja a informatizácie SR | D17: =IFERROR(VLOOKUP(B17,Schéma_vyplnenie!$B:$I,8,0),"") -> 50 349 287 | E17: 5/OÚMI/2021 | F17: Aktualizácia ročných priorít Akčného plánu rozvoja okresu Michalovce na rok 2021 | G17: 2385340 | H17: - | I17: - | J17: 44209 | K17: 44209 | L17: 44253
A18: =IFERROR(INDEX(Schéma_vyplnenie!A:A,MATCH('Výzva_vyplnenie '!B18,Schéma_vyplnenie!B:B,0),),"") -> 2 | B18: Podpora najmenej rozvinutých okresov | C18: =IFERROR(VLOOKUP(B18,Schéma_vyplnenie!$B:$I,7,0),"") -> Ministerstvo investícií, regionálneho rozvoja a informatizácie SR | D18: =IFERROR(VLOOKUP(B18,Schéma_vyplnenie!$B:$I,8,0),"") -> 50 349 287 | E18: 5/OÚ - SV/2021 | F18: Aktualizácia ročných priorít Akčného plánu rozvoja okresu Snina na rok 2021 | G18: 230576 | H18: 10000 | I18: 50000 | J18: 44285 | K18: 45381 | L18: 44316
A19: =IFERROR(INDEX(Schéma_vyplnenie!A:A,MATCH('Výzva_vyplnenie '!B19,Schéma_vyplnenie!B:B,0),),"") | C19: =IFERROR(VLOOKUP(B19,Schéma_vyplnenie!$B:$I,7,0),"") | D19: =IFERROR(VLOOKUP(B19,Schéma_vyplnenie!$B:$I,8,0),"")
A20: =IFERROR(INDEX(Schéma_vyplnenie!A:A,MATCH('Výzva_vyplnenie '!B20,Schéma_vyplnenie!B:B,0),),"") | C20: =IFERROR(VLOOKUP(B20,Schéma_vyplnenie!$B:$I,7,0),"") | D20: =IFERROR(VLOOKUP(B20,Schéma_vyplnenie!$B:$I,8,0),"")
A21: =IFERROR(INDEX(Schéma_vyplnenie!A:A,MATCH('Výzva_vyplnenie '!B21,Schéma_vyplnenie!B:B,0),),"") | C21: =IFERROR(VLOOKUP(B21,Schéma_vyplnenie!$B:$I,7,0),"") | D21: =IFERROR(VLOOKUP(B21,Schéma_vyplnenie!$B:$I,8,0),"")
A22: =IFERROR(INDEX(Schéma_vyplnenie!A:A,MATCH('Výzva_vyplnenie '!B22,Schéma_vyplnenie!B:B,0),),"") | C22: =IFERROR(VLOOKUP(B22,Schéma_vyplnenie!$B:$I,7,0),"") | D22: =IFERROR(VLOOKUP(B22,Schéma_vyplnenie!$B:$I,8,0),"")
A23: =IFERROR(INDEX(Schéma_vyplnenie!A:A,MATCH('Výzva_vyplnenie '!B23,Schéma_vyplnenie!B:B,0),),"") | C23: =IFERROR(VLOOKUP(B23,Schéma_vyplnenie!$B:$I,7,0),"") | D23: =IFERROR(VLOOKUP(B23,Schéma_vyplnenie!$B:$I,8,0),"")
A24: =IFERROR(INDEX(Schéma_vyplnenie!A:A,MATCH('Výzva_vyplnenie '!B24,Schéma_vyplnenie!B:B,0),),"") | C24: =IFERROR(VLOOKUP(B24,Schéma_vyplnenie!$B:$I,7,0),"") | D24: =IFERROR(VLOOKUP(B24,Schéma_vyplnenie!$B:$I,8,0),"")
A25: =IFERROR(INDEX(Schéma_vyplnenie!A:A,MATCH('Výzva_vyplnenie '!B25,Schéma_vyplnenie!B:B,0),),"") | C25: =IFERROR(VLOOKUP(B25,Schéma_vyplnenie!$B:$I,7,0),"") | D25: =IFERROR(VLOOKUP(B25,Schéma_vyplnenie!$B:$I,8,0),"")
A26: =IFERROR(INDEX(Schéma_vyplnenie!A:A,MATCH('Výzva_vyplnenie '!B26,Schéma_vyplnenie!B:B,0),),"") | C26: =IFERROR(VLOOKUP(B26,Schéma_vyplnenie!$B:$I,7,0),"") | D26: =IFERROR(VLOOKUP(B26,Schéma_vyplnenie!$B:$I,8,0),"")
A27: =IFERROR(INDEX(Schéma_vyplnenie!A:A,MATCH('Výzva_vyplnenie '!B27,Schéma_vyplnenie!B:B,0),),"") | C27: =IFERROR(VLOOKUP(B27,Schéma_vyplnenie!$B:$I,7,0),"") | D27: =IFERROR(VLOOKUP(B27,Schéma_vyplnenie!$B:$I,8,0),"")
A28: =IFERROR(INDEX(Schéma_vyplnenie!A:A,MATCH('Výzva_vyplnenie '!B28,Schéma_vyplnenie!B:B,0),),"") | C28: =IFERROR(VLOOKUP(B28,Schéma_vyplnenie!$B:$I,7,0),"") | D28: =IFERROR(VLOOKUP(B28,Schéma_vyplnenie!$B:$I,8,0),"")
A29: =IFERROR(INDEX(Schéma_vyplnenie!A:A,MATCH('Výzva_vyplnenie '!B29,Schéma_vyplnenie!B:B,0),),"") | C29: =IFERROR(VLOOKUP(B29,Schéma_vyplnenie!$B:$I,7,0),"") | D29: =IFERROR(VLOOKUP(B29,Schéma_vyplnenie!$B:$I,8,0),"")
A30: =IFERROR(INDEX(Schéma_vyplnenie!A:A,MATCH('Výzva_vyplnenie '!B30,Schéma_vyplnenie!B:B,0),),"") | C30: =IFERROR(VLOOKUP(B30,Schéma_vyplnenie!$B:$I,7,0),"") | D30: =IFERROR(VLOOKUP(B30,Schéma_vyplnenie!$B:$I,8,0),"")
... A302: =IFERROR(INDEX(Schéma_vyplnenie!A:A,MATCH('Výzva_vyplnenie '!B302,Schéma_vyplnenie!B:B,0),),"") | C302: =IFERROR(VLOOKUP(B302,Schéma_vyplnenie!$B:$I,7,0),"") | D302: =IFERROR(VLOOKUP(B302,Schéma_vyplnenie!$B:$I,8,0),"")

Sheet Oprávnení žiadatelia_vyplnenie
A1: Informácia o tom, kto je oprávnený žiadať o dotácie z každej z výziev
A2: Identifikátor výzvy | B2: právna forma oprávneného žiadateľa | C2: kód právnej formy oprávneného žiadateľa | D2: podiel spolufinancovania v percentách
A3: 8270/2021/OSMRR | B3: záujmové združenie právnických osôb | C3: =IFERROR(INDEX('Číselník právnych foriem ŠÚ SR'!A:A,MATCH('Oprávnení žiadatelia_vyplnenie'!B3,'Číselník právnych foriem ŠÚ SR'!B:B,0)),"") -> 751 | D3: 10
A4: 8270/2021/OSMRR | B4: európske zoskupenie územnej spolupráce | C4: =IFERROR(INDEX('Číselník právnych foriem ŠÚ SR'!A:A,MATCH('Oprávnení žiadatelia_vyplnenie'!B4,'Číselník právnych foriem ŠÚ SR'!B:B,0)),"") -> 804 | D4: 10
A5: 8270/2021/OSMRR | B5: Združenie (zväz, spolok, spoločnosť, klub ai.) | C5: =IFERROR(INDEX('Číselník právnych foriem ŠÚ SR'!A:A,MATCH('Oprávnení žiadatelia_vyplnenie'!B5,'Číselník právnych foriem ŠÚ SR'!B:B,0)),"") -> 701 | D5: 10
A6: 8270/2021/OSMRR | B6: Nezisková organizácia poskytujúca všeobecne prospešné služby | C6: =IFERROR(INDEX('Číselník právnych foriem ŠÚ SR'!A:A,MATCH('Oprávnení žiadatelia_vyplnenie'!B6,'Číselník právnych foriem ŠÚ SR'!B:B,0)),"") -> 120 | D6: 10
A7: 12861/2021/OSMRR | B7: Obec (obecný úrad), mesto (mestský úrad) | C7: =IFERROR(INDEX('Číselník právnych foriem ŠÚ SR'!A:A,MATCH('Oprávnení žiadatelia_vyplnenie'!B7,'Číselník právnych foriem ŠÚ SR'!B:B,0)),"") -> 801 | D7: 0-5
A8: 04/OÚBJ/2020 | C8: =IFERROR(INDEX('Číselník právnych foriem ŠÚ SR'!A:A,MATCH('Oprávnení žiadatelia_vyplnenie'!B8,'Číselník právnych foriem ŠÚ SR'!B:B,0)),"") | D8: 0 - 40
A9: 1/OÚ-KS/2021 | C9: =IFERROR(INDEX('Číselník právnych foriem ŠÚ SR'!A:A,MATCH('Oprávnení žiadatelia_vyplnenie'!B9,'Číselník právnych foriem ŠÚ SR'!B:B,0)),"") | D9: 0 - 40
A10: 04/OÚ LE/2020 | C10: =IFERROR(INDEX('Číselník právnych foriem ŠÚ SR'!A:A,MATCH('Oprávnení žiadatelia_vyplnenie'!B10,'Číselník právnych foriem ŠÚ SR'!B:B,0)),"") | D10: 0 - 40
A11: 4/OÚMI/2020 | C11: =IFERROR(INDEX('Číselník právnych foriem ŠÚ SR'!A:A,MATCH('Oprávnení žiadatelia_vyplnenie'!B11,'Číselník právnych foriem ŠÚ SR'!B:B,0)),"") | D11: 0 - 40
A12: 4/OÚ - SV/2021 | C12: =IFERROR(INDEX('Číselník právnych foriem ŠÚ SR'!A:A,MATCH('Oprávnení žiadatelia_vyplnenie'!B12,'Číselník právnych foriem ŠÚ SR'!B:B,0)),"") | D12: 0 - 40
A13: 02/OÚ SP/2020 | C13: =IFERROR(INDEX('Číselník právnych foriem ŠÚ SR'!A:A,MATCH('Oprávnení žiadatelia_vyplnenie'!B13,'Číselník právnych foriem ŠÚ SR'!B:B,0)),"") | D13: 0 - 40
A14: 05/OÚBJ/2021 | B14: záujmové združenie právnických osôb | C14: =IFERROR(INDEX('Číselník právnych foriem ŠÚ SR'!A:A,MATCH('Oprávnení žiadatelia_vyplnenie'!B14,'Číselník právnych foriem ŠÚ SR'!B:B,0)),"") -> 751 | D14: 0 - 40
A15: 05/OÚBJ/2021 | B15: európske zoskupenie územnej spolupráce | C15: =IFERROR(INDEX('Číselník právnych foriem ŠÚ SR'!A:A,MATCH('Oprávnení žiadatelia_vyplnenie'!B15,'Číselník právnych foriem ŠÚ SR'!B:B,0)),"") -> 804 | D15: 0 - 40
A16: 05/OÚBJ/2021 | B16: Združenie (zväz, spolok, spoločnosť, klub ai.) | C16: =IFERROR(INDEX('Číselník právnych foriem ŠÚ SR'!A:A,MATCH('Oprávnení žiadatelia_vyplnenie'!B16,'Číselník právnych foriem ŠÚ SR'!B:B,0)),"") -> 701 | D16: 0 - 40
A17: 05/OÚBJ/2021 | B17: Nezisková organizácia poskytujúca všeobecne prospešné služby | C17: =IFERROR(INDEX('Číselník právnych foriem ŠÚ SR'!A:A,MATCH('Oprávnení žiadatelia_vyplnenie'!B17,'Číselník právnych foriem ŠÚ SR'!B:B,0)),"") -> 120 | D17: 0 - 40
A18: 05/OÚBJ/2021 | B18: Cirkevná organizácia | C18: =IFERROR(INDEX('Číselník právnych foriem ŠÚ SR'!A:A,MATCH('Oprávnení žiadatelia_vyplnenie'!B18,'Číselník právnych foriem ŠÚ SR'!B:B,0)),"") -> 721 | D18: 0 - 40
A19: 05/OÚBJ/2021 | C19: =IFERROR(INDEX('Číselník právnych foriem ŠÚ SR'!A:A,MATCH('Oprávnení žiadatelia_vyplnenie'!B19,'Číselník právnych foriem ŠÚ SR'!B:B,0)),"") | D19: 0 - 40
A20: 05/OÚBJ/2021 | B20: Obec (obecný úrad), mesto (mestský úrad) | C20: =IFERROR(INDEX('Číselník právnych foriem ŠÚ SR'!A:A,MATCH('Oprávnení žiadatelia_vyplnenie'!B20,'Číselník právnych foriem ŠÚ SR'!B:B,0)),"") -> 801 | D20: 0 - 40
A21: 05/OÚBJ/2021 | B21: Samosprávny kraj (úrad samosprávneho kraja) | C21: =IFERROR(INDEX('Číselník právnych foriem ŠÚ SR'!A:A,MATCH('Oprávnení žiadatelia_vyplnenie'!B21,'Číselník právnych foriem ŠÚ SR'!B:B,0)),"") -> 803 | D21: 0 - 40
A22: 01/OÚGL/2021 | B22: záujmové združenie právnických osôb | C22: =IFERROR(INDEX('Číselník právnych foriem ŠÚ SR'!A:A,MATCH('Oprávnení žiadatelia_vyplnenie'!B22,'Číselník právnych foriem ŠÚ SR'!B:B,0)),"") -> 751 | D22: 0 - 40
A23: 01/OÚGL/2021 | B23: európske zoskupenie územnej spolupráce | C23: =IFERROR(INDEX('Číselník právnych foriem ŠÚ SR'!A:A,MATCH('Oprávnení žiadatelia_vyplnenie'!B23,'Číselník právnych foriem ŠÚ SR'!B:B,0)),"") -> 804 | D23: 0 - 40
A24: 01/OÚGL/2021 | B24: Združenie (zväz, spolok, spoločnosť, klub ai.) | C24: =IFERROR(INDEX('Číselník právnych foriem ŠÚ SR'!A:A,MATCH('Oprávnení žiadatelia_vyplnenie'!B24,'Číselník právnych foriem ŠÚ SR'!B:B,0)),"") -> 701 | D24: 0 - 40
A25: 01/OÚGL/2021 | B25: Nezisková organizácia poskytujúca všeobecne prospešné služby | C25: =IFERROR(INDEX('Číselník právnych foriem ŠÚ SR'!A:A,MATCH('Oprávnení žiadatelia_vyplnenie'!B25,'Číselník právnych foriem ŠÚ SR'!B:B,0)),"") -> 120 | D25: 0 - 40
A26: 01/OÚGL/2021 | B26: Obec (obecný úrad), mesto (mestský úrad) | C26: =IFERROR(INDEX('Číselník právnych foriem ŠÚ SR'!A:A,MATCH('Oprávnení žiadatelia_vyplnenie'!B26,'Číselník právnych foriem ŠÚ SR'!B:B,0)),"") -> 801 | D26: 0 - 40
A27: 01/OÚGL/2021 | B27: Samosprávny kraj (úrad samosprávneho kraja) | C27: =IFERROR(INDEX('Číselník právnych foriem ŠÚ SR'!A:A,MATCH('Oprávnení žiadatelia_vyplnenie'!B27,'Číselník právnych foriem ŠÚ SR'!B:B,0)),"") -> 803 | D27: 0 - 40
A28: 01/OÚGL/2021 | C28: =IFERROR(INDEX('Číselník právnych foriem ŠÚ SR'!A:A,MATCH('Oprávnení žiadatelia_vyplnenie'!B28,'Číselník právnych foriem ŠÚ SR'!B:B,0)),"") | D28: 0 - 40
A29: II/OÚ-KS/2021 | C29: =IFERROR(INDEX('Číselník právnych foriem ŠÚ SR'!A:A,MATCH('Oprávnení žiadatelia_vyplnenie'!B29,'Číselník právnych foriem ŠÚ SR'!B:B,0)),"") | D29: 0 - 40
A30: 05/OÚ LE/2021 | B30: záujmové združenie právnických osôb | C30: =IFERROR(INDEX('Číselník právnych foriem ŠÚ SR'!A:A,MATCH('Oprávnení žiadatelia_vyplnenie'!B30,'Číselník právnych foriem ŠÚ SR'!B:B,0)),"") -> 751 | D30: 0 - 40
A31: 05/OÚ LE/2021 | B31: európske zoskupenie územnej spolupráce | C31: =IFERROR(INDEX('Číselník právnych foriem ŠÚ SR'!A:A,MATCH('Oprávnení žiadatelia_vyplnenie'!B31,'Číselník právnych foriem ŠÚ SR'!B:B,0)),"") -> 804 | D31: 0 - 40
A32: 05/OÚ LE/2021 | B32: Združenie (zväz, spolok, spoločnosť, klub ai.) | C32: =IFERROR(INDEX('Číselník právnych foriem ŠÚ SR'!A:A,MATCH('Oprávnení žiadatelia_vyplnenie'!B32,'Číselník právnych foriem ŠÚ SR'!B:B,0)),"") -> 701 | D32: 0 - 40
A33: 05/OÚ LE/2021 | B33: Nezisková organizácia poskytujúca všeobecne prospešné služby | C33: =IFERROR(INDEX('Číselník právnych foriem ŠÚ SR'!A:A,MATCH('Oprávnení žiadatelia_vyplnenie'!B33,'Číselník právnych foriem ŠÚ SR'!B:B,0)),"") -> 120 | D33: 0 - 40
A34: 05/OÚ LE/2021 | B34: Obec (obecný úrad), mesto (mestský úrad) | C34: =IFERROR(INDEX('Číselník právnych foriem ŠÚ SR'!A:A,MATCH('Oprávnení žiadatelia_vyplnenie'!B34,'Číselník právnych foriem ŠÚ SR'!B:B,0)),"") -> 801 | D34: 0 - 40
A35: 05/OÚ LE/2021 | B35: Samosprávny kraj (úrad samosprávneho kraja) | C35: =IFERROR(INDEX('Číselník právnych foriem ŠÚ SR'!A:A,MATCH('Oprávnení žiadatelia_vyplnenie'!B35,'Číselník právnych foriem ŠÚ SR'!B:B,0)),"") -> 803 | D35: 0 - 40
A36: 05/OÚ LE/2021 | C36: =IFERROR(INDEX('Číselník právnych foriem ŠÚ SR'!A:A,MATCH('Oprávnení žiadatelia_vyplnenie'!B36,'Číselník právnych foriem ŠÚ SR'!B:B,0)),"") | D36: 0 - 40
A37: 08/OÚ ML/2021 | B37: záujmové združenie právnických osôb | C37: =IFERROR(INDEX('Číselník právnych foriem ŠÚ SR'!A:A,MATCH('Oprávnení žiadatelia_vyplnenie'!B37,'Číselník právnych foriem ŠÚ SR'!B:B,0)),"") -> 751 | D37: 0 - 40
A38: 08/OÚ ML/2021 | B38: európske zoskupenie územnej spolupráce | C38: =IFERROR(INDEX('Číselník právnych foriem ŠÚ SR'!A:A,MATCH('Oprávnení žiadatelia_vyplnenie'!B38,'Číselník právnych foriem ŠÚ SR'!B:B,0)),"") -> 804 | D38: 0 - 40
A39: 08/OÚ ML/2021 | B39: Združenie (zväz, spolok, spoločnosť, klub ai.) | C39: =IFERROR(INDEX('Číselník právnych foriem ŠÚ SR'!A:A,MATCH('Oprávnení žiadatelia_vyplnenie'!B39,'Číselník právnych foriem ŠÚ SR'!B:B,0)),"") -> 701 | D39: 0 - 40
A40: 08/OÚ ML/2021 | B40: Nezisková organizácia poskytujúca všeobecne prospešné služby | C40: =IFERROR(INDEX('Číselník právnych foriem ŠÚ SR'!A:A,MATCH('Oprávnení žiadatelia_vyplnenie'!B40,'Číselník právnych foriem ŠÚ SR'!B:B,0)),"") -> 120 | D40: 0 - 40
...

Sheet Žiadosť _vyplnenie
A1: Informácia o žiadosti o projekt/projekte
A2: Identifikátor výzvy | B2: Názov žiadateľa | C2: IČO žiadateľa | D2: Právna forma oprávneného žiadateľa | E2: kód právnej formy oprávneného žiadateľa | F2: Číselný identifikátor žiadosti | G2: Názov projektu | H2: Stručný popis projektu | I2: Miesto realizácie projektu | J2: Dátum podania žiadosti | K2: stav vyhodnotenia žiadosti | L2: Dátum rozhodnutia o žiadosti / projekte | M2: Výška žiadanej sumy | N2: Číslo projektu schválenej žiadosti | O2: Číslo zmluvy o poskytnutí dotácie uverejnené v CRZ | P2: Výška schválenej sumy | Q2: Výška spolufinancovania | R2: Dátum uverejnenia zmluvy v CRZ | S2: Dátum začiatku realizácie projektu | T2: Dátum ukončenia realizácie projektu | U2: Výška neoprávnených výdavkov | V2: Výška nevyčerpanej dotácie
A3: 8270/2021/OSMRR | B3: Občianske združenie Ekoenergia | C3: 31941851 | D3: Združenie (zväz, spolok, spoločnosť, klub ai.) | E3: =IFERROR(VLOOKUP(D3,'Číselník právnych foriem ŠÚ SR'!$B:$C,2,0),"") -> 701 | F3: 441 | G3: Kráľovna obilnín – ŠPALDA má svoje miesto v Rajeckej doline | H3: Podpora regionálneho rozvoja | I3: Rajec | J3: 44301 | K3: schválená | L3: 44489 | M3: 31389.1 | N3: 441 | O3: 1311/2021 | P3: 31389.1 | Q3: 3487.7 | R3: 44509 | S3: 44197 | T3: 44651
A4: 8270/2021/OSMRR | B4: Európske zoskupenie územnej spolupráce Via Carpatia s ručením obmedzeným | C4: 45230030 | D4: Európske zoskupenie územnej spolupráce | E4: =IFERROR(VLOOKUP(D4,'Číselník právnych foriem ŠÚ SR'!$B:$C,2,0),"") -> 804 | F4: 63 | G4: „Zlepšime environmentálnu zodpovednosť žiakov!“ | H4: Podpora regionálneho rozvoja | I4: Košice | J4: 44300 | K4: schválená | L4: 44489 | M4: 47160 | N4: 63 | O4: 1294/2021 | P4: 47158.99 | Q4: 5239.89 | R4: 44518 | S4: 44197 | T4: 44651
A5: 8270/2021/OSMRR | B5: Bratislavské dobrovoľnícke centrum | C5: 42267111 | D5: Združenie (zväz, spolok, spoločnosť, klub ai.) | E5: =IFERROR(VLOOKUP(D5,'Číselník právnych foriem ŠÚ SR'!$B:$C,2,0),"") -> 701 | F5: 147 | G5: Dobrovoľníctvo v Bratislavskom samosprávnom kraji | H5: Podpora regionálneho rozvoja | I5: Bratislavský kraj | J5: 44301 | K5: schválená | L5: 44489 | M5: 19971 | N5: 147 | O5: 1300/2021 | P5: 19971 | Q5: 2219 | R5: 44512 | S5: 44197 | T5: 44651
A6: 8270/2021/OSMRR | B6: Miestna akčná skupina 11 PLUS | C6: 42404037 | D6: Združenie (zväz, spolok, spoločnosť, klub ai.) | E6: =IFERROR(VLOOKUP(D6,'Číselník právnych foriem ŠÚ SR'!$B:$C,2,0),"") -> 701 | F6: 89 | G6: Využitie turistického potenciálu MAS 11 PLUS na budovanie a posilňovanie miestnej komunity | H6: Podpora regionálneho rozvoja | I6: Členské obce MAS 11PLUS: Abrahám, Cífer, Hoste, Hrnčiarovce nad Parnou, Križovany nad Dudváhom, Majcichov, Opoj, Pavlice, Pusté Úľany, Slovenská Nová Ves, Veľké Úľany, Veľký Grob, Vlčkovce, Voderady, Zeleneč | J6: 44299 | K6: schválená | L6: 44489 | M6: 24660 | N6: 89 | O6: 1295/2021 | P6: 24660 | Q6: 2740 | R6: 44516 | S6: 44197 | T6: 44651
A7: 8270/2021/OSMRR | B7: Náš Kláštor pod Znievom | C7: 42350956 | D7: Združenie (zväz, spolok, spoločnosť, klub ai.) | E7: =IFERROR(VLOOKUP(D7,'Číselník právnych foriem ŠÚ SR'!$B:$C,2,0),"") -> 701 | F7: 221 | G7: Rozvoj turistickej infraštruktúry obce Kláštor pod Znievom prostredníctvom inovatívnych/tematických QR náučných tabúľ napojených na zážitkovú/edukatívnu hru Actionbound | H7: Podpora regionálneho rozvoja | I7: Kláštor pod Znievom | J7: 44301 | K7: schválená | L7: 44489 | M7: 27527.8 | N7: 221 | O7: 1305/2021 | P7: 27527.79 | Q7: 3058.64 | R7: 44522 | S7: 44197 | T7: 44651
A8: 8270/2021/OSMRR | B8: Občianske združenie Naše Zálesíčko | C8: 42354099 | D8: Združenie (zväz, spolok, spoločnosť, klub ai.) | E8: =IFERROR(VLOOKUP(D8,'Číselník právnych foriem ŠÚ SR'!$B:$C,2,0),"") -> 701 | F8: 155 | G8: Kultúrno ekologického centra - projekt Metamorfóza | H8: Podpora regionálneho rozvoja | I8: Zálesie | J8: 44301 | K8: schválená | L8: 44489 | M8: 49893.3 | N8: 155 | O8: 1301/2021 | P8: 49893.3 | Q8: 5543.7 | R8: 44516 | S8: 44197 | T8: 44651
A9: 8270/2021/OSMRR | B9: Kolpingovo dielo na Slovensku | C9: 31751491 | D9: Združenie (zväz, spolok, spoločnosť, klub ai.) | E9: =IFERROR(VLOOKUP(D9,'Číselník právnych foriem ŠÚ SR'!$B:$C,2,0),"") -> 701 | F9: 214 | G9: Vytvorenie oddychovej a kultúrno-spoločenskej zóny v historickom exteriéri obce Štiavnické Bane | H9: Podpora regionálneho rozvoja | I9: Štiavnické Bane | J9: 44301 | K9: schválená | L9: 44489 | M9: 49892.9 | N9: 214 | O9: 1187/2021 | P9: 49892.89 | Q9: 5543.66 | R9: 44512 | S9: 44197 | T9: 44651
A10: 8270/2021/OSMRR | B10: Banský Región - Terra Montanae | C10: 42315018 | D10: Združenie (zväz, spolok, spoločnosť, klub ai.) | E10: =IFERROR(VLOOKUP(D10,'Číselník právnych foriem ŠÚ SR'!$B:$C,2,0),"") -> 701 | F10: 503 | G10: Obnova turisticko-informačných prvkov náučného chodníka Barborská cesta | H10: Podpora regionálneho rozvoja | I10: Vybrané obce po trase | J10: 44301 | K10: schválená | L10: 44489 | M10: 23346.5 | N10: 503 | O10: 1147/2021 | P10: 23346.45 | Q10: 2594 | R10: 44518 | S10: 44197 | T10: 44651
A11: 8270/2021/OSMRR | B11: Centrum včasnej intervencie Košice, n. o. | C11: 50291467 | D11: Nezisková organizácia poskytujúca všeobecne prospešné služby | E11: =IFERROR(VLOOKUP(D11,'Číselník právnych foriem ŠÚ SR'!$B:$C,2,0),"") -> 120 | F11: 508 | G11: ALKA – komplexná podpora a pomoc pre deti so špeciálnymi výchovno – vzdelávacími potrebami a ich rodiny v Košiciach a okolí. | H11: Podpora regionálneho rozvoja | I11: Košice | J11: 44301 | K11: schválená | L11: 44489 | M11: 38137.4 | N11: 508 | O11: 1314/2021 | P11: 37524.29 | Q11: 4237.44 | R11: 44512 | S11: 44197 | T11: 44651
A12: 8270/2021/OSMRR | B12: Mareena | C12: 50760611 | D12: Združenie (zväz, spolok, spoločnosť, klub ai.) | E12: =IFERROR(VLOOKUP(D12,'Číselník právnych foriem ŠÚ SR'!$B:$C,2,0),"") -> 701 | F12: 185 | G12: Z CUDZINCOV MIESTNI - Angažovanie lokálnej spoločnosti do integrácie utečencov a migrantov | H12: Podpora regionálneho rozvoja | I12: Bratislava, Nitra, Košice | J12: 44301 | K12: schválená | L12: 44489 | M12: 36748.14 | N12: 185 | O12: 1304/2021 | P12: 35344.41 | Q12: 4083.17 | R12: 44516 | S12: 44197 | T12: 44651
A13: 8270/2021/OSMRR | B13: Futuristiq | C13: 42184061 | D13: Združenie (zväz, spolok, spoločnosť, klub ai.) | E13: =IFERROR(VLOOKUP(D13,'Číselník právnych foriem ŠÚ SR'!$B:$C,2,0),"") -> 701 | F13: 418 | G13: CovidHelper: monitoring, ochrana zdravia a osveta pre pacientov s post-covidovým syndrómom | H13: Podpora regionálneho rozvoja | I13: Banská Bystrica | J13: 44301 | K13: schválená | L13: 44489 | M13: 44451 | N13: 418 | O13: 1310/2021 | P13: 44451 | Q13: 4939 | R13: 44518 | S13: 44197 | T13: 44651
A14: 8270/2021/OSMRR | B14: ZDRUŽENIE HRADU BYSTRICA | C14: 42141257 | D14: Združenie (zväz, spolok, spoločnosť, klub ai.) | E14: =IFERROR(VLOOKUP(D14,'Číselník právnych foriem ŠÚ SR'!$B:$C,2,0),"") -> 701 | F14: 135 | G14: Záchrana Bránovej veže Považskobystrického hradu | H14: Podpora regionálneho rozvoja | I14: Považská Bystrica | J14: 44300 | K14: schválená | L14: 44489 | M14: 25987.5 | N14: 135 | O14: 1298/2021 | P14: 12993.75 | Q14: 6725.5 | R14: 44509 | S14: 44197 | T14: 44651
A15: 8270/2021/OSMRR | B15: Pro Kalondiensis | C15: 35987111 | D15: Združenie (zväz, spolok, spoločnosť, klub ai.) | E15: =IFERROR(VLOOKUP(D15,'Číselník právnych foriem ŠÚ SR'!$B:$C,2,0),"") -> 701 | F15: 309 | G15: RepubliKalonda | H15: Podpora regionálneho rozvoja | I15: Kalonda | J15: 44301 | K15: schválená | L15: 44489 | M15: 21845.8 | N15: 309 | O15: 1307/2021 | P15: 21845.79 | Q15: 156069.81 | R15: 44516 | S15: 44197 | T15: 44651
A16: 8270/2021/OSMRR | B16: Občianske združenie VERBUM | C16: 37866982 | D16: Združenie (zväz, spolok, spoločnosť, klub ai.) | E16: =IFERROR(VLOOKUP(D16,'Číselník právnych foriem ŠÚ SR'!$B:$C,2,0),"") -> 701 | F16: 27 | G16: Kostol Nanebovzatia Panny Márie v Nitre na Kalvárii – reštaurátorský výskum, návrh na reštaurovanie, vlhkostný posudok a návrh na sanáciu, populárno-náučná publikácia | H16: Podpora regionálneho rozvoja | I16: Nitra | J16: 44298 | K16: schválená | L16: 44489 | M16: 16469 | N16: 27 | O16: 1293/2021 | P16: 16469 | Q16: 1829.92 | R16: 44516 | S16: 44197 | T16: 44651
A17: 8270/2021/OSMRR | B17: Ižopská kultúrna spoločnosť IQUS Polgári Társulás | C17: 42287961 | D17: Združenie (zväz, spolok, spoločnosť, klub ai.) | E17: =IFERROR(VLOOKUP(D17,'Číselník právnych foriem ŠÚ SR'!$B:$C,2,0),"") -> 701 | F17: 242 | G17: OŽIVENIE MINULOSTI PRE BUDÚCNOSŤ – revitalizácia zelene (zveľaďovanie) | H17: Podpora regionálneho rozvoja | I17: Veľký Meder - Ižop | J17: 44301 | K17: schválená | L17: 44489 | M17: 40169 | N17: 242 | O17: 1186/2021 | P17: 40169 | Q17: 4463.27 | R17: 44509 | S17: 44197 | T17: 44651
A18: 8270/2021/OSMRR | B18: Fehér Fűz – Salix Alba | C18: 42426707 | D18: Združenie (zväz, spolok, spoločnosť, klub ai.) | E18: =IFERROR(VLOOKUP(D18,'Číselník právnych foriem ŠÚ SR'!$B:$C,2,0),"") -> 701 | F18: 284 | G18: Aqua vitae – živá voda | H18: Podpora regionálneho rozvoja | I18: Žihárec | J18: 44301 | K18: schválená | L18: 44489 | M18: 17937.5 | N18: 284 | O18: 1306/2021 | P18: 17937.5 | Q18: 1993.06 | R18: 44518 | S18: 44197 | T18: 44651
A19: 8270/2021/OSMRR | B19: Relevant n. o. | C19: 37887483 | D19: Nezisková organizácia poskytujúca všeobecne prospešné služby | E19: =IFERROR(VLOOKUP(D19,'Číselník právnych foriem ŠÚ SR'!$B:$C,2,0),"") -> 120 | F19: 481 | G19: Bezpečný priestor na rozvoj a rast | H19: Podpora regionálneho rozvoja | I19: Prešov | J19: 44301 | K19: schválená | L19: 44489 | M19: 33272.1 | N19: 481 | O19: 1312/2021 | P19: 33272.1 | Q19: 3696.9 | R19: 44518 | S19: 44197 | T19: 44651
A20: 8270/2021/OSMRR | B20: Asociácia Divadelná Nitra | C20: 34074571 | D20: Združenie (zväz, spolok, spoločnosť, klub ai.) | E20: =IFERROR(VLOOKUP(D20,'Číselník právnych foriem ŠÚ SR'!$B:$C,2,0),"") -> 701 | F20: 177 | G20: Celoročné využitie a rozvoj kultúrno-kreatívneho potenciálu nitrianskeho regiónu a podpora udržateľných komunít a ich kvality života prostredníctvom aktivít nového kultúrno-komunitného priestoru bod.K7 v nadväznosti na medzinárodný a národný kontext | H20: Podpora regionálneho rozvoja | I20: Nitra | J20: 44301 | K20: schválená | L20: 44489 | M20: 49979.7 | N20: 177 | O20: 1302/2021 | P20: 49979.7 | Q20: 5553.3 | R20: 44518 | S20: 44197 | T20: 44651
A21: 8270/2021/OSMRR | B21: Banícky spolok Spiš | C21: 42101034 | D21: Združenie (zväz, spolok, spoločnosť, klub ai.) | E21: =IFERROR(VLOOKUP(D21,'Číselník právnych foriem ŠÚ SR'!$B:$C,2,0),"") -> 701 | F21: 378 | G21: Rozvoj banského kultúrneho dedičstva a regiónu Spiš - interaktívna banská galéria Barborka a vonkajšia banská expozícia | H21: Podpora regionálneho rozvoja | I21: Spišská Nová Ves | J21: 44301 | K21: schválená | L21: 44489 | M21: 35580.8 | N21: 378 | O21: 1309/2021 | P21: 32738.15 | Q21: 3953.49 | R21: 44509 | S21: 44197 | T21: 44651
... A25: 8270/2021/OSMRR | B25: RAFAEL dom n.o. | C25: 45746079 | D25: Nezisková organizácia poskytujúca všeobecne prospešné služby | E25: =IFERROR(VLOOKUP(D25,'Číselník právnych foriem ŠÚ SR'!$B:$C,2,0),"") -> 120 | F25: 112 | G25: Modernizáciou vybavenia pre dlhodobo chorých k zlepšeniu kvality života a starostlivosti | H25: Podpora regionálneho rozvoja | I25: Petržalka | J25: 44299 | K25: schválená | L25: 44489 | M25: 49905 | N25: 112 | O25: 1296/2021 | P25: 49905 | Q25: 5545 | R25: 44522 | S25: 44197 | T25: 44651
A26: 8270/2021/OSMRR | B26: ROZVOJOVÁ AGENTÚRA Banskobystrického samosprávneho kraja, n.o. | C26: 51744422 | D26: Nezisková organizácia poskytujúca všeobecne prospešné služby | E26: =IFERROR(VLOOKUP(D26,'Číselník právnych foriem ŠÚ SR'!$B:$C,2,0),"") -> 120 | F26: 120 | G26: Zapojenie nezamestnaných do obnovy a výskumu Pustého hradu vo Zvolene | H26: Podpora regionálneho rozvoja | I26: Zvolen | J26: 44300 | K26: schválená | L26: 44489 | M26: 31050 | N26: 120 | O26: 1297/2021 | P26: 12960 | Q26: 1440 | R26: 44526 | S26: 44197 | T26: 44651
A27: 8270/2021/OSMRR | B27: Zachráň včely o.z. | C27: 51151014 | D27: Združenie (zväz, spolok, spoločnosť, klub ai.) | E27: =IFERROR(VLOOKUP(D27,'Číselník právnych foriem ŠÚ SR'!$B:$C,2,0),"") -> 701 | F27: 142 | G27: Včelári ako prvok regionálneho rozvoja a kultúrneho dedičstva | H27: Podpora regionálneho rozvoja | I27: Medzibrod | J27: 44300 | K27: schválená | L27: 44489 | M27: 49857.3 | N27: 142 | O27: 1299/2021 | P27: 49857.3 | Q27: 5539.7 | R27: 44509 | S27: 44197 | T27: 44651
A28: 8270/2021/OSMRR | B28: FolkEvent | C28: 52591123 | D28: Združenie (zväz, spolok, spoločnosť, klub ai.) | E28: =IFERROR(VLOOKUP(D28,'Číselník právnych foriem ŠÚ SR'!$B:$C,2,0),"") -> 701 | F28: 489 | G28: Rozprávkový les Art Boretum | H28: Podpora regionálneho rozvoja | I28: Oščadnica | J28: 44301 | K28: schválená | L28: 44489 | M28: 15090 | N28: 489 | O28: 1313/2021 | P28: 15089.09 | Q28: 1845 | R28: 44522 | S28: 44197 | T28: 44651
A29: 8270/2021/OSMRR | B29: Občianske združenie Tekov-Hont | C29: 42211824 | D29: Združenie (zväz, spolok, spoločnosť, klub ai.) | E29: =IFERROR(VLOOKUP(D29,'Číselník právnych foriem ŠÚ SR'!$B:$C,2,0),"") -> 701 | F29: 172 | G29: Revitalizácia zelene v regióne výsadbou stromových alejí | H29: Podpora regionálneho rozvoja | I29: Bátovce, Starý Hrádok, Mýtne Ludany,Lula | J29: 44301 | K29: schválená | L29: 44510 | M29: 13771.8 | N29: 172 | O29: 1418/2021 | P29: 13771.8 | Q29: 1530.2 | R29: 44532 | S29: 44197 | T29: 44651
A30: 8270/2021/OSMRR | B30: Castellum, n.o. | C30: 45734186 | D30: Nezisková organizácia poskytujúca všeobecne prospešné služby | E30: =IFERROR(VLOOKUP(D30,'Číselník právnych foriem ŠÚ SR'!$B:$C,2,0),"") -> 120 | F30: 464 | G30: „Zhodnotenie kultúrneho potenciálu NKP Nitriansky hrad v regióne prostredníctvom investícií do kultúrnej infraštruktúry miesta“ | H30: Podpora regionálneho rozvoja | I30: Nitra | J30: 44301 | K30: schválená | L30: 44510 | M30: 49941 | N30: 464 | O30: 1419/2021 | P30: 49221 | Q30: 5549 | R30: 44532 | S30: 44197 | T30: 44651
A31: 8270/2021/OSMRR | B31: Miestna akčná skupina Dudváh | C31: 42156131 | D31: Združenie (zväz, spolok, spoločnosť, klub ai.) | E31: =IFERROR(VLOOKUP(D31,'Číselník právnych foriem ŠÚ SR'!$B:$C,2,0),"") -> 701 | F31: 423 | G31: Spoločne za región | H31: Podpora regionálneho rozvoja | I31: Členské obce MAS Dudváh: Čierny Brod, Čierna Voda, Dolná Streda, Gáň, Kajal, Košúty, Matúškovo, Malá Mača, Váhovce, Veľká Mača, Mostová, Topoľnica | J31: 44301 | K31: schválená | L31: 44510 | M31: 25101 | N31: 423 | O31: 1420/2021 | P31: 25099.16 | Q31: 2786.96 | R31: 44537 | S31: 44197 | T31: 44651
A32: 8270/2021/OSMRR | B32: Pôtoň | C32: 36109185 | D32: Združenie (zväz, spolok, spoločnosť, klub ai.) | E32: =IFERROR(VLOOKUP(D32,'Číselník právnych foriem ŠÚ SR'!$B:$C,2,0),"") -> 701 | F32: 174 | G32: Park umenia – zelené epicentrum kultúry a umenia na slovenskom vidieku | H32: Podpora regionálneho rozvoja | I32: Bátovce | J32: 44301 | K32: schválená | L32: 44510 | M32: 49241 | N32: 174 | O32: 1421/2021 | P32: 49240.84 | Q32: 5471.2 | R32: 44537 | S32: 44197 | T32: 44651
A33: 8270/2021/OSMRR | B33: Margecianske fajnoty | C33: 51024233 | D33: Združenie (zväz, spolok, spoločnosť, klub ai.) | E33: =IFERROR(VLOOKUP(D33,'Číselník právnych foriem ŠÚ SR'!$B:$C,2,0),"") -> 701 | F33: 394 | G33: Čisté brehy vodnej nádrže Ružín | H33: Podpora regionálneho rozvoja | I33: Margecany | J33: 44301 | K33: schválená | L33: 44510 | M33: 45000 | N33: 394 | O33: 1422/2021 | P33: 45000 | Q33: 5000 | R33: 44526 | S33: 44197 | T33: 44651
A34: 8270/2021/OSMRR | B34: Konzultačné a ifnormačné centrum EDUKOS, o. z. | C34: 37801848 | D34: Združenie (zväz, spolok, spoločnosť, klub ai.) | E34: =IFERROR(VLOOKUP(D34,'Číselník právnych foriem ŠÚ SR'!$B:$C,2,0),"") -> 701 | F34: 353 | G34: Spolu dokážeme viac | H34: Podpora regionálneho rozvoja | I34: Dolný Kubín | J34: 44301 | K34: schválená | L34: 44510 | M34: 13688.1 | N34: 353 | O34: 1423/2021 | P34: 13567.5 | Q34: 1520.9 | R34: 44526 | S34: 44197 | T34: 44651
A35: 8270/2021/OSMRR | B35: Maják nádeje | C35: 42111510 | D35: Združenie (zväz, spolok, spoločnosť, klub ai.) | E35: =IFERROR(VLOOKUP(D35,'Číselník právnych foriem ŠÚ SR'!$B:$C,2,0),"") -> 701 | F35: 164 | G35: Cesta k zamestnaniu | H35: Podpora regionálneho rozvoja | I35: Košice | J35: 44301 | K35: schválená | L35: 44510 | M35: 23031 | N35: 164 | O35: 1424/2021 | P35: 22131 | Q35: 2559 | R35: 44526 | S35: 44197 | T35: 44651
A36: 8270/2021/OSMRR | B36: PHYSIO CANIS, o.z. | C36: 42159709 | D36: Združenie (zväz, spolok, spoločnosť, klub ai.) | E36: =IFERROR(VLOOKUP(D36,'Číselník právnych foriem ŠÚ SR'!$B:$C,2,0),"") -> 701 | F36: 247 | G36: Rozvoj terapií a ich dostupnosti pre deti a mládež so zdravotným znevýhodnením v žilinskom regióne | H36: Podpora regionálneho rozvoja | I36: Žilina | J36: 44301 | K36: schválená | L36: 44510 | M36: 21919.5 | N36: 247 | O36: 1425/2021 | P36: 21919.5 | Q36: 2435.5 | R36: 44526 | S36: 44197 | T36: 44651
A37: 8270/2021/OSMRR | B37: Človek v ohrození, n.o. | C37: 50082001 | D37: Združenie (zväz, spolok, spoločnosť, klub ai.) | E37: =IFERROR(VLOOKUP(D37,'Číselník právnych foriem ŠÚ SR'!$B:$C,2,0),"") -> 701 | F37: 453 | G37: Uplatni sa! – Zvyšovanie uplatniteľnosti marginalizovaných rómskych komunít v Prešovskom kraji na otvorenom trhu práce | H37: Podpora regionálneho rozvoja | I37: Spišské Podhradie, Varhaňovce, Rožkovany, Kamenná Poruba, Čičava | J37: 44301 | K37: schválená | L37: 44510 | M37: 27360 | N37: 453 | O37: 1426/2021 | P37: 16076.16 | Q37: 3040 | R37: 44526 | S37: 44197 | T37: 44651
A38: 8270/2021/OSMRR | B38: CPR Trenčín | C38: 42378541 | D38: Združenie (zväz, spolok, spoločnosť, klub ai.) | E38: =IFERROR(VLOOKUP(D38,'Číselník právnych foriem ŠÚ SR'!$B:$C,2,0),"") -> 701 | F38: 346 | G38: Dedkov sprievodca digitálnou galaxiou | H38: Podpora regionálneho rozvoja | I38: Trenčín | J38: 44301 | K38: schválená | L38: 44510 | M38: 13451.4 | N38: 346 | O38: 1427/2021 | P38: 13095 | Q38: 1494.6 | R38: 44526 | S38: 44197 | T38: 44651
A39: 8270/2021/OSMRR | B39: V.I.A.C. – Inštitút pre podporu a rozvoj mládeže | C39: 42217202 | D39: Združenie (zväz, spolok, spoločnosť, klub ai.) | E39: =IFERROR(VLOOKUP(D39,'Číselník právnych foriem ŠÚ SR'!$B:$C,2,0),"") -> 701 | F39: 381 | G39: Učiaca sa Orava | H39: Podpora regionálneho rozvoja | I39: Trstená | J39: 44301 | K39: schválená | L39: 44510 | M39: 41045.9 | N39: 381 | O39: 1428/2021 | P39: 40307.85 | Q39: 4560.6 | R39: 44526 | S39: 44197 | T39: 44651
A40: 8270/2021/OSMRR | B40: Prešovská gotika | C40: 50621769 | D40: Združenie (zväz, spolok, spoločnosť, klub ai.) | E40: =IFERROR(VLOOKUP(D40,'Číselník právnych foriem ŠÚ SR'!$B:$C,2,0),"") -> 701 | F40: 436 | G40: Kalvária – miesto pre pľúca a dušu. | H40: Podpora regionálneho rozvoja | I40: Prešov | J40: 44301 | K40: schválená | L40: 44510 | M40: 17910 | N40: 436 | O40: 1429/2021 | P40: 17910 | Q40: 1990 | R40: 44532 | S40: 44197 | T40: 44651
A41: 8270/2021/OSMRR | B41: EnviSlovakia, o.z. | C41: 42181330 | D41: Združenie (zväz, spolok, spoločnosť, klub ai.) | E41: =IFERROR(VLOOKUP(D41,'Číselník právnych foriem ŠÚ SR'!$B:$C,2,0),"") -> 701 | F41: 439 | G41: Monitorovanie rizikových parametrov pôdneho vzduchu na vybraných environmentálnych záťažiach vo vzťahu k životnému prostrediu | H41: Podpora regionálneho rozvoja | I41: Bratislava I, II, V; Piešťany | J41: 44301 | K41: schválená | L41: 44510 | M41: 40279.8 | N41: 439 | O41: 1430/2021 | P41: 40279.8 | Q41: 4475.54 | R41: 44532 | S41: 44197 | T41: 44651
A42: 8270/2021/OSMRR | B42: Fórum života | C42: 31815839 | D42: Združenie (zväz, spolok, spoločnosť, klub ai.) | E42: =IFERROR(VLOOKUP(D42,'Číselník právnych foriem ŠÚ SR'!$B:$C,2,0),"") -> 701 | F42: 534 | G42: Sieť pomoci | H42: Podpora regionálneho rozvoja | I42: Slovenská republika | J42: 44301 | K42: schválená | L42: 44510 | M42: 49447.1 | N42: 534 | O42: 1431/2021 | P42: 49447.1 | Q42: 5494.25 | R42: 44532 | S42: 44197 | T42: 44651
A43: 8270/2021/OSMRR | B43: Revitalizácia kaštieľa Teplička nad Váhom | C43: 42215331 | D43: Združenie (zväz, spolok, spoločnosť, klub ai.) | E43: =IFERROR(VLOOKUP(D43,'Číselník právnych foriem ŠÚ SR'!$B:$C,2,0),"") -> 701 | F43: 102 | G43: Kaštieľ Teplička ako súčasť kultúrneho dedičstva žilinského regiónu | H43: Podpora regionálneho rozvoja | I43: Teplička nad Váhom | J43: 44299 | K43: schválená | L43: 44510 | M43: 42300 | N43: 102 | O43: 1433/2021 | P43: 42300 | Q43: 4700 | R43: 44526 | S43: 44197 | T43: 44651
...

Sheet Číselník právnych foriem ŠÚ SR
A1: Kód | B1: Názov | C1: Kód
A2: 100 | B2: Fyzická osoba-príležitostne činná-zapísaná v registri daňového informačného systému | C2: 100
A3: 101 | B3: Podnikateľ-fyzická osoba-nezapísaný v obchodnom registri | C3: 101
A4: 102 | B4: Podnikateľ-fyzická osoba-zapísaný v obchodnom registri | C4: 102
A5: 103 | B5: Samostatne hospodáriaci roľník nezapísaný v obchodnom registri | C5: 103
A6: 104 | B6: Samostatne hospodáriaci roľník zapísaný v obchodnom registri | C6: 104
A7: 105 | B7: Slobodné povolanie-fyzická osoba podnikajúca na základe iného ako živnostenského zákona | C7: 105
A8: 106 | B8: Slobodné povolanie-fyzická osoba podnikajúca na základe iného ako živnostenského zákona zapísaná v obchodnom registri | C8: 106
A9: 107 | B9: Podnikateľ-fyzická osoba-nezapís.v OR-podnikajúca súčasne ako sam.hosp.roľník | C9: 107
A10: 108 | B10: Podnikateľ-fyzická osoba-zapís.v OR-podnikajúca súčasne ako sam.hosp.roľník | C10: 108
A11: 109 | B11: Podnikateľ-fyzická osoba-nezapís.v OR-podnikajúca súčasne ako osoba so slobodným povolaním | C11: 109
A12: 110 | B12: Podnikateľ-fyzická osoba-zapís.v OR-podnikajúca súčasne ako osoba so slobodným povolaním | C12: 110
A13: 111 | B13: Verejná obchodná spoločnosť | C13: 111
... A58: 273 | B58: Združenie účastníkov pozemkových úprav | C58: 273
A59: 000 | B59: fyzická osoba, ktorá dovŕšila vek 18 rokov | C59: 000
