Workbook

Sheet Schéma_vyplnenie
A1: Súhrnná informácia o poskytnutých prostriedkoch
A2: Identifikátor schémy | B2: Názov dotačnej schémy | C2: Legislatívny predpis | D2: Identifikátor legislatívneho predpisu | E2: Alokované prostriedky na schému | F2: Zdroj financovania | G2: Kód zdroja financovania | H2: Názov poskytovateľa | I2: IČO poskytovateľa
A3: 1 | B3: Podpora regionálneho rozvoja | C3: zákon o podpore regionálneho rozvoja | D3: 539/2008 | E3: 18710178 | F3: Štátny rozpočet | G3: =IFERROR(VLOOKUP(F3,'Číselník zdrojov financovanie'!$B:$C,2,0),"") -> 5 | H3: Ministerstvo investícií, regionálneho rozvoja a informatizácie SR | I3: 50 349 287
A4: 2 | B4: Podpora najmenej rozvinutých okresov | C4: zákon o podpore najmenej rozvinutých okresov | D4: 336/2015 | E4: 9665273.9 | F4: Štátny rozpočet | G4: =IFERROR(VLOOKUP(F4,'Číselník zdrojov financovanie'!$B:$C,2,0),"") -> 5 | H4: Ministerstvo investícií, regionálneho rozvoja a informatizácie SR | I4: 50 349 287
G5: =IFERROR(VLOOKUP(F5,'Číselník zdrojov financovanie'!$B:$C,2,0),"")
G6: =IFERROR(VLOOKUP(F6,'Číselník zdrojov financovanie'!$B:$C,2,0),"")
G7: =IFERROR(VLOOKUP(F7,'Číselník zdrojov financovanie'!$B:$C,2,0),"")
G8: =IFERROR(VLOOKUP(F8,'Číselník zdrojov financovanie'!$B:$C,2,0),"")
G9: =IFERROR(VLOOKUP(F9,'Číselník zdrojov financovanie'!$B:$C,2,0),"")
G10: =IFERROR(VLOOKUP(F10,'Číselník zdrojov financovanie'!$B:$C,2,0),"")
G11: =IFERROR(VLOOKUP(F11,'Číselník zdrojov financovanie'!$B:$C,2,0),"")
G12: =IFERROR(VLOOKUP(F12,'Číselník zdrojov financovanie'!$B:$C,2,0),"")
G13: =IFERROR(VLOOKUP(F13,'Číselník zdrojov financovanie'!$B:$C,2,0),"")
G14: =IFERROR(VLOOKUP(F14,'Číselník zdrojov financovanie'!$B:$C,2,0),"")
G15: =IFERROR(VLOOKUP(F15,'Číselník zdrojov financovanie'!$B:$C,2,0),"")
G16: =IFERROR(VLOOKUP(F16,'Číselník zdrojov financovanie'!$B:$C,2,0),"")
... G337: =IFERROR(VLOOKUP(F337,'Číselník zdrojov financovanie'!$B:$C,2,0),"")
G338: =IFERROR(VLOOKUP(F338,'Číselník zdrojov financovanie'!B:C,2,0),"")

Sheet Číselník zdrojov financovanie
A1: 1 | B1: Finančný mechanizmus EHP/Štátny rozpočet | C1: 1
A2: 2 | B2: Nórsky finančný mechanizmus/Štátny rozpočet | C2: 2
A3: 3 | B3: Nórsky finančný mechanizmus/Finančný mechanizmus EHP | C3: 3
A4: 4 | B4: Švajčiarsky finančný mechanizmus/Štátny rozpočet | C4: 4
A5: 5 | B5: Štátny rozpočet | C5: 5
A6: 6 | B6: Iný | C6: 6
A7: 7 | B7: Európsky fond regionálneho rozvoja | C7: 7
A8: 8 | B8: Európsky sociálny fond | C8: 8
A9: 9 | B9: Kohézny fond | C9: 9
A10: 10 | B10: Európsky poľnohospodársky fond pre rozvoj vidieka | C10: 10
A11: 11 | B11: Európsky námorný a rybársky fond | C11: 11
A12: 12 | B12: Rozpočty územných samospráv | C12: 12

Sheet Výzva_vyplnenie 
A1: Súhrnná informácia o výzve z dotačnej schémy
A2: Identifikátor schémy | B2: názov dotačnej schémy | C2: názov poskytovateľa | D2: IČO poskytovateľa | E2: Identifikátor výzvy | F2: Názov výzvy | G2: Alokované prostriedky na výzvu / disponibilný objem zdrojov | H2: Minimálna výška poskytnutej dotácie / minimálna výška dotácie | I2: Maximálna výška poskytnutej dotácie / maximálna výška dotácie | J2: Termín zverejnenia výzvy / dátum zverejnenia vyzvania | K2: Termín otvorenia podávania žiadostí | L2: Termín ukončenia predkladania žiadostí
A3: =IFERROR(INDEX(Schéma_vyplnenie!A:A,MATCH('Výzva_vyplnenie '!B3,Schéma_vyplnenie!B:B,0),),"") -> 1 | B3: Podpora regionálneho rozvoja | C3: =IFERROR(VLOOKUP(B3,Schéma_vyplnenie!$B:$I,7,0),"") -> Ministerstvo investícií, regionálneho rozvoja a informatizácie SR | D3: =IFERROR(VLOOKUP(B3,Schéma_vyplnenie!$B:$I,8,0),"") -> 50 349 287 | E3: 8270/2021/OSMRR | F3: Podpora regionálneho rozvoja | G3: 2110178 | H3: 10000 | I3: 50000 | J3: 44270 | K3: 44270 | L3: 44301
A4: =IFERROR(INDEX(Schéma_vyplnenie!A:A,MATCH('Výzva_vyplnenie '!B4,Schéma_vyplnenie!B:B,0),),"") -> 1 | B4: Podpora regionálneho rozvoja | C4: =IFERROR(VLOOKUP(B4,Schéma_vyplnenie!$B:$I,7,0),"") -> Ministerstvo investícií, regionálneho rozvoja a informatizácie SR | D4: =IFERROR(VLOOKUP(B4,Schéma_vyplnenie!$B:$I,8,0),"") -> 50 349 287 | E4: 12861/2021/OSMRR | F4: Podpora regionálneho rozvoja | G4: 16600000 | H4: 40000 | I4: 250000 | J4: 44475 | K4: 44475 | L4: 44505
A5: =IFERROR(INDEX(Schéma_vyplnenie!A:A,MATCH('Výzva_vyplnenie '!B5,Schéma_vyplnenie!B:B,0),),"") -> 2 | B5: Podpora najmenej rozvinutých okresov | C5: =IFERROR(VLOOKUP(B5,Schéma_vyplnenie!$B:$I,7,0),"") -> Ministerstvo investícií, regionálneho rozvoja a informatizácie SR | D5: =IFERROR(VLOOKUP(B5,Schéma_vyplnenie!$B:$I,8,0),"") -> 50 349 287 | E5: 04/OÚBJ/2020 | F5: Ročné priority Akčného plánu rozvoja okresu Bardejov na rok 2021 | G5: 941950.8 | H5: - | I5: - | J5: 44046 | K5: 44046 | L5: 44077
A6: =IFERROR(INDEX(Schéma_vyplnenie!A:A,MATCH('Výzva_vyplnenie '!B6,Schéma_vyplnenie!B:B,0),),"") -> 2 | B6: Podpora najmenej rozvinutých okresov | C6: =IFERROR(VLOOKUP(B6,Schéma_vyplnenie!$B:$I,7,0),"") -> Ministerstvo investícií, regionálneho rozvoja a informatizácie SR | D6: =IFERROR(VLOOKUP(B6,Schéma_vyplnenie!$B:$I,8,0),"") -> 50 349 287 | E6: 1/OÚ-KS/2021 | F6: Ročné priority Akčného plánu rozvoja okresu Košice-okolie na rok 2021 | G6: 624250 | H6: - | I6: - | J6: 44076 | K6: 44076 | L6: 44095
A7: =IFERROR(INDEX(Schéma_vyplnenie!A:A,MATCH('Výzva_vyplnenie '!B7,Schéma_vyplnenie!B:B,0),),"") -> 2 | B7: Podpora najmenej rozvinutých okresov | C7: =IFERROR(VLOOKUP(B7,Schéma_vyplnenie!$B:$I,7,0),"") -> Ministerstvo investícií, regionálneho rozvoja a informatizácie SR | D7: =IFERROR(VLOOKUP(B7,Schéma_vyplnenie!$B:$I,8,0),"") -> 50 349 287 | E7: 04/OÚ LE/2020 | F7: Ročné priority Akčného plánu rozvoja okresu Levoča na rok 2021 | G7: 390268 | H7: - | I7: - | J7: 44056 | K7: 44056 | L7: 44085
A8: =IFERROR(INDEX(Schéma_vyplnenie!A:A,MATCH('Výzva_vyplnenie '!B8,Schéma_vyplnenie!B:B,0),),"") -> 2 | B8: Podpora najmenej rozvinutých okresov | C8: =IFERROR(VLOOKUP(B8,Schéma_vyplnenie!$B:$I,7,0),"") -> Ministerstvo investícií, regionálneho rozvoja a informatizácie SR | D8: =IFERROR(VLOOKUP(B8,Schéma_vyplnenie!$B:$I,8,0),"") -> 50 349 287 | E8: 4/OÚMI/2020 | F8: Ročné priority Akčného plánu rozvoja okresu Michalovce na rok 2021 | G8: 1688508 | H8: - | I8: - | J8: 44060 | K8: 44060 | L8: 44091
A9: =IFERROR(INDEX(Schéma_vyplnenie!A:A,MATCH('Výzva_vyplnenie '!B9,Schéma_vyplnenie!B:B,0),),"") -> 2 | B9: Podpora najmenej rozvinutých okresov | C9: =IFERROR(VLOOKUP(B9,Schéma_vyplnenie!$B:$I,7,0),"") -> Ministerstvo investícií, regionálneho rozvoja a informatizácie SR | D9: =IFERROR(VLOOKUP(B9,Schéma_vyplnenie!$B:$I,8,0),"") -> 50 349 287 | E9: 4/OÚ - SV/2021 | F9: Ročné priority Akčného plánu rozvoja okresu Snina na rok 2021 | G9: 400567.49 | H9: - | I9: - | J9: 44053 | K9: 44053 | L9: 44074
A10: =IFERROR(INDEX(Schéma_vyplnenie!A:A,MATCH('Výzva_vyplnenie '!B10,Schéma_vyplnenie!B:B,0),),"") -> 2 | B10: Podpora najmenej rozvinutých okresov | C10: =IFERROR(VLOOKUP(B10,Schéma_vyplnenie!$B:$I,7,0),"") -> Ministerstvo investícií, regionálneho rozvoja a informatizácie SR | D10: =IFERROR(VLOOKUP(B10,Schéma_vyplnenie!$B:$I,8,0),"") -> 50 349 287 | E10: 02/OÚ SP/2020 | F10: Ročné priority Akčného plánu rozvoja okresu Stropkov na rok 2021 | G10: 488212 | H10: - | I10: - | J10: 44049 | K10: 44049 | L10: 44078
A11: =IFERROR(INDEX(Schéma_vyplnenie!A:A,MATCH('Výzva_vyplnenie '!B11,Schéma_vyplnenie!B:B,0),),"") -> 2 | B11: Podpora najmenej rozvinutých okresov | C11: =IFERROR(VLOOKUP(B11,Schéma_vyplnenie!$B:$I,7,0),"") -> Ministerstvo investícií, regionálneho rozvoja a informatizácie SR | D11: =IFERROR(VLOOKUP(B11,Schéma_vyplnenie!$B:$I,8,0),"") -> 50 349 287 | E11: 05/OÚBJ/2021 | F11: Aktualizácia ročných priorít Akčného plánu rozvoja okresu Bardejov na rok 2021 | G11: 370000 | H11: 10000 | I11: 100000 | J11: 44266 | K11: 44266 | L11: 44293
A12: =IFERROR(INDEX(Schéma_vyplnenie!A:A,MATCH('Výzva_vyplnenie '!B12,Schéma_vyplnenie!B:B,0),),"") -> 2 | B12: Podpora najmenej rozvinutých okresov | C12: =IFERROR(VLOOKUP(B12,Schéma_vyplnenie!$B:$I,7,0),"") -> Ministerstvo investícií, regionálneho rozvoja a informatizácie SR | D12: =IFERROR(VLOOKUP(B12,Schéma_vyplnenie!$B:$I,8,0),"") -> 50 349 287 | E12: 01/OÚGL/2021 | F12: Aktualizácia ročných priorít Akčného plánu rozvoja okresu Gelnica na rok 2021 | G12: 794980 | H12: 10000 | I12: 200000 | J12: 44271 | K12: 44271 | L12: 44298
A13: =IFERROR(INDEX(Schéma_vyplnenie!A:A,MATCH('Výzva_vyplnenie '!B13,Schéma_vyplnenie!B:B,0),),"") -> 2 | B13: Podpora najmenej rozvinutých okresov | C13: =IFERROR(VLOOKUP(B13,Schéma_vyplnenie!$B:$I,7,0),"") -> Ministerstvo investícií, regionálneho rozvoja a informatizácie SR | D13: =IFERROR(VLOOKUP(B13,Schéma_vyplnenie!$B:$I,8,0),"") -> 50 349 287 | E13: II/OÚ-KS/2021 | F13: Aktualizácia ročných priorít Akčného plánu rozvoja okresu Košice-okolie na rok 2021 | G13: 622686 | H13: 10000 | I13: 100000 | J13: 44270 | K13: 44270 | L13: 44298
A14: =IFERROR(INDEX(Schéma_vyplnenie!A:A,MATCH('Výzva_vyplnenie '!B14,Schéma_vyplnenie!B:B,0),),"") -> 2 | B14: Podpora najmenej rozvinutých okresov | C14: =IFERROR(VLOOKUP(B14,Schéma_vyplnenie!$B:$I,7,0),"") -> Ministerstvo investícií, regionálneho rozvoja a informatizácie SR | D14: =IFERROR(VLOOKUP(B14,Schéma_vyplnenie!$B:$I,8,0),"") -> 50 349 287 | E14: 05/OÚ LE/2021 | F14: Aktualizácia ročných priorít Akčného plánu rozvoja okresu Levoča na rok 2021 | G14: 212651.6 | H14: 10000 | I14: 100000 | J14: 44272 | K14: 44272 | L14: 44301
A15: =IFERROR(INDEX(Schéma_vyplnenie!A:A,MATCH('Výzva_vyplnenie '!B15,Schéma_vyplnenie!B:B,0),),"") -> 2 | B15: Podpora najmenej rozvinutých okresov | C15: =IFERROR(VLOOKUP(B15,Schéma_vyplnenie!$B:$I,7,0),"") -> Ministerstvo investícií, regionálneho rozvoja a informatizácie SR | D15: =IFERROR(VLOOKUP(B15,Schéma_vyplnenie!$B:$I,8,0),"") -> 50 349 287 | E15: 08/OÚ ML/2021 | F15: Aktualizácia ročných priorít Akčného plánu rozvoja okresu Medzilaborce na rok 2021 | G15: 409998 | H15: 10000 | I15: 200000 | J15: 44252 | K15: 44252 | L15: 44280
A16: =IFERROR(INDEX(Schéma_vyplnenie!A:A,MATCH('Výzva_vyplnenie '!B16,Schéma_vyplnenie!B:B,0),),"") -> 2 | B16: Podpora najmenej rozvinutých okresov | C16: =IFERROR(VLOOKUP(B16,Schéma_vyplnenie!$B:$I,7,0),"") -> Ministerstvo investícií, regionálneho rozvoja a informatizácie SR | D16: =IFERROR(VLOOKUP(B16,Schéma_vyplnenie!$B:$I,8,0),"") -> 50 349 287 | E16: 09/OÚ ML/2021 | F16: Aktualizácia ročných priorít Akčného plánu rozvoja okresu Medzilaborce na rok 2021 | G16: 105286 | H16: 10000 | I16: 100000 | J16: 44356 | K16: 44356 | L16: 44362
A17: =IFERROR(INDEX(Schéma_vyplnenie!A:A,MATCH('Výzva_vyplnenie '!B17,Schéma_vyplnenie!B:B,0),),"") -> 2 | B17: Podpora najmenej rozvinutých okresov | C17: =IFERROR(VLOOKUP(B17,Schéma_vyplnenie!$B:$I,7,0),"") -> Ministerstvo investícií, regionálneho rozvoja a informatizácie SR | D17: =IFERROR(VLOOKUP(B17,Schéma_vyplnenie!$B:$I,8,0),"") -> 50 349 287 | E17: 5/OÚMI/2021 | F17: Aktualizácia ročných priorít Akčného plánu rozvoja okresu Michalovce na rok 2021 | G17: 2385340 | H17: - | I17: - | J17: 44209 | K17: 44209 | L17: 44253
A18: =IFERROR(INDEX(Schéma_vyplnenie!A:A,MATCH('Výzva_vyplnenie '!B18,Schéma_vyplnenie!B:B,0),),"") -> 2 | B18: Podpora najmenej rozvinutých okresov | C18: =IFERROR(VLOOKUP(B18,Schéma_vyplnenie!$B:$I,7,0),"") -> Ministerstvo investícií, regionálneho rozvoja a informatizácie SR | D18: =IFERROR(VLOOKUP(B18,Schéma_vyplnenie!$B:$I,8,0),"") -> 50 349 287 | E18: 5/OÚ - SV/2021 | F18: Aktualizácia ročných priorít Akčného plánu rozvoja okresu Snina na rok 2021 | G18: 230576 | H18: 10000 | I18: 50000 | J18: 44285 | K18: 45381 | L18: 44316
A19: =IFERROR(INDEX(Schéma_vyplnenie!A:A,MATCH('Výzva_vyplnenie '!B19,Schéma_vyplnenie!B:B,0),),"") | C19: =IFERROR(VLOOKUP(B19,Schéma_vyplnenie!$B:$I,7,0),"") | D19: =IFERROR(VLOOKUP(B19,Schéma_vyplnenie!$B:$I,8,0),"")
A20: =IFERROR(INDEX(Schéma_vyplnenie!A:A,MATCH('Výzva_vyplnenie '!B20,Schéma_vyplnenie!B:B,0),),"") | C20: =IFERROR(VLOOKUP(B20,Schéma_vyplnenie!$B:$I,7,0),"") | D20: =IFERROR(VLOOKUP(B20,Schéma_vyplnenie!$B:$I,8,0),"")
A21: =IFERROR(INDEX(Schéma_vyplnenie!A:A,MATCH('Výzva_vyplnenie '!B21,Schéma_vyplnenie!B:B,0),),"") | C21: =IFERROR(VLOOKUP(B21,Schéma_vyplnenie!$B:$I,7,0),"") | D21: =IFERROR(VLOOKUP(B21,Schéma_vyplnenie!$B:$I,8,0),"")
A22: =IFERROR(INDEX(Schéma_vyplnenie!A:A,MATCH('Výzva_vyplnenie '!B22,Schéma_vyplnenie!B:B,0),),"") | C22: =IFERROR(VLOOKUP(B22,Schéma_vyplnenie!$B:$I,7,0),"") | D22: =IFERROR(VLOOKUP(B22,Schéma_vyplnenie!$B:$I,8,0),"")
A23: =IFERROR(INDEX(Schéma_vyplnenie!A:A,MATCH('Výzva_vyplnenie '!B23,Schéma_vyplnenie!B:B,0),),"") | C23: =IFERROR(VLOOKUP(B23,Schéma_vyplnenie!$B:$I,7,0),"") | D23: =IFERROR(VLOOKUP(B23,Schéma_vyplnenie!$B:$I,8,0),"")
A24: =IFERROR(INDEX(Schéma_vyplnenie!A:A,MATCH('Výzva_vyplnenie '!B24,Schéma_vyplnenie!B:B,0),),"") | C24: =IFERROR(VLOOKUP(B24,Schéma_vyplnenie!$B:$I,7,0),"") | D24: =IFERROR(VLOOKUP(B24,Schéma_vyplnenie!$B:$I,8,0),"")
A25: =IFERROR(INDEX(Schéma_vyplnenie!A:A,MATCH('Výzva_vyplnenie '!B25,Schéma_vyplnenie!B:B,0),),"") | C25: =IFERROR(VLOOKUP(B25,Schéma_vyplnenie!$B:$I,7,0),"") | D25: =IFERROR(VLOOKUP(B25,Schéma_vyplnenie!$B:$I,8,0),"")
A26: =IFERROR(INDEX(Schéma_vyplnenie!A:A,MATCH('Výzva_vyplnenie '!B26,Schéma_vyplnenie!B:B,0),),"") | C26: =IFERROR(VLOOKUP(B26,Schéma_vyplnenie!$B:$I,7,0),"") | D26: =IFERROR(VLOOKUP(B26,Schéma_vyplnenie!$B:$I,8,0),"")
A27: =IFERROR(INDEX(Schéma_vyplnenie!A:A,MATCH('Výzva_vyplnenie '!B27,Schéma_vyplnenie!B:B,0),),"") | C27: =IFERROR(VLOOKUP(B27,Schéma_vyplnenie!$B:$I,7,0),"") | D27: =IFERROR(VLOOKUP(B27,Schéma_vyplnenie!$B:$I,8,0),"")
A28: =IFERROR(INDEX(Schéma_vyplnenie!A:A,MATCH('Výzva_vyplnenie '!B28,Schéma_vyplnenie!B:B,0),),"") | C28: =IFERROR(VLOOKUP(B28,Schéma_vyplnenie!$B:$I,7,0),"") | D28: =IFERROR(VLOOKUP(B28,Schéma_vyplnenie!$B:$I,8,0),"")
A29: =IFERROR(INDEX(Schéma_vyplnenie!A:A,MATCH('Výzva_vyplnenie '!B29,Schéma_vyplnenie!B:B,0),),"") | C29: =IFERROR(VLOOKUP(B29,Schéma_vyplnenie!$B:$I,7,0),"") | D29: =IFERROR(VLOOKUP(B29,Schéma_vyplnenie!$B:$I,8,0),"")
A30: =IFERROR(INDEX(Schéma_vyplnenie!A:A,MATCH('Výzva_vyplnenie '!B30,Schéma_vyplnenie!B:B,0),),"") | C30: =IFERROR(VLOOKUP(B30,Schéma_vyplnenie!$B:$I,7,0),"") | D30: =IFERROR(VLOOKUP(B30,Schéma_vyplnenie!$B:$I,8,0),"")
... A302: =IFERROR(INDEX(Schéma_vyplnenie!A:A,MATCH('Výzva_vyplnenie '!B302,Schéma_vyplnenie!B:B,0),),"") | C302: =IFERROR(VLOOKUP(B302,Schéma_vyplnenie!$B:$I,7,0),"") | D302: =IFERROR(VLOOKUP(B302,Schéma_vyplnenie!$B:$I,8,0),"")

Sheet Oprávnení žiadatelia_vyplnenie
A1: Informácia o tom, kto je oprávnený žiadať o dotácie z každej z výziev
A2: Identifikátor výzvy | B2: právna forma oprávneného žiadateľa | C2: kód právnej formy oprávneného žiadateľa | D2: podiel spolufinancovania v percentách
A3: 8270/2021/OSMRR | B3: záujmové združenie právnických osôb | C3: =IFERROR(INDEX('Číselník právnych foriem ŠÚ SR'!A:A,MATCH('Oprávnení žiadatelia_vyplnenie'!B3,'Číselník právnych foriem ŠÚ SR'!B:B,0)),"") -> 751 | D3: 10
A4: 8270/2021/OSMRR | B4: európske zoskupenie územnej spolupráce | C4: =IFERROR(INDEX('Číselník právnych foriem ŠÚ SR'!A:A,MATCH('Oprávnení žiadatelia_vyplnenie'!B4,'Číselník právnych foriem ŠÚ SR'!B:B,0)),"") -> 804 | D4: 10
A5: 8270/2021/OSMRR | B5: Združenie (zväz, spolok, spoločnosť, klub ai.) | C5: =IFERROR(INDEX('Číselník právnych foriem ŠÚ SR'!A:A,MATCH('Oprávnení žiadatelia_vyplnenie'!B5,'Číselník právnych foriem ŠÚ SR'!B:B,0)),"") -> 701 | D5: 10
A6: 8270/2021/OSMRR | B6: Nezisková organizácia poskytujúca všeobecne prospešné služby | C6: =IFERROR(INDEX('Číselník právnych foriem ŠÚ SR'!A:A,MATCH('Oprávnení žiadatelia_vyplnenie'!B6,'Číselník právnych foriem ŠÚ SR'!B:B,0)),"") -> 120 | D6: 10
A7: 12861/2021/OSMRR | B7: Obec (obecný úrad), mesto (mestský úrad) | C7: =IFERROR(INDEX('Číselník právnych foriem ŠÚ SR'!A:A,MATCH('Oprávnení žiadatelia_vyplnenie'!B7,'Číselník právnych foriem ŠÚ SR'!B:B,0)),"") -> 801 | D7: 0-5
A8: 04/OÚBJ/2020 | C8: =IFERROR(INDEX('Číselník právnych foriem ŠÚ SR'!A:A,MATCH('Oprávnení žiadatelia_vyplnenie'!B8,'Číselník právnych foriem ŠÚ SR'!B:B,0)),"") | D8: 0 - 40
A9: 1/OÚ-KS/2021 | C9: =IFERROR(INDEX('Číselník právnych foriem ŠÚ SR'!A:A,MATCH('Oprávnení žiadatelia_vyplnenie'!B9,'Číselník právnych foriem ŠÚ SR'!B:B,0)),"") | D9: 0 - 40
A10: 04/OÚ LE/2020 | C10: =IFERROR(INDEX('Číselník právnych foriem ŠÚ SR'!A:A,MATCH('Oprávnení žiadatelia_vyplnenie'!B10,'Číselník právnych foriem ŠÚ SR'!B:B,0)),"") | D10: 0 - 40
A11: 4/OÚMI/2020 | C11: =IFERROR(INDEX('Číselník právnych foriem ŠÚ SR'!A:A,MATCH('Oprávnení žiadatelia_vyplnenie'!B11,'Číselník právnych foriem ŠÚ SR'!B:B,0)),"") | D11: 0 - 40
A12: 4/OÚ - SV/2021 | C12: =IFERROR(INDEX('Číselník právnych foriem ŠÚ SR'!A:A,MATCH('Oprávnení žiadatelia_vyplnenie'!B12,'Číselník právnych foriem ŠÚ SR'!B:B,0)),"") | D12: 0 - 40
A13: 02/OÚ SP/2020 | C13: =IFERROR(INDEX('Číselník právnych foriem ŠÚ SR'!A:A,MATCH('Oprávnení žiadatelia_vyplnenie'!B13,'Číselník právnych foriem ŠÚ SR'!B:B,0)),"") | D13: 0 - 40
A14: 05/OÚBJ/2021 | B14: záujmové združenie právnických osôb | C14: =IFERROR(INDEX('Číselník právnych foriem ŠÚ SR'!A:A,MATCH('Oprávnení žiadatelia_vyplnenie'!B14,'Číselník právnych foriem ŠÚ SR'!B:B,0)),"") -> 751 | D14: 0 - 40
A15: 05/OÚBJ/2021 | B15: európske zoskupenie územnej spolupráce | C15: =IFERROR(INDEX('Číselník právnych foriem ŠÚ SR'!A:A,MATCH('Oprávnení žiadatelia_vyplnenie'!B15,'Číselník právnych foriem ŠÚ SR'!B:B,0)),"") -> 804 | D15: 0 - 40
A16: 05/OÚBJ/2021 | B16: Združenie (zväz, spolok, spoločnosť, klub ai.) | C16: =IFERROR(INDEX('Číselník právnych foriem ŠÚ SR'!A:A,MATCH('Oprávnení žiadatelia_vyplnenie'!B16,'Číselník právnych foriem ŠÚ SR'!B:B,0)),"") -> 701 | D16: 0 - 40
A17: 05/OÚBJ/2021 | B17: Nezisková organizácia poskytujúca všeobecne prospešné služby | C17: =IFERROR(INDEX('Číselník právnych foriem ŠÚ SR'!A:A,MATCH('Oprávnení žiadatelia_vyplnenie'!B17,'Číselník právnych foriem ŠÚ SR'!B:B,0)),"") -> 120 | D17: 0 - 40
A18: 05/OÚBJ/2021 | B18: Cirkevná organizácia | C18: =IFERROR(INDEX('Číselník právnych foriem ŠÚ SR'!A:A,MATCH('Oprávnení žiadatelia_vyplnenie'!B18,'Číselník právnych foriem ŠÚ SR'!B:B,0)),"") -> 721 | D18: 0 - 40
A19: 05/OÚBJ/2021 | C19: =IFERROR(INDEX('Číselník právnych foriem ŠÚ SR'!A:A,MATCH('Oprávnení žiadatelia_vyplnenie'!B19,'Číselník právnych foriem ŠÚ SR'!B:B,0)),"") | D19: 0 - 40
A20: 05/OÚBJ/2021 | B20: Obec (obecný úrad), mesto (mestský úrad) | C20: =IFERROR(INDEX('Číselník právnych foriem ŠÚ SR'!A:A,MATCH('Oprávnení žiadatelia_vyplnenie'!B20,'Číselník právnych foriem ŠÚ SR'!B:B,0)),"") -> 801 | D20: 0 - 40
A21: 05/OÚBJ/2021 | B21: Samosprávny kraj (úrad samosprávneho kraja) | C21: =IFERROR(INDEX('Číselník právnych foriem ŠÚ SR'!A:A,MATCH('Oprávnení žiadatelia_vyplnenie'!B21,'Číselník právnych foriem ŠÚ SR'!B:B,0)),"") -> 803 | D21: 0 - 40
A22: 01/OÚGL/2021 | B22: záujmové združenie právnických osôb | C22: =IFERROR(INDEX('Číselník právnych foriem ŠÚ SR'!A:A,MATCH('Oprávnení žiadatelia_vyplnenie'!B22,'Číselník právnych foriem ŠÚ SR'!B:B,0)),"") -> 751 | D22: 0 - 40
A23: 01/OÚGL/2021 | B23: európske zoskupenie územnej spolupráce | C23: =IFERROR(INDEX('Číselník právnych foriem ŠÚ SR'!A:A,MATCH('Oprávnení žiadatelia_vyplnenie'!B23,'Číselník právnych foriem ŠÚ SR'!B:B,0)),"") -> 804 | D23: 0 - 40
A24: 01/OÚGL/2021 | B24: Združenie (zväz, spolok, spoločnosť, klub ai.) | C24: =IFERROR(INDEX('Číselník právnych foriem ŠÚ SR'!A:A,MATCH('Oprávnení žiadatelia_vyplnenie'!B24,'Číselník právnych foriem ŠÚ SR'!B:B,0)),"") -> 701 | D24: 0 - 40
A25: 01/OÚGL/2021 | B25: Nezisková organizácia poskytujúca všeobecne prospešné služby | C25: =IFERROR(INDEX('Číselník právnych foriem ŠÚ SR'!A:A,MATCH('Oprávnení žiadatelia_vyplnenie'!B25,'Číselník právnych foriem ŠÚ SR'!B:B,0)),"") -> 120 | D25: 0 - 40
A26: 01/OÚGL/2021 | B26: Obec (obecný úrad), mesto (mestský úrad) | C26: =IFERROR(INDEX('Číselník právnych foriem ŠÚ SR'!A:A,MATCH('Oprávnení žiadatelia_vyplnenie'!B26,'Číselník právnych foriem ŠÚ SR'!B:B,0)),"") -> 801 | D26: 0 - 40
A27: 01/OÚGL/2021 | B27: Samosprávny kraj (úrad samosprávneho kraja) | C27: =IFERROR(INDEX('Číselník právnych foriem ŠÚ SR'!A:A,MATCH('Oprávnení žiadatelia_vyplnenie'!B27,'Číselník právnych foriem ŠÚ SR'!B:B,0)),"") -> 803 | D27: 0 - 40
A28: 01/OÚGL/2021 | C28: =IFERROR(INDEX('Číselník právnych foriem ŠÚ SR'!A:A,MATCH('Oprávnení žiadatelia_vyplnenie'!B28,'Číselník právnych foriem ŠÚ SR'!B:B,0)),"") | D28: 0 - 40
A29: II/OÚ-KS/2021 | C29: =IFERROR(INDEX('Číselník právnych foriem ŠÚ SR'!A:A,MATCH('Oprávnení žiadatelia_vyplnenie'!B29,'Číselník právnych foriem ŠÚ SR'!B:B,0)),"") | D29: 0 - 40
A30: 05/OÚ LE/2021 | B30: záujmové združenie právnických osôb | C30: =IFERROR(INDEX('Číselník právnych foriem ŠÚ SR'!A:A,MATCH('Oprávnení žiadatelia_vyplnenie'!B30,'Číselník právnych foriem ŠÚ SR'!B:B,0)),"") -> 751 | D30: 0 - 40
A31: 05/OÚ LE/2021 | B31: európske zoskupenie územnej spolupráce | C31: =IFERROR(INDEX('Číselník právnych foriem ŠÚ SR'!A:A,MATCH('Oprávnení žiadatelia_vyplnenie'!B31,'Číselník právnych foriem ŠÚ SR'!B:B,0)),"") -> 804 | D31: 0 - 40
A32: 05/OÚ LE/2021 | B32: Združenie (zväz, spolok, spoločnosť, klub ai.) | C32: =IFERROR(INDEX('Číselník právnych foriem ŠÚ SR'!A:A,MATCH('Oprávnení žiadatelia_vyplnenie'!B32,'Číselník právnych foriem ŠÚ SR'!B:B,0)),"") -> 701 | D32: 0 - 40
A33: 05/OÚ LE/2021 | B33: Nezisková organizácia poskytujúca všeobecne prospešné služby | C33: =IFERROR(INDEX('Číselník právnych foriem ŠÚ SR'!A:A,MATCH('Oprávnení žiadatelia_vyplnenie'!B33,'Číselník právnych foriem ŠÚ SR'!B:B,0)),"") -> 120 | D33: 0 - 40
A34: 05/OÚ LE/2021 | B34: Obec (obecný úrad), mesto (mestský úrad) | C34: =IFERROR(INDEX('Číselník právnych foriem ŠÚ SR'!A:A,MATCH('Oprávnení žiadatelia_vyplnenie'!B34,'Číselník právnych foriem ŠÚ SR'!B:B,0)),"") -> 801 | D34: 0 - 40
A35: 05/OÚ LE/2021 | B35: Samosprávny kraj (úrad samosprávneho kraja) | C35: =IFERROR(INDEX('Číselník právnych foriem ŠÚ SR'!A:A,MATCH('Oprávnení žiadatelia_vyplnenie'!B35,'Číselník právnych foriem ŠÚ SR'!B:B,0)),"") -> 803 | D35: 0 - 40
A36: 05/OÚ LE/2021 | C36: =IFERROR(INDEX('Číselník právnych foriem ŠÚ SR'!A:A,MATCH('Oprávnení žiadatelia_vyplnenie'!B36,'Číselník právnych foriem ŠÚ SR'!B:B,0)),"") | D36: 0 - 40
A37: 08/OÚ ML/2021 | B37: záujmové združenie právnických osôb | C37: =IFERROR(INDEX('Číselník právnych foriem ŠÚ SR'!A:A,MATCH('Oprávnení žiadatelia_vyplnenie'!B37,'Číselník právnych foriem ŠÚ SR'!B:B,0)),"") -> 751 | D37: 0 - 40
A38: 08/OÚ ML/2021 | B38: európske zoskupenie územnej spolupráce | C38: =IFERROR(INDEX('Číselník právnych foriem ŠÚ SR'!A:A,MATCH('Oprávnení žiadatelia_vyplnenie'!B38,'Číselník právnych foriem ŠÚ SR'!B:B,0)),"") -> 804 | D38: 0 - 40
A39: 08/OÚ ML/2021 | B39: Združenie (zväz, spolok, spoločnosť, klub ai.) | C39: =IFERROR(INDEX('Číselník právnych foriem ŠÚ SR'!A:A,MATCH('Oprávnení žiadatelia_vyplnenie'!B39,'Číselník právnych foriem ŠÚ SR'!B:B,0)),"") -> 701 | D39: 0 - 40
A40: 08/OÚ ML/2021 | B40: Nezisková organizácia poskytujúca všeobecne prospešné služby | C40: =IFERROR(INDEX('Číselník právnych foriem ŠÚ SR'!A:A,MATCH('Oprávnení žiadatelia_vyplnenie'!B40,'Číselník právnych foriem ŠÚ SR'!B:B,0)),"") -> 120 | D40: 0 - 40
A41: 08/OÚ ML/2021 | B41: Obec (obecný úrad), mesto (mestský úrad) | C41: =IFERROR(INDEX('Číselník právnych foriem ŠÚ SR'!A:A,MATCH('Oprávnení žiadatelia_vyplnenie'!B41,'Číselník právnych foriem ŠÚ SR'!B:B,0)),"") -> 801 | D41: 0 - 40
A42: 08/OÚ ML/2021 | B42: Samosprávny kraj (úrad samosprávneho kraja) | C42: =IFERROR(INDEX('Číselník právnych foriem ŠÚ SR'!A:A,MATCH('Oprávnení žiadatelia_vyplnenie'!B42,'Číselník právnych foriem ŠÚ SR'!B:B,0)),"") -> 803 | D42: 0 - 40
A43: 09/OÚ ML/2021 | B43: Obec (obecný úrad), mesto (mestský úrad) | C43: =IFERROR(INDEX('Číselník právnych foriem ŠÚ SR'!A:A,MATCH('Oprávnení žiadatelia_vyplnenie'!B43,'Číselník právnych foriem ŠÚ SR'!B:B,0)),"") -> 801 | D43: 0 - 40
A44: 5/OÚMI/2021 | C44: =IFERROR(INDEX('Číselník právnych foriem ŠÚ SR'!A:A,MATCH('Oprávnení žiadatelia_vyplnenie'!B44,'Číselník právnych foriem ŠÚ SR'!B:B,0)),"") | D44: 0 - 40
A45: 5/OÚ - SV/2021 | B45: Združenie (zväz, spolok, spoločnosť, klub ai.) | C45: =IFERROR(INDEX('Číselník právnych foriem ŠÚ SR'!A:A,MATCH('Oprávnení žiadatelia_vyplnenie'!B45,'Číselník právnych foriem ŠÚ SR'!B:B,0)),"") -> 701 | D45: 0 - 40
A46: 5/OÚ - SV/2021 | B46: Nezisková organizácia poskytujúca všeobecne prospešné služby | C46: =IFERROR(INDEX('Číselník právnych foriem ŠÚ SR'!A:A,MATCH('Oprávnení žiadatelia_vyplnenie'!B46,'Číselník právnych foriem ŠÚ SR'!B:B,0)),"") -> 120 | D46: 0 - 40
A47: 5/OÚ - SV/2021 | B47: Obec (obecný úrad), mesto (mestský úrad) | C47: =IFERROR(INDEX('Číselník právnych foriem ŠÚ SR'!A:A,MATCH('Oprávnení žiadatelia_vyplnenie'!B47,'Číselník právnych foriem ŠÚ SR'!B:B,0)),"") -> 801 | D47: 0 - 40
A48: 5/OÚ - SV/2021 | C48: =IFERROR(INDEX('Číselník právnych foriem ŠÚ SR'!A:A,MATCH('Oprávnení žiadatelia_vyplnenie'!B48,'Číselník právnych foriem ŠÚ SR'!B:B,0)),"") | D48: 0 - 40
C49: =IFERROR(INDEX('Číselník právnych foriem ŠÚ SR'!A:A,MATCH('Oprávnení žiadatelia_vyplnenie'!B49,'Číselník právnych foriem ŠÚ SR'!B:B,0)),"")
C50: =IFERROR(INDEX('Číselník právnych foriem ŠÚ SR'!A:A,MATCH('Oprávnení žiadatelia_vyplnenie'!B50,'Číselník právnych foriem ŠÚ SR'!B:B,0)),"")
C51: =IFERROR(INDEX('Číselník právnych foriem ŠÚ SR'!A:A,MATCH('Oprávnení žiadatelia_vyplnenie'!B51,'Číselník právnych foriem ŠÚ SR'!B:B,0)),"")
C52: =IFERROR(INDEX('Číselník právnych foriem ŠÚ SR'!A:A,MATCH('Oprávnení žiadatelia_vyplnenie'!B52,'Číselník právnych foriem ŠÚ SR'!B:B,0)),"")
C53: =IFERROR(INDEX('Číselník právnych foriem ŠÚ SR'!A:A,MATCH('Oprávnení žiadatelia_vyplnenie'!B53,'Číselník právnych foriem ŠÚ SR'!B:B,0)),"")
C54: =IFERROR(INDEX('Číselník právnych foriem ŠÚ SR'!A:A,MATCH('Oprávnení žiadatelia_vyplnenie'!B54,'Číselník právnych foriem ŠÚ SR'!B:B,0)),"")
C55: =IFERROR(INDEX('Číselník právnych foriem ŠÚ SR'!A:A,MATCH('Oprávnení žiadatelia_vyplnenie'!B55,'Číselník právnych foriem ŠÚ SR'!B:B,0)),"")
C56: =IFERROR(INDEX('Číselník právnych foriem ŠÚ SR'!A:A,MATCH('Oprávnení žiadatelia_vyplnenie'!B56,'Číselník právnych foriem ŠÚ SR'!B:B,0)),"")
C57: =IFERROR(INDEX('Číselník právnych foriem ŠÚ SR'!A:A,MATCH('Oprávnení žiadatelia_vyplnenie'!B57,'Číselník právnych foriem ŠÚ SR'!B:B,0)),"")
C58: =IFERROR(INDEX('Číselník právnych foriem ŠÚ SR'!A:A,MATCH('Oprávnení žiadatelia_vyplnenie'!B58,'Číselník právnych foriem ŠÚ SR'!B:B,0)),"")
C59: =IFERROR(INDEX('Číselník právnych foriem ŠÚ SR'!A:A,MATCH('Oprávnení žiadatelia_vyplnenie'!B59,'Číselník právnych foriem ŠÚ SR'!B:B,0)),"")
C60: =IFERROR(INDEX('Číselník právnych foriem ŠÚ SR'!A:A,MATCH('Oprávnení žiadatelia_vyplnenie'!B60,'Číselník právnych foriem ŠÚ SR'!B:B,0)),"")
C61: =IFERROR(INDEX('Číselník právnych foriem ŠÚ SR'!A:A,MATCH('Oprávnení žiadatelia_vyplnenie'!B61,'Číselník právnych foriem ŠÚ SR'!B:B,0)),"")

Sheet Žiadosť _vyplnenie
A1: Informácia o žiadosti o projekt/projekte
A2: Identifikátor výzvy | B2: Názov žiadateľa | C2: IČO žiadateľa | D2: Právna forma oprávneného žiadateľa | E2: kód právnej formy oprávneného žiadateľa | F2: Číselný identifikátor žiadosti | G2: Názov projektu | H2: Stručný popis projektu | I2: Miesto realizácie projektu | J2: Dátum podania žiadosti | K2: stav vyhodnotenia žiadosti | L2: Dátum rozhodnutia o žiadosti / projekte | M2: Výška žiadanej sumy | N2: Číslo projektu schválenej žiadosti | O2: Číslo zmluvy o poskytnutí dotácie uverejnené v CRZ | P2: Výška schválenej sumy | Q2: Výška spolufinancovania | R2: Dátum uverejnenia zmluvy v CRZ | S2: Dátum začiatku realizácie projektu | T2: Dátum ukončenia realizácie projektu | U2: Výška neoprávnených výdavkov | V2: Výška nevyčerpanej dotácie
A3: 8270/2021/OSMRR | B3: Občianske združenie Ekoenergia | C3: 31941851 | D3: Združenie (zväz, spolok, spoločnosť, klub ai.) | E3: =IFERROR(VLOOKUP(D3,'Číselník právnych foriem ŠÚ SR'!$B:$C,2,0),"") -> 701 | F3: 441 | G3: Kráľovna obilnín – ŠPALDA má svoje miesto v Rajeckej doline | H3: Podpora regionálneho rozvoja | I3: Rajec | J3: 44301 | K3: schválená | L3: 44489 | M3: 31389.1 | N3: 441 | O3: 1311/2021 | P3: 31389.1 | Q3: 3487.7 | R3: 44509 | S3: 44197 | T3: 44651
A4: 8270/2021/OSMRR | B4: Európske zoskupenie územnej spolupráce Via Carpatia s ručením obmedzeným | C4: 45230030 | D4: Európske zoskupenie územnej spolupráce | E4: =IFERROR(VLOOKUP(D4,'Číselník právnych foriem ŠÚ SR'!$B:$C,2,0),"") -> 804 | F4: 63 | G4: „Zlepšime environmentálnu zodpovednosť žiakov!“ | H4: Podpora regionálneho rozvoja | I4: Košice | J4: 44300 | K4: schválená | L4: 44489 | M4: 47160 | N4: 63 | O4: 1294/2021 | P4: 47158.99 | Q4: 5239.89 | R4: 44518 | S4: 44197 | T4: 44651
A5: 8270/2021/OSMRR | B5: Bratislavské dobrovoľnícke centrum | C5: 42267111 | D5: Združenie (zväz, spolok, spoločnosť, klub ai.) | E5: =IFERROR(VLOOKUP(D5,'Číselník právnych foriem ŠÚ SR'!$B:$C,2,0),"") -> 701 | F5: 147 | G5: Dobrovoľníctvo v Bratislavskom samosprávnom kraji | H5: Podpora regionálneho rozvoja | I5: Bratislavský kraj | J5: 44301 | K5: schválená | L5: 44489 | M5: 19971 | N5: 147 | O5: 1300/2021 | P5: 19971 | Q5: 2219 | R5: 44512 | S5: 44197 | T5: 44651
A6: 8270/2021/OSMRR | B6: Miestna akčná skupina 11 PLUS | C6: 42404037 | D6: Združenie (zväz, spolok, spoločnosť, klub ai.) | E6: =IFERROR(VLOOKUP(D6,'Číselník právnych foriem ŠÚ SR'!$B:$C,2,0),"") -> 701 | F6: 89 | G6: Využitie turistického potenciálu MAS 11 PLUS na budovanie a posilňovanie miestnej komunity | H6: Podpora regionálneho rozvoja | I6: Členské obce MAS 11PLUS: Abrahám, Cífer, Hoste, Hrnčiarovce nad Parnou, Križovany nad Dudváhom, Majcichov, Opoj, Pavlice, Pusté Úľany, Slovenská Nová Ves, Veľké Úľany, Veľký Grob, Vlčkovce, Voderady, Zeleneč | J6: 44299 | K6: schválená | L6: 44489 | M6: 24660 | N6: 89 | O6: 1295/2021 | P6: 24660 | Q6: 2740 | R6: 44516 | S6: 44197 | T6: 44651
A7: 8270/2021/OSMRR | B7: Náš Kláštor pod Znievom | C7: 42350956 | D7: Združenie (zväz, spolok, spoločnosť, klub ai.) | E7: =IFERROR(VLOOKUP(D7,'Číselník právnych foriem ŠÚ SR'!$B:$C,2,0),"") -> 701 | F7: 221 | G7: Rozvoj turistickej infraštruktúry obce Kláštor pod Znievom prostredníctvom inovatívnych/tematických QR náučných tabúľ napojených na zážitkovú/edukatívnu hru Actionbound | H7: Podpora regionálneho rozvoja | I7: Kláštor pod Znievom | J7: 44301 | K7: schválená | L7: 44489 | M7: 27527.8 | N7: 221 | O7: 1305/2021 | P7: 27527.79 | Q7: 3058.64 | R7: 44522 | S7: 44197 | T7: 44651
A8: 8270/2021/OSMRR | B8: Občianske združenie Naše Zálesíčko | C8: 42354099 | D8: Združenie (zväz, spolok, spoločnosť, klub ai.) | E8: =IFERROR(VLOOKUP(D8,'Číselník právnych foriem ŠÚ SR'!$B:$C,2,0),"") -> 701 | F8: 155 | G8: Kultúrno ekologického centra - projekt Metamorfóza | H8: Podpora regionálneho rozvoja | I8: Zálesie | J8: 44301 | K8: schválená | L8: 44489 | M8: 49893.3 | N8: 155 | O8: 1301/2021 | P8: 49893.3 | Q8: 5543.7 | R8: 44516 | S8: 44197 | T8: 44651
A9: 8270/2021/OSMRR | B9: Kolpingovo dielo na Slovensku | C9: 31751491 | D9: Združenie (zväz, spolok, spoločnosť, klub ai.) | E9: =IFERROR(VLOOKUP(D9,'Číselník právnych foriem ŠÚ SR'!$B:$C,2,0),"") -> 701 | F9: 214 | G9: Vytvorenie oddychovej a kultúrno-spoločenskej zóny v historickom exteriéri obce Štiavnické Bane | H9: Podpora regionálneho rozvoja | I9: Štiavnické Bane | J9: 44301 | K9: schválená | L9: 44489 | M9: 49892.9 | N9: 214 | O9: 1187/2021 | P9: 49892.89 | Q9: 5543.66 | R9: 44512 | S9: 44197 | T9: 44651
A10: 8270/2021/OSMRR | B10: Banský Región - Terra Montanae | C10: 42315018 | D10: Združenie (zväz, spolok, spoločnosť, klub ai.) | E10: =IFERROR(VLOOKUP(D10,'Číselník právnych foriem ŠÚ SR'!$B:$C,2,0),"") -> 701 | F10: 503 | G10: Obnova turisticko-informačných prvkov náučného chodníka Barborská cesta | H10: Podpora regionálneho rozvoja | I10: Vybrané obce po trase | J10: 44301 | K10: schválená | L10: 44489 | M10: 23346.5 | N10: 503 | O10: 1147/2021 | P10: 23346.45 | Q10: 2594 | R10: 44518 | S10: 44197 | T10: 44651
A11: 8270/2021/OSMRR | B11: Centrum včasnej intervencie Košice, n. o. | C11: 50291467 | D11: Nezisková organizácia poskytujúca všeobecne prospešné služby | E11: =IFERROR(VLOOKUP(D11,'Číselník právnych foriem ŠÚ SR'!$B:$C,2,0),"") -> 120 | F11: 508 | G11: ALKA – komplexná podpora a pomoc pre deti so špeciálnymi výchovno – vzdelávacími potrebami a ich rodiny v Košiciach a okolí. | H11: Podpora regionálneho rozvoja | I11: Košice | J11: 44301 | K11: schválená | L11: 44489 | M11: 38137.4 | N11: 508 | O11: 1314/2021 | P11: 37524.29 | Q11: 4237.44 | R11: 44512 | S11: 44197 | T11: 44651
A12: 8270/2021/OSMRR | B12: Mareena | C12: 50760611 | D12: Združenie (zväz, spolok, spoločnosť, klub ai.) | E12: =IFERROR(VLOOKUP(D12,'Číselník právnych foriem ŠÚ SR'!$B:$C,2,0),"") -> 701 | F12: 185 | G12: Z CUDZINCOV MIESTNI - Angažovanie lokálnej spoločnosti do integrácie utečencov a migrantov | H12: Podpora regionálneho rozvoja | I12: Bratislava, Nitra, Košice | J12: 44301 | K12: schválená | L12: 44489 | M12: 36748.14 | N12: 185 | O12: 1304/2021 | P12: 35344.41 | Q12: 4083.17 | R12: 44516 | S12: 44197 | T12: 44651
A13: 8270/2021/OSMRR | B13: Futuristiq | C13: 42184061 | D13: Združenie (zväz, spolok, spoločnosť, klub ai.) | E13: =IFERROR(VLOOKUP(D13,'Číselník právnych foriem ŠÚ SR'!$B:$C,2,0),"") -> 701 | F13: 418 | G13: CovidHelper: monitoring, ochrana zdravia a osveta pre pacientov s post-covidovým syndrómom | H13: Podpora regionálneho rozvoja | I13: Banská Bystrica | J13: 44301 | K13: schválená | L13: 44489 | M13: 44451 | N13: 418 | O13: 1310/2021 | P13: 44451 | Q13: 4939 | R13: 44518 | S13: 44197 | T13: 44651
A14: 8270/2021/OSMRR | B14: ZDRUŽENIE HRADU BYSTRICA | C14: 42141257 | D14: Združenie (zväz, spolok, spoločnosť, klub ai.) | E14: =IFERROR(VLOOKUP(D14,'Číselník právnych foriem ŠÚ SR'!$B:$C,2,0),"") -> 701 | F14: 135 | G14: Záchrana Bránovej veže Považskobystrického hradu | H14: Podpora regionálneho rozvoja | I14: Považská Bystrica | J14: 44300 | K14: schválená | L14: 44489 | M14: 25987.5 | N14: 135 | O14: 1298/2021 | P14: 12993.75 | Q14: 6725.5 | R14: 44509 | S14: 44197 | T14: 44651
A15: 8270/2021/OSMRR | B15: Pro Kalondiensis | C15: 35987111 | D15: Združenie (zväz, spolok, spoločnosť, klub ai.) | E15: =IFERROR(VLOOKUP(D15,'Číselník právnych foriem ŠÚ SR'!$B:$C,2,0),"") -> 701 | F15: 309 | G15: RepubliKalonda | H15: Podpora regionálneho rozvoja | I15: Kalonda | J15: 44301 | K15: schválená | L15: 44489 | M15: 21845.8 | N15: 309 | O15: 1307/2021 | P15: 21845.79 | Q15: 156069.81 | R15: 44516 | S15: 44197 | T15: 44651
A16: 8270/2021/OSMRR | B16: Občianske združenie VERBUM | C16: 37866982 | D16: Združenie (zväz, spolok, spoločnosť, klub ai.) | E16: =IFERROR(VLOOKUP(D16,'Číselník právnych foriem ŠÚ SR'!$B:$C,2,0),"") -> 701 | F16: 27 | G16: Kostol Nanebovzatia Panny Márie v Nitre na Kalvárii – reštaurátorský výskum, návrh na reštaurovanie, vlhkostný posudok a návrh na sanáciu, populárno-náučná publikácia | H16: Podpora regionálneho rozvoja | I16: Nitra | J16: 44298 | K16: schválená | L16: 44489 | M16: 16469 | N16: 27 | O16: 1293/2021 | P16: 16469 | Q16: 1829.92 | R16: 44516 | S16: 44197 | T16: 44651
A17: 8270/2021/OSMRR | B17: Ižopská kultúrna spoločnosť IQUS Polgári Társulás | C17: 42287961 | D17: Združenie (zväz, spolok, spoločnosť, klub ai.) | E17: =IFERROR(VLOOKUP(D17,'Číselník právnych foriem ŠÚ SR'!$B:$C,2,0),"") -> 701 | F17: 242 | G17: OŽIVENIE MINULOSTI PRE BUDÚCNOSŤ – revitalizácia zelene (zveľaďovanie) | H17: Podpora regionálneho rozvoja | I17: Veľký Meder - Ižop | J17: 44301 | K17: schválená | L17: 44489 | M17: 40169 | N17: 242 | O17: 1186/2021 | P17: 40169 | Q17: 4463.27 | R17: 44509 | S17: 44197 | T17: 44651
A18: 8270/2021/OSMRR | B18: Fehér Fűz – Salix Alba | C18: 42426707 | D18: Združenie (zväz, spolok, spoločnosť, klub ai.) | E18: =IFERROR(VLOOKUP(D18,'Číselník právnych foriem ŠÚ SR'!$B:$C,2,0),"") -> 701 | F18: 284 | G18: Aqua vitae – živá voda | H18: Podpora regionálneho rozvoja | I18: Žihárec | J18: 44301 | K18: schválená | L18: 44489 | M18: 17937.5 | N18: 284 | O18: 1306/2021 | P18: 17937.5 | Q18: 1993.06 | R18: 44518 | S18: 44197 | T18: 44651
A19: 8270/2021/OSMRR | B19: Relevant n. o. | C19: 37887483 | D19: Nezisková organizácia poskytujúca všeobecne prospešné služby | E19: =IFERROR(VLOOKUP(D19,'Číselník právnych foriem ŠÚ SR'!$B:$C,2,0),"") -> 120 | F19: 481 | G19: Bezpečný priestor na rozvoj a rast | H19: Podpora regionálneho rozvoja | I19: Prešov | J19: 44301 | K19: schválená | L19: 44489 | M19: 33272.1 | N19: 481 | O19: 1312/2021 | P19: 33272.1 | Q19: 3696.9 | R19: 44518 | S19: 44197 | T19: 44651
A20: 8270/2021/OSMRR | B20: Asociácia Divadelná Nitra | C20: 34074571 | D20: Združenie (zväz, spolok, spoločnosť, klub ai.) | E20: =IFERROR(VLOOKUP(D20,'Číselník právnych foriem ŠÚ SR'!$B:$C,2,0),"") -> 701 | F20: 177 | G20: Celoročné využitie a rozvoj kultúrno-kreatívneho potenciálu nitrianskeho regiónu a podpora udržateľných komunít a ich kvality života prostredníctvom aktivít nového kultúrno-komunitného priestoru bod.K7 v nadväznosti na medzinárodný a národný kontext | H20: Podpora regionálneho rozvoja | I20: Nitra | J20: 44301 | K20: schválená | L20: 44489 | M20: 49979.7 | N20: 177 | O20: 1302/2021 | P20: 49979.7 | Q20: 5553.3 | R20: 44518 | S20: 44197 | T20: 44651
A21: 8270/2021/OSMRR | B21: Banícky spolok Spiš | C21: 42101034 | D21: Združenie (zväz, spolok, spoločnosť, klub ai.) | E21: =IFERROR(VLOOKUP(D21,'Číselník právnych foriem ŠÚ SR'!$B:$C,2,0),"") -> 701 | F21: 378 | G21: Rozvoj banského kultúrneho dedičstva a regiónu Spiš - interaktívna banská galéria Barborka a vonkajšia banská expozícia | H21: Podpora regionálneho rozvoja | I21: Spišská Nová Ves | J21: 44301 | K21: schválená | L21: 44489 | M21: 35580.8 | N21: 378 | O21: 1309/2021 | P21: 32738.15 | Q21: 3953.49 | R21: 44509 | S21: 44197 | T21: 44651
... A25: 8270/2021/OSMRR | B25: RAFAEL dom n.o. | C25: 45746079 | D25: Nezisková organizácia poskytujúca všeobecne prospešné služby | E25: =IFERROR(VLOOKUP(D25,'Číselník právnych foriem ŠÚ SR'!$B:$C,2,0),"") -> 120 | F25: 112 | G25: Modernizáciou vybavenia pre dlhodobo chorých k zlepšeniu kvality života a starostlivosti | H25: Podpora regionálneho rozvoja | I25: Petržalka | J25: 44299 | K25: schválená | L25: 44489 | M25: 49905 | N25: 112 | O25: 1296/2021 | P25: 49905 | Q25: 5545 | R25: 44522 | S25: 44197 | T25: 44651
A26: 8270/2021/OSMRR | B26: ROZVOJOVÁ AGENTÚRA Banskobystrického samosprávneho kraja, n.o. | C26: 51744422 | D26: Nezisková organizácia poskytujúca všeobecne prospešné služby | E26: =IFERROR(VLOOKUP(D26,'Číselník právnych foriem ŠÚ SR'!$B:$C,2,0),"") -> 120 | F26: 120 | G26: Zapojenie nezamestnaných do obnovy a výskumu Pustého hradu vo Zvolene | H26: Podpora regionálneho rozvoja | I26: Zvolen | J26: 44300 | K26: schválená | L26: 44489 | M26: 31050 | N26: 120 | O26: 1297/2021 | P26: 12960 | Q26: 1440 | R26: 44526 | S26: 44197 | T26: 44651
A27: 8270/2021/OSMRR | B27: Zachráň včely o.z. | C27: 51151014 | D27: Združenie (zväz, spolok, spoločnosť, klub ai.) | E27: =IFERROR(VLOOKUP(D27,'Číselník právnych foriem ŠÚ SR'!$B:$C,2,0),"") -> 701 | F27: 142 | G27: Včelári ako prvok regionálneho rozvoja a kultúrneho dedičstva | H27: Podpora regionálneho rozvoja | I27: Medzibrod | J27: 44300 | K27: schválená | L27: 44489 | M27: 49857.3 | N27: 142 | O27: 1299/2021 | P27: 49857.3 | Q27: 5539.7 | R27: 44509 | S27: 44197 | T27: 44651
A28: 8270/2021/OSMRR | B28: FolkEvent | C28: 52591123 | D28: Združenie (zväz, spolok, spoločnosť, klub ai.) | E28: =IFERROR(VLOOKUP(D28,'Číselník právnych foriem ŠÚ SR'!$B:$C,2,0),"") -> 701 | F28: 489 | G28: Rozprávkový les Art Boretum | H28: Podpora regionálneho rozvoja | I28: Oščadnica | J28: 44301 | K28: schválená | L28: 44489 | M28: 15090 | N28: 489 | O28: 1313/2021 | P28: 15089.09 | Q28: 1845 | R28: 44522 | S28: 44197 | T28: 44651
A29: 8270/2021/OSMRR | B29: Občianske združenie Tekov-Hont | C29: 42211824 | D29: Združenie (zväz, spolok, spoločnosť, klub ai.) | E29: =IFERROR(VLOOKUP(D29,'Číselník právnych foriem ŠÚ SR'!$B:$C,2,0),"") -> 701 | F29: 172 | G29: Revitalizácia zelene v regióne výsadbou stromových alejí | H29: Podpora regionálneho rozvoja | I29: Bátovce, Starý Hrádok, Mýtne Ludany,Lula | J29: 44301 | K29: schválená | L29: 44510 | M29: 13771.8 | N29: 172 | O29: 1418/2021 | P29: 13771.8 | Q29: 1530.2 | R29: 44532 | S29: 44197 | T29: 44651
A30: 8270/2021/OSMRR | B30: Castellum, n.o. | C30: 45734186 | D30: Nezisková organizácia poskytujúca všeobecne prospešné služby | E30: =IFERROR(VLOOKUP(D30,'Číselník právnych foriem ŠÚ SR'!$B:$C,2,0),"") -> 120 | F30: 464 | G30: „Zhodnotenie kultúrneho potenciálu NKP Nitriansky hrad v regióne prostredníctvom investícií do kultúrnej infraštruktúry miesta“ | H30: Podpora regionálneho rozvoja | I30: Nitra | J30: 44301 | K30: schválená | L30: 44510 | M30: 49941 | N30: 464 | O30: 1419/2021 | P30: 49221 | Q30: 5549 | R30: 44532 | S30: 44197 | T30: 44651
A31: 8270/2021/OSMRR | B31: Miestna akčná skupina Dudváh | C31: 42156131 | D31: Združenie (zväz, spolok, spoločnosť, klub ai.) | E31: =IFERROR(VLOOKUP(D31,'Číselník právnych foriem ŠÚ SR'!$B:$C,2,0),"") -> 701 | F31: 423 | G31: Spoločne za región | H31: Podpora regionálneho rozvoja | I31: Členské obce MAS Dudváh: Čierny Brod, Čierna Voda, Dolná Streda, Gáň, Kajal, Košúty, Matúškovo, Malá Mača, Váhovce, Veľká Mača, Mostová, Topoľnica | J31: 44301 | K31: schválená | L31: 44510 | M31: 25101 | N31: 423 | O31: 1420/2021 | P31: 25099.16 | Q31: 2786.96 | R31: 44537 | S31: 44197 | T31: 44651
A32: 8270/2021/OSMRR | B32: Pôtoň | C32: 36109185 | D32: Združenie (zväz, spolok, spoločnosť, klub ai.) | E32: =IFERROR(VLOOKUP(D32,'Číselník právnych foriem ŠÚ SR'!$B:$C,2,0),"") -> 701 | F32: 174 | G32: Park umenia – zelené epicentrum kultúry a umenia na slovenskom vidieku | H32: Podpora regionálneho rozvoja | I32: Bátovce | J32: 44301 | K32: schválená | L32: 44510 | M32: 49241 | N32: 174 | O32: 1421/2021 | P32: 49240.84 | Q32: 5471.2 | R32: 44537 | S32: 44197 | T32: 44651
A33: 8270/2021/OSMRR | B33: Margecianske fajnoty | C33: 51024233 | D33: Združenie (zväz, spolok, spoločnosť, klub ai.) | E33: =IFERROR(VLOOKUP(D33,'Číselník právnych foriem ŠÚ SR'!$B:$C,2,0),"") -> 701 | F33: 394 | G33: Čisté brehy vodnej nádrže Ružín | H33: Podpora regionálneho rozvoja | I33: Margecany | J33: 44301 | K33: schválená | L33: 44510 | M33: 45000 | N33: 394 | O33: 1422/2021 | P33: 45000 | Q33: 5000 | R33: 44526 | S33: 44197 | T33: 44651
A34: 8270/2021/OSMRR | B34: Konzultačné a ifnormačné centrum EDUKOS, o. z. | C34: 37801848 | D34: Združenie (zväz, spolok, spoločnosť, klub ai.) | E34: =IFERROR(VLOOKUP(D34,'Číselník právnych foriem ŠÚ SR'!$B:$C,2,0),"") -> 701 | F34: 353 | G34: Spolu dokážeme viac | H34: Podpora regionálneho rozvoja | I34: Dolný Kubín | J34: 44301 | K34: schválená | L34: 44510 | M34: 13688.1 | N34: 353 | O34: 1423/2021 | P34: 13567.5 | Q34: 1520.9 | R34: 44526 | S34: 44197 | T34: 44651
A35: 8270/2021/OSMRR | B35: Maják nádeje | C35: 42111510 | D35: Združenie (zväz, spolok, spoločnosť, klub ai.) | E35: =IFERROR(VLOOKUP(D35,'Číselník právnych foriem ŠÚ SR'!$B:$C,2,0),"") -> 701 | F35: 164 | G35: Cesta k zamestnaniu | H35: Podpora regionálneho rozvoja | I35: Košice | J35: 44301 | K35: schválená | L35: 44510 | M35: 23031 | N35: 164 | O35: 1424/2021 | P35: 22131 | Q35: 2559 | R35: 44526 | S35: 44197 | T35: 44651
A36: 8270/2021/OSMRR | B36: PHYSIO CANIS, o.z. | C36: 42159709 | D36: Združenie (zväz, spolok, spoločnosť, klub ai.) | E36: =IFERROR(VLOOKUP(D36,'Číselník právnych foriem ŠÚ SR'!$B:$C,2,0),"") -> 701 | F36: 247 | G36: Rozvoj terapií a ich dostupnosti pre deti a mládež so zdravotným znevýhodnením v žilinskom regióne | H36: Podpora regionálneho rozvoja | I36: Žilina | J36: 44301 | K36: schválená | L36: 44510 | M36: 21919.5 | N36: 247 | O36: 1425/2021 | P36: 21919.5 | Q36: 2435.5 | R36: 44526 | S36: 44197 | T36: 44651
A37: 8270/2021/OSMRR | B37: Človek v ohrození, n.o. | C37: 50082001 | D37: Združenie (zväz, spolok, spoločnosť, klub ai.) | E37: =IFERROR(VLOOKUP(D37,'Číselník právnych foriem ŠÚ SR'!$B:$C,2,0),"") -> 701 | F37: 453 | G37: Uplatni sa! – Zvyšovanie uplatniteľnosti marginalizovaných rómskych komunít v Prešovskom kraji na otvorenom trhu práce | H37: Podpora regionálneho rozvoja | I37: Spišské Podhradie, Varhaňovce, Rožkovany, Kamenná Poruba, Čičava | J37: 44301 | K37: schválená | L37: 44510 | M37: 27360 | N37: 453 | O37: 1426/2021 | P37: 16076.16 | Q37: 3040 | R37: 44526 | S37: 44197 | T37: 44651
A38: 8270/2021/OSMRR | B38: CPR Trenčín | C38: 42378541 | D38: Združenie (zväz, spolok, spoločnosť, klub ai.) | E38: =IFERROR(VLOOKUP(D38,'Číselník právnych foriem ŠÚ SR'!$B:$C,2,0),"") -> 701 | F38: 346 | G38: Dedkov sprievodca digitálnou galaxiou | H38: Podpora regionálneho rozvoja | I38: Trenčín | J38: 44301 | K38: schválená | L38: 44510 | M38: 13451.4 | N38: 346 | O38: 1427/2021 | P38: 13095 | Q38: 1494.6 | R38: 44526 | S38: 44197 | T38: 44651
A39: 8270/2021/OSMRR | B39: V.I.A.C. – Inštitút pre podporu a rozvoj mládeže | C39: 42217202 | D39: Združenie (zväz, spolok, spoločnosť, klub ai.) | E39: =IFERROR(VLOOKUP(D39,'Číselník právnych foriem ŠÚ SR'!$B:$C,2,0),"") -> 701 | F39: 381 | G39: Učiaca sa Orava | H39: Podpora regionálneho rozvoja | I39: Trstená | J39: 44301 | K39: schválená | L39: 44510 | M39: 41045.9 | N39: 381 | O39: 1428/2021 | P39: 40307.85 | Q39: 4560.6 | R39: 44526 | S39: 44197 | T39: 44651
A40: 8270/2021/OSMRR | B40: Prešovská gotika | C40: 50621769 | D40: Združenie (zväz, spolok, spoločnosť, klub ai.) | E40: =IFERROR(VLOOKUP(D40,'Číselník právnych foriem ŠÚ SR'!$B:$C,2,0),"") -> 701 | F40: 436 | G40: Kalvária – miesto pre pľúca a dušu. | H40: Podpora regionálneho rozvoja | I40: Prešov | J40: 44301 | K40: schválená | L40: 44510 | M40: 17910 | N40: 436 | O40: 1429/2021 | P40: 17910 | Q40: 1990 | R40: 44532 | S40: 44197 | T40: 44651
A41: 8270/2021/OSMRR | B41: EnviSlovakia, o.z. | C41: 42181330 | D41: Združenie (zväz, spolok, spoločnosť, klub ai.) | E41: =IFERROR(VLOOKUP(D41,'Číselník právnych foriem ŠÚ SR'!$B:$C,2,0),"") -> 701 | F41: 439 | G41: Monitorovanie rizikových parametrov pôdneho vzduchu na vybraných environmentálnych záťažiach vo vzťahu k životnému prostrediu | H41: Podpora regionálneho rozvoja | I41: Bratislava I, II, V; Piešťany | J41: 44301 | K41: schválená | L41: 44510 | M41: 40279.8 | N41: 439 | O41: 1430/2021 | P41: 40279.8 | Q41: 4475.54 | R41: 44532 | S41: 44197 | T41: 44651
A42: 8270/2021/OSMRR | B42: Fórum života | C42: 31815839 | D42: Združenie (zväz, spolok, spoločnosť, klub ai.) | E42: =IFERROR(VLOOKUP(D42,'Číselník právnych foriem ŠÚ SR'!$B:$C,2,0),"") -> 701 | F42: 534 | G42: Sieť pomoci | H42: Podpora regionálneho rozvoja | I42: Slovenská republika | J42: 44301 | K42: schválená | L42: 44510 | M42: 49447.1 | N42: 534 | O42: 1431/2021 | P42: 49447.1 | Q42: 5494.25 | R42: 44532 | S42: 44197 | T42: 44651
A43: 8270/2021/OSMRR | B43: Revitalizácia kaštieľa Teplička nad Váhom | C43: 42215331 | D43: Združenie (zväz, spolok, spoločnosť, klub ai.) | E43: =IFERROR(VLOOKUP(D43,'Číselník právnych foriem ŠÚ SR'!$B:$C,2,0),"") -> 701 | F43: 102 | G43: Kaštieľ Teplička ako súčasť kultúrneho dedičstva žilinského regiónu | H43: Podpora regionálneho rozvoja | I43: Teplička nad Váhom | J43: 44299 | K43: schválená | L43: 44510 | M43: 42300 | N43: 102 | O43: 1433/2021 | P43: 42300 | Q43: 4700 | R43: 44526 | S43: 44197 | T43: 44651
A44: 8270/2021/OSMRR | B44: Rodičovské združenie pri Základnej škole s Materskou školou Hrnčiarovce nad Parnou | C44: 37850211 | D44: Združenie (zväz, spolok, spoločnosť, klub ai.) | E44: =IFERROR(VLOOKUP(D44,'Číselník právnych foriem ŠÚ SR'!$B:$C,2,0),"") -> 701 | F44: 137 | G44: Dajme šancu komunitám obce v revitalizovanom areáli školského ihriska | H44: Podpora regionálneho rozvoja | I44: Hrnčiarovce nad Parnou | J44: 44301 | K44: schválená | L44: 44510 | M44: 37374.9 | N44: 137 | O44: 1435/2021 | P44: 26265.6 | Q44: 27918.36 | R44: 44532 | S44: 44197 | T44: 44651
... A49: 8270/2021/OSMRR | B49: Centrum pomoci pre rodinu | C49: 42160588 | D49: Združenie (zväz, spolok, spoločnosť, klub ai.) | E49: =IFERROR(VLOOKUP(D49,'Číselník právnych foriem ŠÚ SR'!$B:$C,2,0),"") -> 701 | F49: 106 | G49: Ekošatník | H49: Podpora regionálneho rozvoja | I49: Trnava | J49: 44299 | K49: schválená | L49: 44510 | M49: 10026 | N49: 106 | O49: 1440/2021 | P49: 10026 | Q49: 5434 | R49: 44526 | S49: 44197 | T49: 44651
A50: 8270/2021/OSMRR | B50: Novobanskí Patrioti | C50: 50304828 | D50: Združenie (zväz, spolok, spoločnosť, klub ai.) | E50: =IFERROR(VLOOKUP(D50,'Číselník právnych foriem ŠÚ SR'!$B:$C,2,0),"") -> 701 | F50: 179 | G50: Chodníček Novobanských povestí | H50: Podpora regionálneho rozvoja | I50: Nová Baňa | J50: 44301 | K50: schválená | L50: 44539 | M50: 21105 | N50: 179 | O50: 1537/2021 | P50: 21105 | Q50: 2345 | R50: 44547 | S50: 44197 | T50: 44651
A51: 8270/2021/OSMRR | B51: Natura Rusovce | C51: 31812538 | D51: Združenie (zväz, spolok, spoločnosť, klub ai.) | E51: =IFERROR(VLOOKUP(D51,'Číselník právnych foriem ŠÚ SR'!$B:$C,2,0),"") -> 701 | F51: 80 | G51: Ochrana arekonštrukcia drobných historicky významných sakrálnych pamiatok Rusovce | H51: Podpora regionálneho rozvoja | I51: Rusovce | J51: 44300 | K51: schválená | L51: 44539 | M51: 18900 | N51: 80 | O51: 1538/2021 | P51: 18900 | Q51: 2100 | R51: 44547 | S51: 44197 | T51: 44651
A52: 8270/2021/OSMRR | B52: Zelený plán, o.z. | C52: 52091007 | D52: Združenie (zväz, spolok, spoločnosť, klub ai.) | E52: =IFERROR(VLOOKUP(D52,'Číselník právnych foriem ŠÚ SR'!$B:$C,2,0),"") -> 701 | F52: 429 | G52: Rozkvitajúca Galanta - revitalizácia zelene v centre mesta | H52: Podpora regionálneho rozvoja | I52: Galanta | J52: 44301 | K52: schválená | L52: 44539 | M52: 41551.2 | N52: 429 | O52: 1539/2021 | P52: 39214.95 | Q52: 4616.84 | R52: 44547 | S52: 44197 | T52: 44651
A53: 8270/2021/OSMRR | B53: ŽITo v SÝPKE | C53: 52090213 | D53: Združenie (zväz, spolok, spoločnosť, klub ai.) | E53: =IFERROR(VLOOKUP(D53,'Číselník právnych foriem ŠÚ SR'!$B:$C,2,0),"") -> 701 | F53: 524 | G53: E.K.O. centrum ŽI_TO ( exteriér) | H53: Podpora regionálneho rozvoja | I53: Moravské Lieskové | J53: 44301 | K53: schválená | L53: 44539 | M53: 49995 | N53: 524 | O53: 1540/2021 | P53: 48644.55 | Q53: 5555 | R53: 44547 | S53: 44197 | T53: 44651
A54: 8270/2021/OSMRR | B54: Kordícky hrebenák | C54: 45793247 | D54: Združenie (zväz, spolok, spoločnosť, klub ai.) | E54: =IFERROR(VLOOKUP(D54,'Číselník právnych foriem ŠÚ SR'!$B:$C,2,0),"") -> 701 | F54: 086 | G54: Kordíky – dobudovanie turistickej infraštruktúry, úprava a skvalitnenie trate pre rozvoj turistiky a športu v regióne | H54: Podpora regionálneho rozvoja | I54: Kordíky | J54: 44300 | K54: schválená | L54: 44539 | M54: 26908.7 | N54: 86 | O54: 1541/2021 | P54: 26908.7 | Q54: 2989.8 | R54: 44547 | S54: 44197 | T54: 44651
A55: 8270/2021/OSMRR | B55: Slovak Development Institute, n.o. | C55: 45738475 | D55: Nezisková organizácia poskytujúca všeobecne prospešné služby | E55: =IFERROR(VLOOKUP(D55,'Číselník právnych foriem ŠÚ SR'!$B:$C,2,0),"") -> 120 | F55: 229 | G55: Náučný chodník v obci Uhliská | H55: Podpora regionálneho rozvoja | I55: Uhliská | J55: 44301 | K55: schválená | L55: 44539 | M55: 17512 | N55: 229 | O55: 1542/2021 | P55: 17512 | Q55: 1946 | R55: 44547 | S55: 44197 | T55: 44651
A56: 8270/2021/OSMRR | B56: Občianske združenie LIBETHA | C56: 42193915 | D56: Združenie (zväz, spolok, spoločnosť, klub ai.) | E56: =IFERROR(VLOOKUP(D56,'Číselník právnych foriem ŠÚ SR'!$B:$C,2,0),"") -> 701 | F56: 273 | G56: Interaktívny edukačný model banskych štôlní, chodieb, banskych strojov a remesiel, ktoré boli súčasťou historického ťažiarskeho komplexu Zelená Voda Ľubietová | H56: Podpora regionálneho rozvoja | I56: Ľubietová | J56: 44301 | K56: schválená | L56: 44539 | M56: 50000 | N56: 273 | O56: 1543/2021 | P56: 50000 | Q56: 6807.4 | R56: 44547 | S56: 44197 | T56: 44651
A57: 8270/2021/OSMRR | B57: SRRZ-RZ pri Základnej škole s materskou školou | C57: 173196171384 | D57: Združenie (zväz, spolok, spoločnosť, klub ai.) | E57: =IFERROR(VLOOKUP(D57,'Číselník právnych foriem ŠÚ SR'!$B:$C,2,0),"") -> 701 | F57: 371 | G57: „Komu še ňeľeňi, tomu še žeľeňi“ – Rodičia deťom | H57: Podpora regionálneho rozvoja | I57: Porúbka | J57: 44301 | K57: schválená | L57: 44539 | M57: 17991 | N57: 371 | O57: 1545/2021 | P57: 17991 | Q57: 1999 | R57: 44547 | S57: 44197 | T57: 44651
A58: 8270/2021/OSMRR | B58: Levočský kreatívny spolok | C58: 50046080 | D58: Združenie (zväz, spolok, spoločnosť, klub ai.) | E58: =IFERROR(VLOOKUP(D58,'Číselník právnych foriem ŠÚ SR'!$B:$C,2,0),"") -> 701 | F58: 040 | G58: Levočské kreatívne centrum | H58: Podpora regionálneho rozvoja | I58: Levoča | J58: 44300 | K58: schválená | L58: 44539 | M58: 19214.1 | N58: 40 | O58: 1546/2021 | P58: 18998.1 | Q58: 2134.9 | R58: 44547 | S58: 44197 | T58: 44651
A59: 8270/2021/OSMRR | B59: Združenie STORM | C59: 37868314 | D59: Združenie (zväz, spolok, spoločnosť, klub ai.) | E59: =IFERROR(VLOOKUP(D59,'Číselník právnych foriem ŠÚ SR'!$B:$C,2,0),"") -> 701 | F59: 034 | G59: KROK VPRED – podpora znevýhodnených skupín obyvateľov a ochrana zdravia v regióne | H59: Podpora regionálneho rozvoja | I59: Nitra, Sereď, Trnava | J59: 44298 | K59: schválená | L59: 44539 | M59: 47076.4 | N59: 34 | O59: 1547/2021 | P59: 38012.64 | Q59: 5230.68 | R59: 44547 | S59: 44197 | T59: 44651
A60: 8270/2021/OSMRR | B60: o.z. Bylinka | C60: 42122481 | D60: Združenie (zväz, spolok, spoločnosť, klub ai.) | E60: =IFERROR(VLOOKUP(D60,'Číselník právnych foriem ŠÚ SR'!$B:$C,2,0),"") -> 701 | F60: 261 | G60: Podpora rozvoja cestovného ruchu v regióne Hont | H60: Podpora regionálneho rozvoja | I60: Hrušov | J60: 44301 | K60: schválená | L60: 44539 | M60: 38700 | N60: 261 | O60: 1548/2021 | P60: 27000 | Q60: 4300 | R60: 44547 | S60: 44197 | T60: 44651
A61: 8270/2021/OSMRR | B61: Sánkarský klub Lendak | C61: 51154871 | D61: Združenie (zväz, spolok, spoločnosť, klub ai.) | E61: =IFERROR(VLOOKUP(D61,'Číselník právnych foriem ŠÚ SR'!$B:$C,2,0),"") -> 701 | F61: 511 | G61: Vybudovanie oddychových miest a značenia | H61: Podpora regionálneho rozvoja | I61: Lendak | J61: 44301 | K61: schválená | L61: 44539 | M61: 17544.7 | N61: 511 | O61: 1549/2021 | P61: 17544.69 | Q61: 1949.4 | R61: 44547 | S61: 44197 | T61: 44651
A62: 8270/2021/OSMRR | B62: Kraso Centrum Košice | C62: 31299318 | D62: Združenie (zväz, spolok, spoločnosť, klub ai.) | E62: =IFERROR(VLOOKUP(D62,'Číselník právnych foriem ŠÚ SR'!$B:$C,2,0),"") -> 701 | F62: 525 | G62: Ochrana zdravia - investícia pre silnú ekonomiku a spokojnú spoločnosť | H62: Podpora regionálneho rozvoja | I62: Košice | J62: 44301 | K62: schválená | L62: 44539 | M62: 36298.8 | N62: 525 | O62: 1550/2021 | P62: 35748 | Q62: 4033.2 | R62: 44547 | S62: 44197 | T62: 44651
A63: 8270/2021/OSMRR | B63: Elixír zdravia, n.o. | C63: 52079287 | D63: Nezisková organizácia poskytujúca všeobecne prospešné služby | E63: =IFERROR(VLOOKUP(D63,'Číselník právnych foriem ŠÚ SR'!$B:$C,2,0),"") -> 120 | F63: 019 | G63: Pomáhame seniorom a zdravotne ohrozeným osobám chrániť svoje zdravie | H63: Podpora regionálneho rozvoja | I63: Sem napíšte text | J63: 44297 | K63: schválená | L63: 44539 | M63: 36261 | N63: 19 | O63: 1551/2021 | P63: 33041.7 | Q63: 4029 | R63: 44547 | S63: 44197 | T63: 44651
A64: 8270/2021/OSMRR | B64: AUTIS | C64: 42274931 | D64: Združenie (zväz, spolok, spoločnosť, klub ai.) | E64: =IFERROR(VLOOKUP(D64,'Číselník právnych foriem ŠÚ SR'!$B:$C,2,0),"") -> 701 | F64: 026 | G64: Roršírenie služieb OZ AUTIS aplikáciou inovatívnych metód a postupov s cieľom zaradenia detí s poruchou autistického spektra do bežného života | H64: Podpora regionálneho rozvoja | I64: Trenčín, Soblahov | J64: 44298 | K64: schválená | L64: 44539 | M64: 23081.6 | N64: 26 | O64: 1552/2021 | P64: 17218.45 | Q64: 2564.64 | R64: 44547 | S64: 44197 | T64: 44651
A65: 8270/2021/OSMRR | B65: Východoslovenské výskumné a dokumentačné centrum | C65: 50338102 | D65: Združenie (zväz, spolok, spoločnosť, klub ai.) | E65: =IFERROR(VLOOKUP(D65,'Číselník právnych foriem ŠÚ SR'!$B:$C,2,0),"") -> 701 | F65: 162 | G65: Stanem sa rybárom na Hrade nad Vinným - remeselné dielne | H65: Podpora regionálneho rozvoja | I65: Kataster obce Vinné | J65: 44301 | K65: schválená | L65: 44539 | M65: 49977 | N65: 162 | O65: 1553/2021 | P65: 49977 | Q65: 5553 | R65: 44547 | S65: 44197 | T65: 44651
A66: 8270/2021/OSMRR | B66: Humanité | C66: 50646206 | D66: Združenie (zväz, spolok, spoločnosť, klub ai.) | E66: =IFERROR(VLOOKUP(D66,'Číselník právnych foriem ŠÚ SR'!$B:$C,2,0),"") -> 701 | F66: 255 | G66: Harmónia v našich životoch - možnosti vysporiadania sa s negatívnymi vplyvmi, ktoré priniesla súčasná pandemická situácia | H66: Podpora regionálneho rozvoja | I66: Rožňava, Čučma, Lučenec | J66: 44301 | K66: schválená | L66: 44539 | M66: 14872.2 | N66: 255 | O66: 1554/2021 | P66: 14872.2 | Q66: 1652.48 | R66: 44547 | S66: 44197 | T66: 44651
A67: 8270/2021/OSMRR | B67: STEFANI n.o. | C67: 45743517 | D67: Nezisková organizácia poskytujúca všeobecne prospešné služby | E67: =IFERROR(VLOOKUP(D67,'Číselník právnych foriem ŠÚ SR'!$B:$C,2,0),"") -> 120 | F67: 306 | G67: Komunitná Žarnovica | H67: Podpora regionálneho rozvoja | I67: Žarnovica | J67: 44301 | K67: schválená | L67: 44539 | M67: 10161 | N67: 306 | O67: 1555/2021 | P67: 10161 | Q67: 1129 | R67: 44547 | S67: 44197 | T67: 44651
A68: 8270/2021/OSMRR | B68: Perly gotickej cesty, n.o. | C68: 35581077 | D68: Nezisková organizácia poskytujúca všeobecne prospešné služby | E68: =IFERROR(VLOOKUP(D68,'Číselník právnych foriem ŠÚ SR'!$B:$C,2,0),"") -> 120 | F68: 196 | G68: Urbanova veža – pokračovanie rekonštrukcie | H68: Podpora regionálneho rozvoja | I68: Košice – Staré mesto | J68: 44301 | K68: schválená | L68: 44539 | M68: 48529.5 | N68: 196 | O68: 1556/2021 | P68: 46844.65 | Q68: 5392.12 | R68: 44547 | S68: 44197 | T68: 44651
A69: 8270/2021/OSMRR | B69: Poliklinika Sabinov, n.o. | C69: 37886827 | D69: Nezisková organizácia poskytujúca všeobecne prospešné služby | E69: =IFERROR(VLOOKUP(D69,'Číselník právnych foriem ŠÚ SR'!$B:$C,2,0),"") -> 120 | F69: 462 | G69: Covidová ambulancia pri Poliklinike Sabinov | H69: Podpora regionálneho rozvoja | I69: Sabinov | J69: 44301 | K69: schválená | L69: 44539 | M69: 44280 | N69: 462 | O69: 1557/2021 | P69: 44280 | Q69: 4920 | R69: 44547 | S69: 44197 | T69: 44651
A70: 8270/2021/OSMRR | B70: KAZIMÍRČAN o.z. | C70: 52301401 | D70: Združenie (zväz, spolok, spoločnosť, klub ai.) | E70: =IFERROR(VLOOKUP(D70,'Číselník právnych foriem ŠÚ SR'!$B:$C,2,0),"") -> 701 | F70: 487 | G70: Oddychová zóna pod Hrádkom | H70: Podpora regionálneho rozvoja | I70: Kazimír | J70: 44301 | K70: schválená | L70: 44539 | M70: 44684.4 | N70: 487 | O70: 1602/2021 | P70: 44182.85 | Q70: 5466.44 | R70: 44547 | S70: 44197 | T70: 44651
A71: 12861/2021/OSMRR | B71: Obec Vyšný Žipov | C71: 00332950 | D71: Obec (obecný úrad), mesto (mestský úrad) | E71: =IFERROR(VLOOKUP(D71,'Číselník právnych foriem ŠÚ SR'!$B:$C,2,0),"") -> 801 | F71: 003 | G71: REKONŠTRUKCIA MIESTNYCH CIEST V OBCI VYŠNÝ ŽIPOV | H71: Podpora regionálneho rozvoja | I71: Obec Vyšný Žipov | J71: 44489 | K71: schválená | L71: 44545 | M71: 69389.26 | N71: 003 | O71: 1794/2021 | P71: 64446.84 | Q71: 3391.94 | R71: 44552 | S71: 44197 | T71: 44926
A72: 12861/2021/OSMRR | B72: Mesto Svidník | C72: 00331023 | D72: Obec (obecný úrad), mesto (mestský úrad) | E72: =IFERROR(VLOOKUP(D72,'Číselník právnych foriem ŠÚ SR'!$B:$C,2,0),"") -> 801 | F72: 005 | G72: Rekonštrukcia chodníkov pre peších a cyklistov na moste cez rieku Ladomírka vo Svidníku | H72: Podpora regionálneho rozvoja | I72: Mesto Svidník | J72: 44489 | K72: schválená | L72: 44545 | M72: 164872.8 | N72: 005 | O72: 1698/2021 | P72: 164872.8 | Q72: 8677.52 | R72: 44551 | S72: 44197 | T72: 44926
A73: 12861/2021/OSMRR | B73: Mesto Lučenec | C73: 00316181 | D73: Obec (obecný úrad), mesto (mestský úrad) | E73: =IFERROR(VLOOKUP(D73,'Číselník právnych foriem ŠÚ SR'!$B:$C,2,0),"") -> 801 | F73: 006 | G73: REKONŠTRUKCIA PARKOVÍSK A CHODNÍKOV ULICA M. RÁZUSA, LUČENEC | H73: Podpora regionálneho rozvoja | I73: Mesto Lučenec | J73: 44489 | K73: schválená | L73: 44545 | M73: 212992.37 | N73: 006 | O73: 1641/2021 | P73: 212922.37 | Q73: 11206.45 | R73: 44551 | S73: 44197 | T73: 44926
A74: 12861/2021/OSMRR | B74: Obec Ladomirová | C74: 00330671 | D74: Obec (obecný úrad), mesto (mestský úrad) | E74: =IFERROR(VLOOKUP(D74,'Číselník právnych foriem ŠÚ SR'!$B:$C,2,0),"") -> 801 | F74: 007 | G74: Rekonštrukcia miestnych komunikácií | H74: Podpora regionálneho rozvoja | I74: Obec Ladomirová | J74: 44489 | K74: schválená | L74: 44545 | M74: 178786.2 | N74: 007 | O74: 1670/2021 | P74: 178786.2 | Q74: 9409.8 | R74: 44550 | S74: 44197 | T74: 44926
A75: 12861/2021/OSMRR | B75: Obec Zemplínska Teplica | C75: 00332194 | D75: Obec (obecný úrad), mesto (mestský úrad) | E75: =IFERROR(VLOOKUP(D75,'Číselník právnych foriem ŠÚ SR'!$B:$C,2,0),"") -> 801 | F75: 010 | G75: Rekonštrukcia miestnych komunikácií | H75: Podpora regionálneho rozvoja | I75: Obec Zemplínska Teplica | J75: 44490 | K75: schválená | L75: 44545 | M75: 249673.14 | N75: 010 | O75: 1796/2021 | P75: 249673.14 | Q75: 13141.15 | R75: 44552 | S75: 44197 | T75: 44926
A76: 12861/2021/OSMRR | B76: Obec Malý Kamenec | C76: 00331732 | D76: Obec (obecný úrad), mesto (mestský úrad) | E76: =IFERROR(VLOOKUP(D76,'Číselník právnych foriem ŠÚ SR'!$B:$C,2,0),"") -> 801 | F76: 016 | G76: Rekonštrukcia chodníkov v obci Malý Kamenec | H76: Podpora regionálneho rozvoja | I76: Obec Malý Kamenec | J76: 44489 | K76: schválená | L76: 44545 | M76: 215223.64 | N76: 016 | O76: 1665/2021 | P76: 215223.64 | Q76: 0 | R76: 44551 | S76: 44197 | T76: 44926
A77: 12861/2021/OSMRR | B77: Obec Nižný Komárnik | C77: 00330825 | D77: Obec (obecný úrad), mesto (mestský úrad) | E77: =IFERROR(VLOOKUP(D77,'Číselník právnych foriem ŠÚ SR'!$B:$C,2,0),"") -> 801 | F77: 017 | G77: Rekonštrukcia miestnych komunikácií v obci Nižný Komárnik | H77: Podpora regionálneho rozvoja | I77: Obec Nižný Komárnik | J77: 44489 | K77: schválená | L77: 44545 | M77: 85140.17 | N77: 017 | O77: 1693/2021 | P77: 85140.17 | Q77: 0 | R77: 44550 | S77: 44197 | T77: 44926
A78: 12861/2021/OSMRR | B78: Mesto Poltár | C78: 00316342 | D78: Obec (obecný úrad), mesto (mestský úrad) | E78: =IFERROR(VLOOKUP(D78,'Číselník právnych foriem ŠÚ SR'!$B:$C,2,0),"") -> 801 | F78: 019 | G78: Rekonštrukcia spevnených plôch na Kanadskej ulici v meste Poltár | H78: Podpora regionálneho rozvoja | I78: Mesto Poltár | J78: 44489 | K78: schválená | L78: 44545 | M78: 142454.8 | N78: 019 | O78: 1659/2021 | P78: 142454.8 | Q78: 7498.12 | R78: 44552 | S78: 44197 | T78: 44926
A79: 12861/2021/OSMRR | B79: Obec Kalonda | C79: 00649121 | D79: Obec (obecný úrad), mesto (mestský úrad) | E79: =IFERROR(VLOOKUP(D79,'Číselník právnych foriem ŠÚ SR'!$B:$C,2,0),"") -> 801 | F79: 020 | G79: Rekonštrukcia miestnej komunikácie v obci Kalonda | H79: Podpora regionálneho rozvoja | I79: Obec Kalonda | J79: 44489 | K79: schválená | L79: 44545 | M79: 60933.4 | N79: 020 | O79: 1644/2021 | P79: 60933.4 | Q79: 0 | R79: 44551 | S79: 44197 | T79: 44926
A80: 12861/2021/OSMRR | B80: Obec České Brezovo | C80: 00316032 | D80: Obec (obecný úrad), mesto (mestský úrad) | E80: =IFERROR(VLOOKUP(D80,'Číselník právnych foriem ŠÚ SR'!$B:$C,2,0),"") -> 801 | F80: 025 | G80: Rekonštrukcia chodníku v obci České Brezovo | H80: Podpora regionálneho rozvoja | I80: Obec České Brezovo | J80: 44489 | K80: schválená | L80: 44545 | M80: 40180.91 | N80: 025 | O80: 1770/2021 | P80: 40180.91 | Q80: 0 | R80: 44552 | S80: 44197 | T80: 44926
A81: 12861/2021/OSMRR | B81: Obec Sečianky | C81: 00648574 | D81: Obec (obecný úrad), mesto (mestský úrad) | E81: =IFERROR(VLOOKUP(D81,'Číselník právnych foriem ŠÚ SR'!$B:$C,2,0),"") -> 801 | F81: 027 | G81: Rekonštrukcia miestnych komunikácií a chodníkov | H81: Podpora regionálneho rozvoja | I81: Obec Sečianky | J81: 44489 | K81: schválená | L81: 44545 | M81: 107044.46 | N81: 027 | O81: 1790/2021 | P81: 107044.46 | Q81: 0 | R81: 44552 | S81: 44197 | T81: 44926
A82: 12861/2021/OSMRR | B82: Obec Hrušov | C82: 00319341 | D82: Obec (obecný úrad), mesto (mestský úrad) | E82: =IFERROR(VLOOKUP(D82,'Číselník právnych foriem ŠÚ SR'!$B:$C,2,0),"") -> 801 | F82: 028 | G82: Rekonštrukcia povrchu jestvujúcich miestnych komunikácií frézovaným asfaltom v obci Hrušov | H82: Podpora regionálneho rozvoja | I82: Obec Hrušov | J82: 44489 | K82: schválená | L82: 44545 | M82: 53865 | N82: 028 | O82: 1786/2021 | P82: 53865 | Q82: 2835 | R82: 44552 | S82: 44197 | T82: 44926
... A211: 12861/2021/OSMRR | B211: Obec Čerhov | C211: 00331422 | D211: Obec (obecný úrad), mesto (mestský úrad) | E211: =IFERROR(VLOOKUP(D211,'Číselník právnych foriem ŠÚ SR'!$B:$C,2,0),"") -> 801 | F211: 086 | G211: Revitalizácia historickej lipovo-gaštanovej aleje od intravilánu obce Čerhov po "Chotárny mlyn" | H211: Podpora regionálneho rozvoja | I211: Obec Čerhov | J211: 44487 | K211: schválená | L211: 44545 | M211: 43967.9 | N211: 086 | O211: 1692/2021 | P211: 43967.9 | Q211: 2314.1 | R211: 44551 | S211: 44197 | T211: 44651
A212: 04/OÚBJ/2020 | B212: ZBOR - STAV, s. r. o. | C212: 52707687 | D212: spoločnosť s ručením obmedzeným | E212: =IFERROR(VLOOKUP(D212,'Číselník právnych foriem ŠÚ SR'!$B:$C,2,0),"") -> 112 | F212: 022/2021/BJ | G212: obstaranie univerzálnej stavebnej techniky | H212: Realizácia Akčného plánu rozvoja okresu Bardejov | I212: Zborov | J212: 44117 | K212: schválená | L212: 44377 | M212: 60000 | N212: 022/2021/BJ | O212: 711/2021 | P212: 60000 | Q212: 11656 | R212: 44405 | S212: 44197
A213: 04/OÚBJ/2020 | B213: Obecný podnik Kľušov, s. r. o. | C213: 52655474 | D213: spoločnosť s ručením obmedzeným | E213: =IFERROR(VLOOKUP(D213,'Číselník právnych foriem ŠÚ SR'!$B:$C,2,0),"") -> 112 | F213: 020/2021/BJ | G213: nákup stavebnej techniky | H213: Realizácia Akčného plánu rozvoja okresu Bardejov | I213: Kľušov | J213: 44117 | K213: schválená | L213: 44377 | M213: 30000 | N213: 020/2021/BJ | O213: 709/2021 | P213: 30000 | Q213: 5333 | R213: 44405 | S213: 44197
A214: 04/OÚBJ/2020 | B214: 3G, s.r.o. | C214: 46936238 | D214: spoločnosť s ručením obmedzeným | E214: =IFERROR(VLOOKUP(D214,'Číselník právnych foriem ŠÚ SR'!$B:$C,2,0),"") -> 112 | F214: 019/2021/BJ | G214: obstaranie technológie pre rezanie a gravírovanie | H214: Realizácia Akčného plánu rozvoja okresu Bardejov | I214: Bartošovce | J214: 44117 | K214: schválená | L214: 44377 | M214: 40000 | N214: 019/2021/BJ | O214: 708/2021 | P214: 40000 | Q214: 10000 | R214: 44405 | S214: 44197
A215: 04/OÚBJ/2020 | B215: Gotana, s. r. o. | C215: 46279491 | D215: spoločnosť s ručením obmedzeným | E215: =IFERROR(VLOOKUP(D215,'Číselník právnych foriem ŠÚ SR'!$B:$C,2,0),"") -> 112 | F215: 017/2021/BJ | G215: obstaranie technológie pre potlač textilu | H215: Realizácia Akčného plánu rozvoja okresu Bardejov | I215: Nedanovce | J215: 44117 | K215: schválená | L215: 44377 | M215: 100000 | N215: 017/2021/BJ | O215: 706/2021 | P215: 100000 | Q215: 41500 | R215: 44405 | S215: 44197
A216: 04/OÚBJ/2020 | B216: OP Varadka, s. r. o., r. s. p. | C216: 53067347 | D216: spoločnosť s ručením obmedzeným | E216: =IFERROR(VLOOKUP(D216,'Číselník právnych foriem ŠÚ SR'!$B:$C,2,0),"") -> 112 | F216: 018/2021/BJ | G216: obstaranie techniky pre prácu v lese | H216: Realizácia Akčného plánu rozvoja okresu Bardejov | I216: Varadka | J216: 44117 | K216: schválená | L216: 44377 | M216: 78300 | N216: 018/2021/BJ | O216: 707/2021 | P216: 78300 | Q216: 8700 | R216: 44445 | S216: 44197
A217: 04/OÚBJ/2020 | B217: Obecný podnik Beloveža s. r. o. | C217: 52697223 | D217: spoločnosť s ručením obmedzeným | E217: =IFERROR(VLOOKUP(D217,'Číselník právnych foriem ŠÚ SR'!$B:$C,2,0),"") -> 112 | F217: 021/2021/BJ | G217: obstaranie materiálneho zabezpečenia pre chov včiel a výrobu včelích produktov | H217: Realizácia Akčného plánu rozvoja okresu Bardejov | I217: Beloveža | J217: 44117 | K217: schválená | L217: 44377 | M217: 9000 | N217: 021/2021/BJ | O217: 710/2021 | P217: 9000 | Q217: 1000 | R217: 44470 | S217: 44197
A218: 05/OÚBJ/2021 | B218: Obec Kochanovce | C218: 00322148 | D218: Obec (obecný úrad), mesto (mestský úrad) | E218: =IFERROR(VLOOKUP(D218,'Číselník právnych foriem ŠÚ SR'!$B:$C,2,0),"") -> 801 | F218: 108/2021/BJ | G218: zriadením prevádzky vývarovne v obci Kochanovce | H218: Realizácia Akčného plánu rozvoja okresu Bardejov | I218: Kochanovce | J218: 44328 | K218: schválená | L218: 44515 | M218: 72000 | N218: 108/2021/BJ | O218: 1445/2021 | P218: 72000 | Q218: 8377.81 | R218: 44537 | S218: 44197
A219: 05/OÚBJ/2021 | B219: Obec Stebnícka Huta | C219: 00322598 | D219: Obec (obecný úrad), mesto (mestský úrad) | E219: =IFERROR(VLOOKUP(D219,'Číselník právnych foriem ŠÚ SR'!$B:$C,2,0),"") -> 801 | F219: 106/2021/BJ | G219: stavebné úpravy budovy Starej školy | H219: Realizácia Akčného plánu rozvoja okresu Bardejov | I219: Stebnícka Huta | J219: 44328 | K219: schválená | L219: 44515 | M219: 11088 | N219: 106/2021/BJ | O219: 1443/2021 | P219: 11088 | Q219: 1232 | R219: 44537 | S219: 44197
A220: 05/OÚBJ/2021 | B220: Obecné služby Raslavice, s. r. o. | C220: 48167240 | D220: spoločnosť s ručením obmedzeným | E220: =IFERROR(VLOOKUP(D220,'Číselník právnych foriem ŠÚ SR'!$B:$C,2,0),"") -> 112 | F220: 110/2021/BJ | G220: nákup multifunkčného vozidla | H220: Realizácia Akčného plánu rozvoja okresu Bardejov | I220: Raslavice | J220: 44328 | K220: schválená | L220: 44515 | M220: 73800 | N220: 110/2021/BJ | O220: 1447/2021 | P220: 73800 | Q220: 76745 | R220: 44539 | S220: 44197
A221: 01/OÚGL/2021 | B221: Obec Kluknava | C221: 00329274 | D221: Obec (obecný úrad), mesto (mestský úrad) | E221: =IFERROR(VLOOKUP(D221,'Číselník právnych foriem ŠÚ SR'!$B:$C,2,0),"") -> 801 | F221: 090/2021/GL | G221: obnova budovy NKP - Dom služobníctva | H221: Realizácia Akčného plánu rozvoja okresu Gelnica | I221: Kluknava | J221: 44336 | K221: schválená | L221: 44515 | M221: 113354 | N221: 090/2021/GL | O221: 1454/2021 | P221: 113354 | Q221: 9856.57 | R221: 44537 | S221: 44197
A222: 01/OÚGL/2021 | B222: Mesto Gelnica | C222: 00329061 | D222: Obec (obecný úrad), mesto (mestský úrad) | E222: =IFERROR(VLOOKUP(D222,'Číselník právnych foriem ŠÚ SR'!$B:$C,2,0),"") -> 801 | F222: 084/2021/GL | G222: zachovanie a rozšírenie účelu využitia Baníckeho múzea a vytvorenie jeho externých expozícií | H222: Realizácia Akčného plánu rozvoja okresu Gelnica | I222: Gelnica | J222: 44336 | K222: schválená | L222: 44515 | M222: 169893 | N222: 084/2021/GL | O222: 1448/2021 | P222: 169893 | Q222: 13178.63 | R222: 44537 | S222: 44197
A223: 01/OÚGL/2021 | B223: Obec Jaklovce | C223: 00329207 | D223: Obec (obecný úrad), mesto (mestský úrad) | E223: =IFERROR(VLOOKUP(D223,'Číselník právnych foriem ŠÚ SR'!$B:$C,2,0),"") -> 801 | F223: 089/2021/GL | G223: vybudovanie náučného chodníka a duchovno-pastoračného miesta pod skalou | H223: Realizácia Akčného plánu rozvoja okresu Gelnica | I223: Jaklovce | J223: 44336 | K223: schválená | L223: 44515 | M223: 20000 | N223: 089/2021/GL | O223: 1453/2021 | P223: 20000 | Q223: 0 | R223: 44537 | S223: 44197
... A231: 01/OÚGL/2021 | B231: Obec Margecany | C231: 00329347 | D231: Obec (obecný úrad), mesto (mestský úrad) | E231: =IFERROR(VLOOKUP(D231,'Číselník právnych foriem ŠÚ SR'!$B:$C,2,0),"") -> 801 | F231: 093/2021/GL | G231: výstavba príjazdových ciest k mostu a vytvorením infopointu a smart cykloprístrešku | H231: Realizácia Akčného plánu rozvoja okresu Gelnica | I231: Margecany | J231: 44336 | K231: schválená | L231: 44515 | M231: 49000 | N231: 093/2021/GL | O231: 1457/2021 | P231: 49000 | Q231: 11735.48 | R231: 44543 | S231: 44197
B232: Obec Malá Ida | C232: 00324426 | D232: Obec (obecný úrad), mesto (mestský úrad) | E232: =IFERROR(VLOOKUP(D232,'Číselník právnych foriem ŠÚ SR'!$B:$C,2,0),"") -> 801 | F232: 499/2020/KS | G232: stavebné práce na budove ZŠ - hrubá stavba, tepelná izolácia a izolácia proti vode a vlhkosti | H232: Realizácia Akčného plánu rozvoja okresu Košice-okolie | I232: Malá Ida | J232: 44183 | K232: schválená | L232: 44258 | M232: 200000 | N232: 499/2020/KS | O232: 41/2021 | P232: 200000 | Q232: 0 | R232: 44259 | S232: 44197
A233: 1/OÚ-KS/2021 | B233: Mesto Moldava nad Bodvou | C233: 00324451 | D233: Obec (obecný úrad), mesto (mestský úrad) | E233: =IFERROR(VLOOKUP(D233,'Číselník právnych foriem ŠÚ SR'!$B:$C,2,0),"") -> 801 | F233: 034/2021/KS | G233: rekonštrukcia preistorov MsKS s vytvorením výstavnej miestnosti a remeselnej dielňe | H233: Realizácia Akčného plánu rozvoja okresu Košice-okolie | I233: Moldava nad Bodvou | J233: 44116 | K233: schválená | L233: 44377 | M233: 30168 | N233: 034/2021/KS | O233: 699/2021 | P233: 30168 | Q233: 3352 | R233: 44399 | S233: 44197
A234: 1/OÚ-KS/2021 | B234: Obec Geča | C234: 00690236 | D234: Obec (obecný úrad), mesto (mestský úrad) | E234: =IFERROR(VLOOKUP(D234,'Číselník právnych foriem ŠÚ SR'!$B:$C,2,0),"") -> 801 | F234: 033/2021/KS | G234: výstavba cyklochodníka | H234: Realizácia Akčného plánu rozvoja okresu Košice-okolie | I234: Geča | J234: 44116 | K234: schválená | L234: 44377 | M234: 50000 | N234: 033/2021/KS | O234: 698/2021 | P234: 50000 | Q234: 17864.16 | R234: 44399 | S234: 44197
A235: 1/OÚ-KS/2021 | B235: Obec Čaňa | C235: 00324060 | D235: Obec (obecný úrad), mesto (mestský úrad) | E235: =IFERROR(VLOOKUP(D235,'Číselník právnych foriem ŠÚ SR'!$B:$C,2,0),"") -> 801 | F235: 032/2021/KS | G235: výstavba cyklochodníka | H235: Realizácia Akčného plánu rozvoja okresu Košice-okolie | I235: Čaňa | J235: 44116 | K235: schválená | L235: 44377 | M235: 50000 | N235: 032/2021/KS | O235: 697/2021 | P235: 50000 | Q235: 19813.35 | R235: 44418 | S235: 44197
A236: II/OÚ-KS/2021 | B236: Obec Baška | C236: 00323942 | D236: Obec (obecný úrad), mesto (mestský úrad) | E236: =IFERROR(VLOOKUP(D236,'Číselník právnych foriem ŠÚ SR'!$B:$C,2,0),"") -> 801 | F236: 104/2021/KS | G236: rekonštrukcia amfiteátra | H236: Realizácia Akčného plánu rozvoja okresu Košice-okolie | I236: Baška | J236: 44330 | K236: schválená | L236: 44515 | M236: 25000 | N236: 104/2021/KS | O236: 1468/2021 | P236: 25000 | Q236: 5000 | R236: 44537 | S236: 44197
A237: II/OÚ-KS/2021 | B237: Zachráňme hrad Slanec | C237: 42243751 | D237: Združenie (zväz, spolok, spoločnosť, klub ai.) | E237: =IFERROR(VLOOKUP(D237,'Číselník právnych foriem ŠÚ SR'!$B:$C,2,0),"") -> 701 | F237: 100/2021/KS | G237: vytvorenie živej panorámy, osadenie turistických prvkov, výstavba pódia pre vystúpenia | H237: Realizácia Akčného plánu rozvoja okresu Košice-okolie | I237: Slanec | J237: 44330 | K237: schválená | L237: 44515 | M237: 10500 | N237: 100/2021/KS | O237: 1464/2021 | P237: 10500 | Q237: 1000 | R237: 44537 | S237: 44197
A238: II/OÚ-KS/2021 | B238: Obec Nižná Myšľa | C238: 00324493 | D238: Obec (obecný úrad), mesto (mestský úrad) | E238: =IFERROR(VLOOKUP(D238,'Číselník právnych foriem ŠÚ SR'!$B:$C,2,0),"") -> 801 | F238: 101/2021/KS | G238: rekonštrukcia cestných priekop a žľabu | H238: Realizácia Akčného plánu rozvoja okresu Košice-okolie | I238: Nižná Myšľa | J238: 44330 | K238: schválená | L238: 44515 | M238: 29760 | N238: 101/2021/KS | O238: 1465/2021 | P238: 29760 | Q238: 2240 | R238: 44537 | S238: 44197
A239: II/OÚ-KS/2021 | B239: Obec Čižatice | C239: 00324086 | D239: Obec (obecný úrad), mesto (mestský úrad) | E239: =IFERROR(VLOOKUP(D239,'Číselník právnych foriem ŠÚ SR'!$B:$C,2,0),"") -> 801 | F239: 103/2021/KS | G239: rekonštrukcia strechy materskej školy | H239: Realizácia Akčného plánu rozvoja okresu Košice-okolie | I239: Čižatice | J239: 44330 | K239: schválená | L239: 44515 | M239: 17000 | N239: 103/2021/KS | O239: 1467/2021 | P239: 17000 | Q239: 1000 | R239: 44539 | S239: 44197
A240: II/OÚ-KS/2021 | B240: Poľnohospodárske družstvo Péder | C240: 31668429 | D240: Družstvo | E240: =IFERROR(VLOOKUP(D240,'Číselník právnych foriem ŠÚ SR'!$B:$C,2,0),"") -> 205 | F240: 098/2021/KS | G240: nákup traktorového návesu do živočíšnej výroby | H240: Realizácia Akčného plánu rozvoja okresu Košice-okolie | I240: Peder | J240: 44330 | K240: schválená | L240: 44515 | M240: 20000 | N240: 098/2021/KS | O240: 1462/2021 | P240: 20000 | Q240: 4524 | R240: 44539 | S240: 44197
A241: II/OÚ-KS/2021 | B241: Mesto Moldava nad Bodvou | C241: 00324451 | D241: Obec (obecný úrad), mesto (mestský úrad) | E241: =IFERROR(VLOOKUP(D241,'Číselník právnych foriem ŠÚ SR'!$B:$C,2,0),"") -> 801 | F241: 099/2021/KS | G241: osadenie informačných tabúľ, tlač turistickej mapy | H241: Realizácia Akčného plánu rozvoja okresu Košice-okolie | I241: Moldava nad Bodvou | J241: 44330 | K241: schválená | L241: 44515 | M241: 29477.3 | N241: 099/2021/KS | O241: 1463/2021 | P241: 29477.3 | Q241: 3275.26 | R241: 44539 | S241: 44197
A242: II/OÚ-KS/2021 | B242: Obec Belža | C242: 00323951 | D242: Obec (obecný úrad), mesto (mestský úrad) | E242: =IFERROR(VLOOKUP(D242,'Číselník právnych foriem ŠÚ SR'!$B:$C,2,0),"") -> 801 | F242: 105/2021/KS | G242: revitalizácia blízkeho okolia stromu Dub letný - Perší dub | H242: Realizácia Akčného plánu rozvoja okresu Košice-okolie | I242: Belža | J242: 44330 | K242: schválená | L242: 44515 | M242: 17201.07 | N242: 105/2021/KS | O242: 1469/2021 | P242: 17201.07 | Q242: 1911.23 | R242: 44539 | S242: 44197
...

Sheet Číselník právnych foriem ŠÚ SR
A1: Kód | B1: Názov | C1: Kód
A2: 100 | B2: Fyzická osoba-príležitostne činná-zapísaná v registri daňového informačného systému | C2: 100
A3: 101 | B3: Podnikateľ-fyzická osoba-nezapísaný v obchodnom registri | C3: 101
A4: 102 | B4: Podnikateľ-fyzická osoba-zapísaný v obchodnom registri | C4: 102
A5: 103 | B5: Samostatne hospodáriaci roľník nezapísaný v obchodnom registri | C5: 103
A6: 104 | B6: Samostatne hospodáriaci roľník zapísaný v obchodnom registri | C6: 104
A7: 105 | B7: Slobodné povolanie-fyzická osoba podnikajúca na základe iného ako živnostenského zákona | C7: 105
A8: 106 | B8: Slobodné povolanie-fyzická osoba podnikajúca na základe iného ako živnostenského zákona zapísaná v obchodnom registri | C8: 106
A9: 107 | B9: Podnikateľ-fyzická osoba-nezapís.v OR-podnikajúca súčasne ako sam.hosp.roľník | C9: 107
A10: 108 | B10: Podnikateľ-fyzická osoba-zapís.v OR-podnikajúca súčasne ako sam.hosp.roľník | C10: 108
A11: 109 | B11: Podnikateľ-fyzická osoba-nezapís.v OR-podnikajúca súčasne ako osoba so slobodným povolaním | C11: 109
A12: 110 | B12: Podnikateľ-fyzická osoba-zapís.v OR-podnikajúca súčasne ako osoba so slobodným povolaním | C12: 110
A13: 111 | B13: Verejná obchodná spoločnosť | C13: 111
... A58: 273 | B58: Združenie účastníkov pozemkových úprav | C58: 273
A59: 000 | B59: fyzická osoba, ktorá dovŕšila vek 18 rokov | C59: 000
